Workbook
Name _1_: '[1]#REF'!#REF!
Name _1_: '[1]#REF'!#REF!
Name _10DATA_DATA2_L: '[2]#REF'!#REF!
Name _10DATA_DATA2_L: '[2]#REF'!#REF!
Name _11MAÕ_HAØNG: #REF!
Name _11MAÕ_HAØNG: #REF!
Name _12MAÕ_SOÁ_THUEÁ: #REF!
Name _12MAÕ_SOÁ_THUEÁ: #REF!
Name _13ÑÔN_GIAÙ: #REF!
Name _13ÑÔN_GIAÙ: #REF!
Name _14SOÁ_CTÖØ: #REF!
Name _14SOÁ_CTÖØ: #REF!
Name _15SOÁ_LÖÔÏNG: #REF!
Name _15SOÁ_LÖÔÏNG: #REF!
Name _16TEÂN_HAØNG: #REF!
Name _16TEÂN_HAØNG: #REF!
Name _17TEÂN_KHAÙCH_HAØ: #REF!
Name _17TEÂN_KHAÙCH_HAØ: #REF!
Name _18THAØNH_TIEÀN: #REF!
Name _18THAØNH_TIEÀN: #REF!
Name _19TRÒ_GIAÙ: #REF!
Name _19TRÒ_GIAÙ: #REF!
Name _2_??: BlankMacro1
Name _2_??: BlankMacro1
Name _20TRÒ_GIAÙ__VAT: #REF!
Name _20TRÒ_GIAÙ__VAT: #REF!
Name _3_??????1: BlankMacro1
Name _3_??????1: BlankMacro1
Name _4_??????2: BlankMacro1
Name _4_??????2: BlankMacro1
Name _5_??????3: BlankMacro1
Name _5_??????3: BlankMacro1
Name _6_??????4: BlankMacro1
Name _6_??????4: BlankMacro1
Name _7_??????5: BlankMacro1
Name _7_??????5: BlankMacro1
Name _8_??????6: BlankMacro1
Name _8_??????6: BlankMacro1
Name _9_0DATA_DATA2_L: '[2]#REF'!#REF!
Name _9_0DATA_DATA2_L: '[2]#REF'!#REF!
Name _CT250: '[3]dongia (2)'!#REF!
Name _CT250: '[3]dongia (2)'!#REF!
Name _SD11: {"Thuxm2.xls","Sheet1"}
Name _XL3: BlankMacro1
Name _XL3: BlankMacro1
Name CACAU: 298161
Name CLVC3: 0.1
Name Comm: BlankMacro1
Name Comm: BlankMacro1
Name Document_array: {"Book1"}
Name Drawpoints: 1
Name DSTD_Clear: DSTD_Clear
Name FFF: BlankMacro1
Name FFF: BlankMacro1
Name FIT: BlankMacro1
Name FIT: BlankMacro1
Name FITT2: BlankMacro1
Name FITT2: BlankMacro1
Name FITTING2: BlankMacro1
Name FITTING2: BlankMacro1

Sheet D03-TS(2020)
A1: Tên đơn vị: ………………………………
A2: Mã đơn vị: ………………………………. | F2: DANH SÁCH NGƯỜI CHỈ THAM GIA BHYT
A3: Địa chỉ: ………..……………….………. | F3: Số:…… tháng ….. năm …...
C5: Đối tượng tham gia | G5: Lương cơ sở: ……………… đồng
A6: STT | C6: Họ và tên | D6: Mã số BHXH | E6: Ngày tháng năm sinh | F6: Giới tính | G6: Nơi đăng ký KCB ban đầu | H6: Biên lai, ngày tham gia | J6: Tiền lương, trợ cấp hoặc số tiền đóng | K6: Tỷ lệ NS hỗ trợ (%) | L6: Thời hạn sử dụng thẻ | N6: Ghi chú
H7: Số | I7: Ngày | L7: Số tháng | M7: Từ ngày
A8: A | C8: B | D8: 1 | E8: 2 | F8: 3 | G8: 4 | H8: 5 | I8: 6 | J8: 7 | K8: 8 | L8: 9 | M8: 10 | N8: 11
A9: I | C9: Tăng
A10: 1 | B10: 19000244 | C10: Nguyễn Bá Linh | E10: 01/09/1994 | F10: Nam | G10: 031 | L10: 6 | M10: 01/07/2019-31/12/2019 | N10: Thôn 11, xã Long Bình, huyện Phú Riềng, tỉnh Bình Phước
A11: 2 | B11: 19000287 | C11: Lê Trung Vĩnh Sang | E11: 06/07/2000 | F11: Nam | G11: 040 | L11: 6 | M11: 01/07/2019-31/12/2019 | N11: 30/6 khu phố 6, thị trấn Hóc Môn, huyện Hóc Môn, TP.HCM
A12: 2 | B12: 19000314 | C12: Trương Mạnh Hiếu | D12: 7932196941 | E12: 03/08/2001 | F12: Nam | G12: 025 | L12: 6 | M12: 01/07/2019-31/12/2019 | N12: 62/8/17, khu phố 7, phường Bình Hưng Hòa A, quận Bình Tân, TP. Hồ Chí Minh
A13: 2 | B13: 19000323 | C13: Tạ Minh Hiếu | D13: 7931869321 | E13: 28/05/1998 | F13: Nam | G13: 032 | L13: 6 | M13: 01/07/2019-31/12/2019 | N13: 146/5 Cao Thắng, Phường 17, Quận Phú Nhuận, TPHCM
A14: 2 | B14: 19000478 | C14: Trần Văn Hiệp | E14: 16/06/1999 | F14: Nam | L14: 6 | M14: 01/07/2019-31/12/2019 | N14: Tổ 1, thôn 5, xã Đa Kai, huyện Đức Linh, tỉnh Bình Thuận
A15: 2 | B15: 19000563 | C15: Trịnh Văn Tâm | E15: 20/12/2002 | F15: Nam | L15: 6 | M15: 01/07/2019-31/12/2019 | N15: Phú Long, xã Châu Thành, tỉnh Đồng Tháp
A16: 2 | B16: 19000752 | C16: Trần Đức Khoa | E16: 19/02/2004 | F16: Nam | L16: 6 | M16: 01/07/2019-31/12/2019 | N16: K49 Hoàng Văn Thụ, phường 4, quận Tân Bình, Tp.HCM
A17: 2 | B17: 19000870 | C17: Lê Ngọc Huy | E17: 22/08/1994 | F17: Nam | L17: 6 | M17: 01/07/2019-31/12/2019 | N17: 46 Đoàn Giỏi, phường Sơn Kỳ, quận Tân Phú, TP.HCM
A18: I.1 | C18: Người tham gia
A20: I.2 | C20: Tiền lương
C22: Cộng tăng
A23: II | C23: Giảm
A24: II.1 | C24: Người tham gia
A26: II.2 | C26: Tiền lương
C28: Cộng giảm
A31: Tổng số thẻ BHYT đề nghị cấp: | E31: ………
A32: …….., ngày ….tháng…..năm……. | F32: …….., ngày ….tháng…..năm……. | J32: …….., ngày ….tháng…..năm…….
A33: UBND xã/Đại lý thu/nhà trường ……………. | F33: Cơ quan BHXH | J33: Cơ quan quản lý đối tượng
A34: (ký, ghi rõ họ tên và đóng dấu) | F34: (ký, ghi rõ họ tên và đóng dấu) | J34: (ký, ghi rõ họ tên và đóng dấu)

Sheet Sheet1
A1: DANH SÁCH HS-SV ĐÓNG BHYT TỪ 26/05/2019-25/06/2019
AV2: ĐÃ GỬI
AT3: ĐÓNG BHYT | AW3: GHI CHÚ
A4: STT | B4: Mã hồ sơ | C4: Mã HS-SV | D4: Họ đệm | E4: Tên | G4: Giới tính | H4: Ngày sinh | I4: Ngày nhập học | J4: Nơi sinh | K4: Nguyên quán | L4: Quận/Huyện | M4: Phường/Xã | N4: Dân tộc | O4: Tôn giáo | P4: Hộ khẩu thường trú | Q4: Địa chỉ liên lạc | R4: Tên đối tượng | S4: Tên đối tượng chính sách | T4: Khu vực | U4: Tên tỉnh | V4: Tên huyện | W4: Tên phân hệ | X4: Trường tốt nghiệp | Y4: Ngày vào Đoàn | Z4: Ngày vào Đảng | AA4: Số CMND | AB4: Ngày cấp | AC4: Nơi cấp | AD4: Mã lớp | AE4: Tên lớp | AF4: Khóa học | AG4: Bậc đào tạo | AH4: Loại đào tạo | AI4: Ngành | AJ4: Nghề | AK4: Niên khóa | AL4: Họ tên cha | AM4: Nghề nghiệp | AN4: Họ tên Mẹ | AO4: Nghề nghiệp | AP4: Điện thoại | AQ4: Email | AR4: Trạng thái | AS4: Quốc tịch | AT4: NĂM 2019 | AU4: NĂM 2020 | AV4: Đ2
A5: 136 | B5: 19C10720 | C5: 19000244 | D5: Nguyễn Bá | E5: Linh | F5: =D5&" "&E5 -> Nguyễn Bá Linh | G5: Nam | H5: 01/09/1994 | I5: 03/06/2019 | J5: Bình Phước | K5: Thanh Hóa | N5: Kinh | O5: Không | P5: Thôn 11, xã Long Bình, huyện Phú Riềng, tỉnh Bình Phước | Q5: 141/52/6 duong tl 19, Phường Thành Lộc, Quận 12. Tp.HCM | T5: KV1 | U5: Bình Phước | V5: Huyện Phú Riềng | W5: Hệ A | X5: THPT Đồng Xoài | AA5: 285420938 | AB5: 18/03/2014 | AC5: CA. Tỉnh Bình Phước | AD5: 19C1-CNÔ1 | AE5: 19C1-CNÔ1 | AF5: 2019 | AG5: Cao đẳng | AH5: Chính quy 2 năm | AI5: Công nghệ ô tô | AJ5: Công nghệ ô tô | AK5: 2019-2021 | AL5: Nguyễn Bá Nên | AM5: Nông dân | AN5: Trần Thị Tế | AO5: Nông dân | AP5: 0962858803 | AQ5: balynhpc66bp@gmail.com | AR5: Đang học | AS5: viet nam | AT5: 01/07/2019-31/12/2019 | AU5: 01/01/2020-31/12/2020 | AW5: 844830
A6: 179 | B6: 19C10729 | C6: 19000287 | D6: Lê Trung Vĩnh | E6: Sang | F6: =D6&" "&E6 -> Lê Trung Vĩnh Sang | G6: Nam | H6: 06/07/2000 | I6: 06/06/2019 | J6: Tp. Hồ Chí Minh | K6: hoc mon | N6: Kinh | O6: Không | P6: 30/6 khu phố 6, thị trấn Hóc Môn, huyện Hóc Môn, TP.HCM | Q6: 30/6 khu phố 6, thị trấn Hóc Môn, huyện Hóc Môn, TP.HCM | T6: KV3 | U6: Tp. Hồ Chí Minh | V6: Huyện Hóc Môn | W6: Hệ A | X6: THPT Việt Âu | AA6: 026035748 | AB6: 26/06/2015 | AC6: hoc mon | AD6: 19C1-CNÔ1 | AE6: 19C1-CNÔ1 | AF6: 2019 | AG6: Cao đẳng | AH6: Chính quy 2 năm | AI6: Công nghệ ô tô | AJ6: Công nghệ ô tô | AK6: 2019-2021 | AL6: Lê Trung Tuấn | AM6: Kinh doanh | AN6: Phạm Thị Ngọc Phượng | AO6: Nội trợ | AP6: 0908243366 | AQ6: sanghulk0908@gmail.com | AR6: Đang học | AS6: Việt Nam | AT6: 01/07/2019-31/12/2019 | AU6: 01/01/2020-31/12/2020 | AW6: 844830
A7: 206 | B7: 19T40842 | C7: 19000314 | D7: Trương Mạnh | E7: Hiếu | F7: =D7&" "&E7 -> Trương Mạnh Hiếu | G7: Nam | H7: 03/08/2001 | I7: 07/06/2019 | J7: Tp. Hồ Chí Minh | P7: 62/8/17, khu phố 7, phường Bình Hưng Hòa A, quận Bình Tân, TP. Hồ Chí Minh | T7: KV3 | U7: Tp. Hồ Chí Minh | V7: Quận Bình Tân | W7: Hệ A | AA7: 087201000079 | AD7: 19T4-QTM1 | AE7: 19T4-QTM1 | AF7: 2019 | AG7: Trung cấp | AH7: Chính quy 3 năm | AI7: Quản trị mạng máy tính | AJ7: Quản trị mạng máy tính | AK7: 2019-2022 | AP7: 0973188586 | AR7: Đang học | AT7: 01/07/2019-31/12/2019 | AU7: 01/01/2020-31/12/2020 | AW7: 844830
A8: 215 | B8: 19T20003 | C8: 19000323 | D8: Tạ Minh | E8: Hiếu | F8: =D8&" "&E8 -> Tạ Minh Hiếu | G8: Nam | H8: 28/05/1998 | I8: 08/06/2019 | J8: Tp. Hồ Chí Minh | P8: 146/5 Cao Thắng, Phường 17, Quận Phú Nhuận, TPHCM | T8: KV3 | U8: Tp. Hồ Chí Minh | V8: Quận Phú Nhuận | W8: Hệ A | X8: THPT Hàn Thuyên | AA8: 025663084 | AD8: 19T2-QTD1 | AE8: 19T2-QTD1 | AF8: 2019 | AG8: Trung cấp | AH8: Chính quy 1N3 | AI8: Quản trị doanh nghiệp | AJ8: Quản trị doanh nghiệp | AK8: 2019-2020 | AP8: 0981641707 | AR8: Đang học | AT8: 01/07/2019-31/12/2019 | AU8: 01/01/2020-31/12/2020 | AW8: 844830
A9: 369 | B9: 19T40876 | C9: 19000478 | D9: Trần Văn | E9: Hiệp | F9: =D9&" "&E9 -> Trần Văn Hiệp | G9: Nam | H9: 16/06/1999 | I9: 13/06/2019 | J9: Bình Thuận | K9: Bình Thuận | N9: Kinh | O9: Không | P9: Tổ 1, thôn 5, xã Đa Kai, huyện Đức Linh, tỉnh Bình Thuận | Q9: 55/11/12 Phú Châu, P.Tam Hà, Q.Thủ Đức, TPHCM | T9: KV1 | U9: Bình Thuận | V9: Huyện Đức Linh | W9: Hệ A | AA9: 261505528 | AB9: 27/06/2013 | AC9: CA Bình Thuận | AD9: 19T4-CNÔ3 | AE9: 19T4-CNÔ3 | AF9: 2019 | AG9: Trung cấp | AH9: Chính quy 3 năm | AI9: Công nghệ ô tô | AJ9: Công nghệ ô tô | AK9: 2019-2022 | AL9: Trần Văn Vinh | AM9: Nông dân | AN9: Nguyễn Thị Thà | AO9: Nông dân | AP9: 0346224172 | AR9: Đang học | AS9: Việt Nam | AT9: 01/07/2019-31/12/2019 | AU9: 01/01/2020-31/12/2020 | AW9: 844830
A10: 454 | B10: 19T40609 | C10: 19000563 | D10: Trịnh Văn | E10: Tâm | F10: =D10&" "&E10 -> Trịnh Văn Tâm | G10: Nam | H10: 20/12/2002 | I10: 17/06/2019 | J10: Đồng Tháp | K10: Đồng Tháp | N10: Kinh | O10: Không | P10: Phú Long, xã Châu Thành, tỉnh Đồng Tháp | Q10: Phú Long, xã Châu Thành, tỉnh Đồng Tháp | T10: KV2 | U10: Đồng Tháp | V10: Huyện Châu Thành | W10: Hệ A | AA10: 19000563 | AB10: 26/06/2019 | AC10: LTT | AD10: 19T4-CCK1 | AE10: 19T4-CCK1 | AF10: 2019 | AG10: Trung cấp | AH10: Chính quy 3 năm | AI10: Công nghệ kỹ thuật cơ khí | AJ10: Công nghệ kỹ thuật cơ khí | AK10: 2019-2022 | AL10: Trịnh Văn Chính | AM10: Nông dân | AN10: Phạm Kim Tuyến | AO10: Nông dân | AP10: 0901633171 | AR10: Đang học | AS10: Việt Nam | AT10: 01/07/2019-31/12/2019 | AU10: 01/01/2020-31/12/2020 | AW10: 844830
A11: 641 | B11: 19T41251 | C11: 19000752 | D11: Trần Đức | E11: Khoa | F11: =D11&" "&E11 -> Trần Đức Khoa | G11: Nam | H11: 19/02/2004 | I11: 20/06/2019 | J11: Trà Vinh | P11: K49 Hoàng Văn Thụ, phường 4, quận Tân Bình, Tp.HCM | T11: KV3 | U11: Trà Vinh | V11: Huyện Châu Thành | W11: Hệ A | AD11: 19T4-CNÔ4 | AE11: 19T4-CNÔ4 | AF11: 2019 | AG11: Trung cấp | AH11: Chính quy 3 năm | AI11: Công nghệ ô tô | AJ11: Công nghệ ô tô | AK11: 2019-2022 | AP11: 0938675657 | AR11: Đang học | AT11: 01/07/2019-31/12/2019 | AU11: 01/01/2020-31/12/2020 | AW11: 844830
A12: 757 | B12: 19C11053 | C12: 19000870 | D12: Lê Ngọc | E12: Huy | F12: =D12&" "&E12 -> Lê Ngọc Huy | G12: Nam | H12: 22/08/1994 | I12: 24/06/2019 | J12: Tp. Hồ Chí Minh | K12: xã Bà Điểm, huyện Hóc Môn, TP HCM | N12: Kinh | O12: Không | P12: 46 Đoàn Giỏi, phường Sơn Kỳ, quận Tân Phú, TP.HCM | Q12: 46 Đoàn Giỏi, phường Sơn Kỳ, quận Tân Phú, TP.HCM | T12: KV2 | U12: Tp. Hồ Chí Minh | V12: Quận Tân Phú | W12: Hệ A | X12: THPT Bà Điểm | AA12: 025318176 | AB12: 14/06/2010 | AC12: CA TPHCM | AD12: 19C1-CNÔ1 | AE12: 19C1-CNÔ1 | AF12: 2019 | AG12: Cao đẳng | AH12: Chính quy 2 năm | AI12: Công nghệ ô tô | AJ12: Công nghệ ô tô | AK12: 2019-2021 | AP12: 0585252773 | AR12: Đang học | AS12: Việt Nam | AT12: 01/07/2019-31/12/2019 | AU12: 01/01/2020-31/12/2020 | AW12: 844830
AP13: TP. HCM, ngày 26 tháng 06 năm 2019

Sheet ĐKKCBBĐ K2019
A2: DANH SÁCH ĐĂNG KÝ THAM GIA BHYT NĂM 2020
A4: STT | B4: MSSV | C4: MSBHXH | D4: HỌ VÀ TÊN | E4: LỚP | F4: NĂM SINH | G4: Ngày Tháng Năm Sinh | H4: MSBHXH | I4: MÃ BV | J4: NƠI ĐKKCBBĐ | K4: ĐỊA CHỈ THƯỜNG TRÚ | L4: SỐ NHÀ | M4: XÃ -HK | N4: HUYỆN -HK | O4: TỈNH-HK | P4: ĐT | Q4: Ghi chú
A5: 01 | B5: 19000001 | D5: Phan Phú Hào | E5: 19C1-CNÔ1 | F5: 35512 | G5: 23/03/1997 | I5: 025 | J5: BV Thống Nhất | P5: 0904042315
A6: 02 | B6: 19000002 | C6: GD4797936952403 | D6: Phùng Đức Dương | E6: 19T4-KML | F6: 37181 | G6: 17/10/2001 | H6: GD4797936952403 | I6: 025 | J6: BV Thống Nhất | P6: Mua BHYT hộ gia đình
A7: 03 | B7: 19000003 | C7: HS4797935160094 | D7: Lê Trọng Tiến | G7: 15/03/2002 | H7: HS4797935160094
A8: 04 | B8: 19000004 | D8: Phạm Hữu Hoàng | E8: 19C1-LGT1 | F8: 34002 | G8: 02/02/1993 | I8: 031 | J8: BV Bình Thạnh | P8: 0388078719 | Q8: Mua thêm từ 01/6/2019-31/12/2019
A9: 05 | B9: 19000005 | D9: Nguyễn Khắc Trung Kiên | E9: 19C1- ĐCN1 | F9: 35774 | G9: 10/12/1997 | I9: 025 | J9: BV Thống Nhất | P9: 0978383432
A10: 06 | B10: 19000006 | D10: Trần Minh Quang | E10: 19C1-CNÔ1 | F10: 36328 | G10: 17/06/1999 | I10: 033 | J10: BV Tân Bình | P10: 0357006768
A11: 07 | B11: 19000007 | C11: 8222267122 | G11: 28/01/1995 | H11: 8222267122
A12: 08 | B12: 19000008 | G12: 17/04/2004
A13: 09 | B13: 19000009 | C13: 7934223996 | D13: Nguyễn Lê Hoàng | G13: 13/08/2003 | H13: 7934223996
A14: 10 | B14: 19000010 | D14: Trần Cao Long | G14: 21/11/2004
A15: 11 | B15: 19000011 | C15: HS4797934005910 | D15: Huỳnh Nhựt Thành | E15: 19T4- CNÔ1 | F15: 37629 | G15: 08/01/2003 | H15: HS4797934005910 | I15: 013 | J15: BV Nguyễn Tri Phương
A16: 12 | B16: 19000012 | C16: GD4797933322737 | D16: Nguyễn Hoàng Minh Quân | E16: 19C1-CNÔ1 | F16: 36873 | G16: 13/12/2000 | H16: GD 4797933322737 | I16: 012 | J16: BV An Bình | P16: GD 4797933322737 | Q16: Mua thêm (01/08/2019 - 31/12/2019)
A17: 13 | B17: 19000013 | C17: 7930311750 | G17: 11/05/2004 | H17: 7930311750
A18: 14 | B18: 19000014 | C18: 7931924170 | G18: 30/10/2004 | H18: 7931924170
A19: 15 | B19: 19000015 | C19: 7931883424 | G19: 30/10/2004 | H19: 7931883424
A20: 16 | B20: 19000016 | C20: GD4808023599812 | D20: Nguyễn Dương Thanh | E20: 19C1-CNL1 | F20: 35500 | G20: 11/03/1997 | H20: GD 4808023599812 | J20: có thẻ BHYT | P20: GD 4808023599812
A21: 17 | B21: 19000017 | C21: 9122136081 | D21: Đặng Hữu Giác | E21: 19C1-CNO1 | F21: 36818 | G21: 19/10/2000 | H21: 9122136081 | I21: 034 | J21: BV Gò vấp | P21: 0826855852 | Q21: Chưa Có thẻ BHYT
A22: 18 | B22: 19000018 | C22: 7931161714 | D22: Đào Thanh Tùng | E22: 19T4-CNO1 | F22: 37593 | G22: 03/12/2002 | H22: 7931161714 | I22: 025 | J22: BV Thống Nhất | P22: 0976166455
A23: 19 | B23: 19000019 | C23: 7930510278 | G23: 17/07/2002 | H23: 7930510278
A24: 20 | B24: 19000020 | C24: 7222247032 | D24: Phan Nguyễn Thanh Thiện | E24: 19T4- ĐCN1 | F24: 35216 | G24: 31/05/1996 | H24: 7222247032 | I24: 054 | J24: BV Tân Phú | P24: 0967220855
A25: 21 | B25: 19000021 | C25: 7937711664 | G25: 20/03/2004 | H25: 7937711664
A26: 22 | B26: 19000022 | C26: 6021111837 | G26: 24/11/2003 | H26: 6021111837
A27: 23 | B27: 19000023 | C27: HS4797934304799 | D27: Nguyễn Cao Hưng | G27: 02/07/1998 | H27: HS 4797934304799
A28: 24 | B28: 19000024 | C28: 7932371881 | G28: 06/02/2004 | H28: 7932371881
A29: 25 | B29: 19000025 | C29: 7930937730 | G29: 23/07/2004 | H29: 7930937730
A30: 26 | B30: 19000026 | C30: 7936148178 | G30: 25/02/1999 | H30: 7936148178
A31: 27 | B31: 19000027 | C31: HS4797931377033 | D31: Lê Hoàng Quốc Anh | G31: 23/07/2004 | H31: HS4797931377033 | I31: 025
A32: 28 | B32: 19000028 | C32: 7931511443 | D32: Bùi Hoàng An Vỹ | E32: 19T4 - ĐCN1 | F32: 37191 | G32: 27/10/2001 | H32: 7931511443 | I32: 054 | J32: BV Tân Phú | P32: 0856493973
A33: 29 | B33: 19000029 | C33: 7931931864 | D33: Mach Arafin | G33: 15/02/2004 | H33: 7931931864 | I33: 032
A34: 30 | B34: 19000030 | C34: 7931859708 | D34: Lê Nguyễn Trung Hiếu | G34: 03/12/2004 | H34: 7931859708 | I34: 032
A35: 31 | B35: 19000031 | C35: 7932795051 | G35: 07/09/2004 | H35: 7932795051
A36: 32 | B36: 19000032 | C36: HS4797936735269 | D36: Huỳnh Văn Đạt | G36: 14/05/2004 | H36: HS4797936735269 | I36: 034
A37: 33 | B37: 19000033 | D37: Nguyễn Quốc Phục | E37: 19C1-CNO1 | F37: 35693 | G37: 20/09/1997 | I37: 034 | J37: BV175 | Q37: Mua thêm từ 01/6/2019-31/12/2019
A38: 34 | B38: 19000034 | C38: HS4797935719015 | D38: Nguyễn Lê Minh Kha | G38: 30/08/2004 | H38: HS4797935719015 | I38: 058
A39: 35 | B39: 19000035 | C39: HS4797928535928 | D39: Võ Thanh Hiếu | G39: 28/06/2004 | H39: HS 4797928535928 | I39: 030 | J39: BV Gia Định
A40: 36 | B40: 19000036 | C40: 7932703471 | G40: 13/10/2003 | H40: 7932703471
A41: 37 | B41: 19000037 | C41: SV4797938292389 | D41: Ngô Khí Tài | E41: 19C1 - TKĐ | F41: 36608 | G41: 23/03/2000 | H41: SV 4797938292389 | I41: 030 | J41: BV Gia Định | P41: SV 479 7938292389
A42: 38 | B42: 19000038 | C42: 7928441683 | G42: 06/12/1996 | H42: 7928441683
A43: 39 | B43: 19000039 | C43: 7931307559 | G43: 26/07/2003 | H43: 7931307559
A44: 40 | B44: 19000040 | C44: 7939215767 | G44: 11/03/2001 | H44: 7939215767
A45: 41 | B45: 19000041 | C45: 8321671433 | G45: 07/10/1999 | H45: 8321671433
A46: 42 | B46: 19000042 | C46: 8321684972 | G46: 03/09/2000 | H46: 8321684972
A47: 43 | B47: 19000043 | C47: 7930215806 | D47: Nguyễn Thanh Tâm | E47: 19T4 - ĐCN1 | F47: 38164 | G47: 26/06/2004 | H47: 7930215806 | I47: 035 | J47: BV Gò Vấp
A48: 44 | B48: 19000044 | C48: 8022586365 | G48: 30/10/1996 | H48: 8022586365
A49: 45 | B49: 19000045 | C49: 5221601381 | G49: 06/04/1999 | H49: 5221601381
A50: 46 | B50: 19000046 | C50: 7932779307 | D50: Trần Nhật Phong | E50: 19T4 - CNO1 | F50: 38008 | G50: 22/01/2004 | H50: 7932779307 | J50: BV Quận 11
A51: 47 | B51: 19000047 | C51: 7932636358 | G51: 28/08/2004 | H51: 7932636358
A52: 48 | B52: 19000048 | C52: HS4797935021523 | D52: Nguyễn Đăng Khoa | E52: 19C1- ĐCN1 | F52: 36711 | G52: 04/07/2000 | H52: HS 4797935021523 | I52: 040 | J52: BV ĐKKV Củ chi | Q52: Mua thêm từ 01/6/2019-31/12/2019
A53: 49 | B53: 19000049 | C53: HS4797937633341 | D53: Huỳnh Trung Nhân | E53: 19C1- ĐĐ1 | F53: 37009 | G53: 28/04/2001 | H53: HS 4797937633341 | I53: 041 | J53: BV ĐKKV Hóc Môn | P53: HS 4797937633341
A54: 50 | B54: 19000050 | C54: HS4797935362287 | D54: Trần Kim Thảo | E54: 19C1-MVT1 | F54: 37030 | G54: 19/05/2001 | H54: HS 4797935362287 | I54: 041 | J54: BV ĐKKV Hóc Môn | P54: HS 4797935362287
A55: 51 | B55: 19000051 | C55: HS4797939201157 | D55: Nguyễn Tuấn Anh | G55: 22/04/2003 | H55: HS 4797939201157 | I55: 488 | J55: BV Xuyên Á | K55: 11/3 Ấp Xóm Đồng, Xã Tân Phú Trung,Củ Chi , TP. HCM
A56: 52 | B56: 19000052 | C56: HS4797936735319 | D56: Nguyễn Thị Quỳnh Như | G56: 22/06/2004 | H56: HS 4797936735319 | I56: 035 | J56: BV Gò Vấp
A57: 53 | B57: 19000053 | C57: HS4797930068545 | D57: Trương Thị Hải Yến | G57: 18/01/2004 | H57: HS 4797930068545 | I57: 488 | J57: BV Xuyên Á
A58: 54 | B58: 19000054 | C58: 7937811836 | G58: 02/09/2003 | H58: 7937811836
A59: 55 | B59: 19000055 | C59: HS4797932642826 | D59: Kha Trương Đại Phước | G59: 31/07/2004 | H59: HS 4797932642826 | I59: 017 | J59: BV Quận 6
A60: 56 | B60: 19000056 | C60: HS4797936735463 | D60: Bành Nguyên Cao Minh | G60: 17/07/2004 | H60: HS 4797936735463 | I60: 035 | J60: BV Quận Gò Vấp | K60: 445/1 Phan Huy Ích, P.14, Q. Gò Vấp, TPHCM
A61: 57 | B61: 19000057 | C61: HS4797937812125 | D61: Võ Trường Duy | G61: 04/02/2004 | H61: HS 4797937812125 | I61: 033 | J61: BV Quận Tân Bình
A62: 58 | B62: 19000058 | C62: 7221639694 | D62: Huỳnh Phước Quang | G62: 18/09/2004 | H62: 7221639694 | I62: 033 | J62: BV Quận Tân Bình
A63: 59 | B63: 19000059 | C63: 6020011673 | G63: 30/09/1999 | H63: 6020011673
A64: 60 | B64: 19000060 | C64: 7936652853 | G64: 08/06/2004 | H64: 7936652853
A65: 61 | B65: 19000061 | C65: GD4606020438078 | D65: Nguyễn Phan Hoàng Phúc | G65: 08/05/1994 | H65: GD 4606020438078 | I65: 019 | J65: BV Quận 7
A66: 62 | B66: 19000062 | C66: 7021448958 | G66: 30/10/2001 | H66: 7021448958
A67: 63 | B67: 19000063 | C67: HS4797937959008 | D67: Bùi Minh Tuấn | G67: 09/04/2004 | H67: HS4797937959008 | I67: 027 | J67: BV Quận 10
A68: 64 | B68: 19000064 | C68: GD4795121590334 | D68: Xa Đồng Phúc | G68: 09/10/2003 | H68: GD4795121590334 | I68: Có thẻ
A69: 65 | B69: 19000065 | G69: 27/07/2004
A70: 66 | B70: 19000066 | C70: HS4797937970717 | D70: Nguyễn Thanh Trung | G70: 15/09/2004 | H70: HS4797937970717 | I70: 470 | J70: BV Quận Gò Vấp CS2 | M70: Quận Gò Vấp
A71: 67 | B71: 19000067 | C71: HS4797935628128 | D71: Trịnh Đức Anh | G71: 26/02/2004 | H71: HS4797935628128 | I71: 483 | J71: PKĐK Thành Công | K71: Thôn Lam Đạt, Thiệu Vũ, Thiệu Hóa, Thanh Hóa
A72: 68 | B72: 19000068 | C72: HS47979 36735522 | D72: Nguyễn Phương Nam | G72: 22/09/2004 | H72: HS 47979 36735522 | I72: 029 | J72: BV Quận 12
A73: 69 | B73: 19000069 | C73: HS4797931981574 | D73: Phùng Minh Nhật | G73: 22/08/2004 | H73: HS4797931981574 | I73: 032 | J73: BV Quận Phú Nhuận | N73: Quận Phú Nhuận
A74: 70 | B74: 19000070 | C74: HS4797928816197 | D74: Nguyễn Hùng Mạnh | G74: 01/08/2004 | H74: HS4797928816197 | I74: 054 | J74: BVQ Tân Phú
A75: 71 | B75: 19000071 | C75: 7931970052 | D75: Nguyễn Tấn Thịnh | G75: 13/10/2004 | H75: 7931970052 | I75: 071 | J75: BV Hoàn Mỹ
A76: 72 | B76: 19000072 | G76: 28/09/2004
A77: 73 | B77: 19000073 | C77: 2520779006 | D77: Nguyễn Tuấn Thành | G77: 15/04/2004 | H77: 2520779006 | I77: 064
A78: 74 | B78: 19000074 | C78: 7931716815 | D78: Võ Lân Đông Trúc | G78: 21/10/2004 | H78: 7931716815 | I78: 054
A79: 75 | B79: 19000075
A80: 76 | B80: 19000076 | C80: GD4797931905610 | D80: Nguyễn Thái Trung Nguyên | G80: 16/01/2000 | H80: GD 4797931905610 | I80: 071
A81: 77 | B81: 19000077 | C81: HS4757526412835 | D81: Trần Nhật Quang | G81: 14/07/2004 | H81: HS 4757526412835 | I81: 025
A82: 78 | B82: 19000078 | C82: HS4797939068260 | D82: Lưu dân Hiếu | G82: 17/12/2002 | H82: HS 4797939068260 | I82: 489
A83: 79 | B83: 19000079 | G83: 10/08/2001
A84: 80 | B84: 19000080 | C84: HS4797937811830 | D84: Vũ Quang Cường | G84: 23/11/2003 | H84: HS 4797937811830 | I84: 033 | K84: 35/23/5 Đường Liên khu 45,Bình Hưng Hòa B, Bình Tân
A85: 81 | B85: 19000081 | C85: 7937592115 | D85: Nguyễn Hùng Cường | G85: 30/10/2004 | H85: 7937592115 | I85: 033 | K85: 326 Phạm Văn Bạch | L85: Phường 15 | M85: Quận Tân Bình
A86: 82 | B86: 19000082 | C86: HS4797931844506 | D86: Nguyễn Cảnh Long | G86: 05/12/2004 | H86: HS4797931844506 | I86: 032 | J86: BV Quận Phú Nhuận
A87: 83 | B87: 19000083 | D87: Trần Trọng Thoại | G87: 24/06/1997 | I87: 025 | J87: BV Thống Nhất | Q87: Mua thêm từ 01/6/2019-31/12/2019
A88: 84 | B88: 19000084 | C88: 7222689995 | D88: Lê Bảo Lộc | G88: 27/01/1997 | H88: 7222689995 | I88: 025 | J88: BV Thống Nhất | Q88: Mua thêm từ 01/6/2019-31/12/2020
A89: 85 | B89: 19000085 | C89: HS4797930280827 | D89: Huỳnh Thanh Tuấn | G89: 02/04/2004 | H89: HS4797930280827 | I89: 470 | J89: BV Quận Gò vấp
A90: 86 | B90: 19000086 | C90: HS479791328612 | D90: Giang Lê Đức Tâm | G90: 07/07/2004 | H90: HS479791328612 | I90: 025 | J90: BV Thống Nhất
A91: 87 | B91: 19000087 | C91: HS4797937766772 | D91: Trần Kim Bảo | G91: 18/07/2004 | H91: HS 4797937766772 | I91: 025 | J91: BV Thống Nhất | N91: Gò Vấp
A92: 88 | B92: 19000088 | C92: HS4797932208256 | D92: Lê Hoàng Phước | G92: 17/11/2004 | H92: HS4797932208256 | I92: 009 | J92: BV Quận 3
A93: 89 | B93: 19000089 | C93: GD4797937564701 | D93: Vũ Hoàng Đạo | G93: 22/10/2002 | H93: GD4797937564701 | I93: 022 | J93: PKĐK Kỳ Hòa
A94: 90 | B94: 19000090 | C94: HS4797931373497 | D94: Nguyễn Trần Đức Duy | G94: 11/01/2004 | H94: HS4797931373497 | I94: 025 | J94: BV Thống Nhất
A95: 91 | B95: 19000091 | C95: HS4797937812086 | D95: Lý Ngô Bảo Nguyên | G95: 04/10/2004 | H95: HS4797937812086 | I95: 025 | J95: BV Thống Nhất
A96: 92 | B96: 19000092 | C96: 7937564723 | D96: Nguyễn Bá Duy Thành | G96: 28/09/2004 | H96: 7937564723 | I96: 026
A97: 93 | B97: 19000093 | C97: HS4797931863719 | D97: Trần Trí Lực | G97: 25/12/2004 | H97: HS4797931863719 | I97: 032 | J97: BV Quận Phú Nhuận
A98: 94 | B98: 19000094 | C98: HS4797938025581 | D98: Nguyễn Ngọc Hoàng An | G98: 08/04/2004 | H98: HS 4797938025581 | I98: 054
A99: 95 | B99: 19000095 | C99: HS4797930940144 | D99: Nguyễn Ngọc Hoàng Ân | G99: 08/04/2004 | H99: HS 4797930940144 | I99: 054
A100: 96 | B100: 19000096 | G100: 08/08/2003
A101: 97 | B101: 19000097 | C101: 7937711622 | D101: Nguyễn Thế Bảo | G101: 01/01/2003 | H101: 7937711622 | I101: 033
A102: 98 | B102: 19000098 | D102: Trịnh Tấn An | G102: 04/03/1995 | I102: 025 | J102: BV Thống Nhất | Q102: Mua thêm từ 01/6/2019-31/12/2019
...

Sheet D03-TS(2019)
A1: Tên đơn vị: ………………………………
A2: Mã đơn vị: ………………………………. | E2: DANH SÁCH NGƯỜI CHỈ THAM GIA BHYT
A3: Địa chỉ: ………..……………….………. | E3: Số:…… tháng ….. năm …...
B5: Đối tượng tham gia | F5: Lương cơ sở: ……………… đồng
A6: STT | B6: Họ và tên | C6: Mã số BHXH | D6: Ngày tháng năm sinh | E6: Giới tính | F6: Nơi đăng ký KCB ban đầu | G6: Biên lai, ngày tham gia | I6: Tiền lương, trợ cấp hoặc số tiền đóng | J6: Tỷ lệ NS hỗ trợ (%) | K6: Thời hạn sử dụng thẻ | M6: Ghi chú
G7: Số | H7: Ngày | K7: Số tháng | L7: Từ ngày
A8: A | B8: B | C8: 1 | D8: 2 | E8: 3 | F8: 4 | G8: 5 | H8: 6 | I8: 7 | J8: 8 | K8: 9 | L8: 10 | M8: 11
A9: I | B9: Tăng
A10: I.1 | B10: Người tham gia
A12: I.2 | B12: Tiền lương
B14: Cộng tăng
A15: II | B15: Giảm
A16: II.1 | B16: Người tham gia
A18: II.2 | B18: Tiền lương
B20: Cộng giảm
A23: Tổng số thẻ BHYT đề nghị cấp: | D23: ………
A24: …….., ngày ….tháng…..năm……. | E24: …….., ngày ….tháng…..năm……. | I24: …….., ngày ….tháng…..năm…….
A25: UBND xã/Đại lý thu/nhà trường ……………. | E25: Cơ quan BHXH | I25: Cơ quan quản lý đối tượng
A26: (ký, ghi rõ họ tên và đóng dấu) | E26: (ký, ghi rõ họ tên và đóng dấu) | I26: (ký, ghi rõ họ tên và đóng dấu)

Sheet TỔNG 
A5: STT | B5: Mã sinh viên | C5: Họ | D5: Tên | E5: Giới tính | F5: Ngày sinh | G5: Nơi sinh | H5: Họ tên cha | I5: Nghề nghiệp cha | J5: Số điện thoại cha | K5: Họ tên mẹ | L5: Nghề nghiệp mẹ | M5: Số điện thoại mẹ | N5: Lớp | O5: Nguyên quán | P5: Dân tộc | Q5: Tôn giáo | R5: ĐC thường trú | S5: ĐC liên lạc | T5: Điện thoại | U5: ĐT Phụ huynh | V5: Điện thoại 2 | W5: Điện thoại 3 | X5: Email | Y5: Số CMND | Z5: Ngày cấp | AA5: Nơi cấp | AB5: Ngày vào đoàn | AC5: Ngày vào đảng | AD5: HKTT tỉnh | AE5: Trường tốt nghiệp | AF5: HKTT huyện | AG5: HKTT phường xã | AH5: HKTT thôn xóm | AI5: HKTT số nhà | AJ5: Khu vực | AK5: Đối tượng | AL5: Đối tượng chính sách | AM5: Tỉnh | AN5: Huyện | AO5: Hồ sơ | AP5: Trạng thái | AQ5: Nhóm | AR5: Mã lớp | AS5: Ngày nhập học | AT5: Năm vào | AU5: Khóa học | AV5: Hệ đào tạo | AW5: Loại hình ĐT | AX5: Khoa | AY5: Ngành | AZ5: Nghề | BA5: Cơ sở
A6: 1 | B6: 19000001 | C6: Phan Phú | D6: Hào | E6: Nam | F6: 23/03/1997 | G6: Tp. Hồ Chí Minh | H6: Phan Chí Hiếu | I6: Tự do | J6: 0903986495 | K6: Nguyễn Thị Phương Dung | L6: Nội Trợ | M6: 0909831343 | N6: 19C1-CNÔ1 | O6: Tp. Hồ Chí Minh | P6: Kinh | Q6: Không | R6: 17/15a khu phố 6a p.tân thới nhất quận 12 tp. Hồ Chí Minh | S6: 17/15a khu phố 6a p.tân thới nhất quận 12 tp. Hồ Chí Minh | T6: 0904042315 | Y6: 025885764 | Z6: 01/05/2019 | AA6: CA. Tp.HCM | AB6: 20/03/2014 | AE6: THPT Bà Điểm | AJ6: KV2 | AK6: Đối tượng 03 | AM6: Tp. Hồ Chí Minh | AN6: Quận 12 | AO6: 19C10211 | AP6: Đang học | AQ6: 1 | AR6: 19C1-CNÔ1 | AS6: 10/05/2019 | AT6: 2019 | AU6: 2019 | AV6: Cao đẳng | AW6: Chính quy 2 năm | AX6: Khoa Động lực | AY6: Công nghệ ô tô | AZ6: Công nghệ ô tô | BA6: Trường Cao đẳng Lý Tự Trọng TPHCM
A7: 2 | B7: 19000002 | C7: Phùng Đức | D7: Dương | E7: Nam | F7: 17/10/2001 | G7: Bắc Ninh | H7: Phùng Đức Danh | I7: Tài xé | J7: 0964125239 | K7: Nguyễn Thị Thư | L7: Nội Trợ | M7: 0978565745 | N7: 19T4-KML1 | O7: Bắc Ninh | P7: Kinh | Q7: Không | R7: Nghĩa Hương, Xã Mỹ Hương, Huyện Lương Tài, Tỉnh Bắc Ninh | S7: 5/25H tổ 14 ấp 2 xã Xuân Thới Thượng huyện Hóc Môn tp Hồ Chí Minh | T7: 0994905556 | X7: phungducduong99999@gmail.com | Y7: 125922776 | Z7: 14/07/2017 | AA7: Bắc Ninh | AJ7: KV3 | AM7: Bắc Ninh | AN7: Huyện Lương Tài | AO7: 19T40054 | AP7: Đang học | AQ7: 1 | AR7: 19T4-KML1 | AS7: 10/05/2019 | AT7: 2019 | AU7: 2019 | AV7: Trung cấp | AW7: Chính quy 3 năm | AX7: Khoa Nhiệt – Lạnh | AY7: Kỹ thuật máy lạnh và điều hòa không khí | AZ7: Kỹ thuật máy lạnh và điều hòa không khí | BA7: Trường Cao đẳng Lý Tự Trọng TPHCM
A8: 3 | B8: 19000003 | C8: Lê Trọng | D8: Tiến | E8: Nam | F8: 15/03/2002 | G8: Tp. Hồ Chí Minh | H8: Lê Trung Anh Kiệt | I8: Buôn bán | J8: 0978110038 | K8: Nguyễn Thị Mộng Tuyền | L8: Buôn bán | M8: 0988344000 | N8: 19T4-CNÔ1 | O8: Tp. Hồ Chí Minh | P8: Kinh | Q8: Không | R8: 24 Nguyễn Văn Tỷ, Khu phố 2, thị trấn Củ Chi, huyện Củ Chi, TPHCM | S8: 24 Nguyễn Văn Tỷ, Khu phố 2, thị trấn Củ Chi, huyện Củ Chi, TPHCM | T8: 0979535019 | X8: Bobbytrongtien@gmail.com | Y8: 079202005284 | Z8: 03/01/2017 | AA8: CA. Tp.HCM | AJ8: KV2 | AM8: Tp. Hồ Chí Minh | AN8: Huyện Củ Chi | AO8: 19T40059 | AP8: Đang học | AQ8: 1 | AR8: 19T4-CNÔ1 | AS8: 10/05/2019 | AT8: 2019 | AU8: 2019 | AV8: Trung cấp | AW8: Chính quy 3 năm | AX8: Khoa Động lực | AY8: Công nghệ ô tô | AZ8: Công nghệ ô tô | BA8: Trường Cao đẳng Lý Tự Trọng TPHCM
A9: 4 | B9: 19000004 | C9: Phạm Hữu | D9: Hoàng | E9: Nam | F9: 02/02/1993 | G9: Đồng Nai | H9: Phạm Luận | I9: Nông dân | J9: 0326637303 | N9: 19C1-LGT1 | O9: Đồng Nai | P9: Kinh | Q9: Không | R9: Ấp 3 xã Phú Lộc, huyện Tân Phú, tỉnh Đồng Nai | S9: 122/54 Bùi Đình Túy, P12, Quận Bình Thạnh, Tp. HCM | T9: 0388078719 | X9: phamhuuhoang1993@gmail.com | Y9: 272194195 | Z9: 22/04/2019 | AA9: CA. Đồng Nai | AB9: 13/12/2009 | AE9: THPT Đoàn Kết | AJ9: KV1 | AM9: Đồng Nai | AN9: Huyện Tân Phú | AO9: 19C10008 | AP9: Đang học | AQ9: 1 | AR9: 19C1-LGT1 | AS9: 10/05/2019 | AT9: 2019 | AU9: 2019 | AV9: Cao đẳng | AW9: Chính quy 2 năm | AX9: Khoa Kinh tế | AY9: Logistics | AZ9: Logistics | BA9: Trường Cao đẳng Lý Tự Trọng TPHCM
A10: 5 | B10: 19000005 | C10: Nguyễn Khắc Trung | D10: Kiên | E10: Nam | F10: 10/12/1997 | G10: Thái Bình | H10: Nguyễn Văn Duật | I10: Quản đốc | J10: 0974392959 | K10: Nguyễn Thị Toan | L10: Tạp vụ | M10: 0978114479 | N10: 19C1-ĐCN1 | O10: Thái Bình | P10: Kinh | R10: Xã Vũ Công, Huyện Kiến Xương, Tỉnh Thái Bình | S10: 257/38/9 đường bình thành, phường bình hưng hoà B, Quận Bình Tân | T10: 0928383432 | U10: 0974392959 | V10: 0978114479 | Y10: 025680322 | Z10: 29/08/2012 | AA10: CA. Tp.HCM | AB10: 26/03/2016 | AE10: THCS và THPT Phạm Ngũ Lão | AJ10: KV3 | AM10: Thái Bình | AN10: Huyện Kiến Xương | AO10: 19C10116 | AP10: Đang học | AQ10: 1 | AR10: 19C1-ĐCN1 | AS10: 10/05/2019 | AT10: 2019 | AU10: 2019 | AV10: Cao đẳng | AW10: Chính quy 2 năm | AX10: Khoa Điện - Điện tử | AY10: Điện công nghiệp | AZ10: Điện công nghiệp | BA10: Trường Cao đẳng Lý Tự Trọng TPHCM
A11: 6 | B11: 19000006 | C11: Trần Minh | D11: Quang | E11: Nam | F11: 17/06/1999 | G11: Long An | H11: Trần Văn Ơi | I11: Làm Nông | J11: 0359804850 | K11: Huỳnh Ngọc Thúy | L11: Làm Nông | M11: 0349474448 | N11: 19C1-CNÔ1 | O11: Long An | P11: Kinh | Q11: Không | R11: Ấp 2, Vĩnh Bình, Vĩnh Hưng, Long An | S11: 142/18 Cộng Hòa, Phường 4, Quận Tân Bình, Tp.HCM | T11: 0357006768 | U11: 0359804850 | V11: 0349474448 | X11: Tranquangg1706@gmail.com | Y11: 301687190 | Z11: 22/10/2014 | AA11: CA. Long An | AE11: THPT Vĩnh Hưng | AJ11: KV2-NT | AM11: Long An | AN11: Huyện Vĩnh Hưng | AO11: 19C10090 | AP11: Đang học | AQ11: 1 | AR11: 19C1-CNÔ1 | AS11: 11/05/2019 | AT11: 2019 | AU11: 2019 | AV11: Cao đẳng | AW11: Chính quy 2 năm | AX11: Khoa Động lực | AY11: Công nghệ ô tô | AZ11: Công nghệ ô tô | BA11: Trường Cao đẳng Lý Tự Trọng TPHCM
A12: 7 | B12: 19000007 | C12: Lê Minh | D12: Sang | E12: Nam | F12: 28/01/1995 | G12: Tiền Giang | N12: 19C1-TĐH1 | P12: Kinh | R12: Số 204, tổ 6, ấp 3, xã An Thái Trung, huyện Cái bè, tỉnh Tiền Giang | T12: 0968381803 | Y12: 312345949 | AE12: THPT Lê Thanh Hiền | AJ12: KV2-NT | AK12: Đối tượng 03 | AM12: Tiền Giang | AN12: Huyện Cái Bè | AO12: 19C10159 | AP12: Đang học | AQ12: 1 | AR12: 19C1-TĐH1 | AS12: 11/05/2019 | AT12: 2019 | AU12: 2019 | AV12: Cao đẳng | AW12: Chính quy 2 năm | AX12: Khoa Điện - Điện tử | AY12: Công nghệ kỹ thuật điều khiển và tự động hóa | AZ12: Công nghệ kỹ thuật điều khiển và tự động hóa | BA12: Trường Cao đẳng Lý Tự Trọng TPHCM
A13: 8 | B13: 19000008 | C13: Võ Trung | D13: Khang | E13: Nam | F13: 17/04/2004 | G13: Tp. Hồ Chí Minh | N13: 19T4-VSL1 | P13: Kinh | R13: 787/72 Trường Chinh p.Tây Thạnh Q.tân Phú | T13: 0794748348 | AJ13: KV3 | AM13: Tp. Hồ Chí Minh | AN13: Quận Tân Phú | AO13: 19T40276 | AP13: Đang học | AQ13: 1 | AR13: 19T4-VSL1 | AS13: 13/05/2019 | AT13: 2019 | AU13: 2019 | AV13: Trung cấp | AW13: Chính quy 3 năm | AX13: Khoa Nhiệt – Lạnh | AY13: Vận hành, sửa chữa thiết bị lạnh | AZ13: Vận hành, sửa chữa thiết bị lạnh | BA13: Trường Cao đẳng Lý Tự Trọng TPHCM
A14: 9 | B14: 19000009 | C14: Nguyễn Lê | D14: Hoàng | E14: Nam | F14: 13/08/2003 | G14: Tp. Hồ Chí Minh | H14: Nguyễn Văn Thạch | I14: Buôn bán | J14: 0936495478 | K14: Lê Thị Thơm | L14: Buôn Bán | M14: 0988973916 | N14: 19T4-CNÔ1 | O14: Tp. Hồ Chí Minh | P14: Kinh | Q14: Không | R14: E3/21c3 - Ấp 5A - Xã Vĩnh Lộc A - Huyện Bình Chánh HCM | S14: E3/21c3 - Ấp 5A - Xã Vĩnh Lộc A - Huyện Bình Chánh HCM | T14: 0988973916 | U14: 0339013001 | V14: 0936495478 | X14: nguyenlehoang.1308@gmail.com | Y14: 001203024361 | Z14: 10/05/2018 | AA14: huyện Bình Chánh tp.HCM | AJ14: KV3 | AM14: Tp. Hồ Chí Minh | AN14: Huyện Bình Chánh | AO14: 19T40157 | AP14: Đang học | AQ14: 1 | AR14: 19T4-CNÔ1 | AS14: 13/05/2019 | AT14: 2019 | AU14: 2019 | AV14: Trung cấp | AW14: Chính quy 3 năm | AX14: Khoa Động lực | AY14: Công nghệ ô tô | AZ14: Công nghệ ô tô | BA14: Trường Cao đẳng Lý Tự Trọng TPHCM
A15: 10 | B15: 19000010 | C15: Trần Cao | D15: Long | E15: Nam | F15: 21/11/2004 | G15: Tp. Hồ Chí Minh | N15: 19T4-CNÔ1 | O15: Tp. Hồ Chí Minh | P15: Kinh | R15: 507/39 Hương Lộ 3 Phường Bình Hưng Hòa Q.bình tân | T15: 0989352468 | AJ15: KV3 | AM15: Tp. Hồ Chí Minh | AN15: Quận Bình Tân | AO15: 19T40117 | AP15: Đang học | AQ15: 1 | AR15: 19T4-CNÔ1 | AS15: 13/05/2019 | AT15: 2019 | AU15: 2019 | AV15: Trung cấp | AW15: Chính quy 3 năm | AX15: Khoa Động lực | AY15: Công nghệ ô tô | AZ15: Công nghệ ô tô | BA15: Trường Cao đẳng Lý Tự Trọng TPHCM
A16: 11 | B16: 19000011 | C16: Huỳnh Nhựt | D16: Thành | E16: Nam | F16: 08/01/2003 | G16: Tp. Hồ Chí Minh | H16: Huỳnh Thanh Toàn | J16: 0388435545 | K16: Nguyễn Thị Thúy Ái | M16: 0963059849 | N16: 19T4-CNÔ1 | O16: Tp. Hồ Chí Minh | P16: Hoa | Q16: Phật Giáo | R16: 139/26/13 Chiến Lược, P. Bình Trị Đông, Q. Bình Tân, TPHCM | S16: 139/26/13 Chiến Lược, P. Bình Trị Đông, Q. Bình Tân, TPHCM | T16: 0963059849 | X16: khoidutao@gmail.com | Y16: 086203000129 | Z16: 18/06/2018 | AA16: CTCCSĐKQLDC | AJ16: KV3 | AM16: Tp. Hồ Chí Minh | AN16: Quận Bình Tân | AO16: 19T40039 | AP16: Đang học | AQ16: 1 | AR16: 19T4-CNÔ1 | AS16: 13/05/2019 | AT16: 2019 | AU16: 2019 | AV16: Trung cấp | AW16: Chính quy 3 năm | AX16: Khoa Động lực | AY16: Công nghệ ô tô | AZ16: Công nghệ ô tô | BA16: Trường Cao đẳng Lý Tự Trọng TPHCM
A17: 12 | B17: 19000012 | C17: Nguyễn Hoàng Minh | D17: Quân | E17: Nam | F17: 13/12/2000 | G17: Tp. Hồ Chí Minh | H17: Nguyễn Hoàn Vũ | I17: Tài xé | J17: 0909613250 | K17: Nguyễn Thị Mỹ Yến | L17: Nội trợ | M17: 0908577364 | N17: 19C1-CNÔ1 | O17: Tp. Hồ Chí Minh | P17: Kinh | R17: 995/122 Hồng Bàng, Phường 12, Quận 6, Tp.Hồ Chí Minh | S17: 995/122 Hồng Bàng, Phường 12, Quận 6, Tp.Hồ Chí Minh | T17: 0908577364 | U17: 0909613250 | V17: 0908577364 | Y17: 026031697 | Z17: 20/07/2015 | AA17: CA.TPHCM | AE17: THPT NKTDTT Nguyễn Thị Định | AJ17: KV3 | AM17: Tp. Hồ Chí Minh | AN17: Quận 6 | AO17: 19C10036 | AP17: Đang học | AQ17: 1 | AR17: 19C1-CNÔ1 | AS17: 13/05/2019 | AT17: 2019 | AU17: 2019 | AV17: Cao đẳng | AW17: Chính quy 2 năm | AX17: Khoa Động lực | AY17: Công nghệ ô tô | AZ17: Công nghệ ô tô | BA17: Trường Cao đẳng Lý Tự Trọng TPHCM
A18: 13 | B18: 19000013 | C18: Nguyễn Nhật | D18: Huy | E18: Nam | F18: 11/05/2004 | G18: Tp. Hồ Chí Minh | N18: 19T4-TKĐ1 | P18: Kinh | R18: 411/11/ Lê Đức Thọ f.17 | T18: 0766779354 | AJ18: KV3 | AM18: Tp. Hồ Chí Minh | AN18: Quận Gò Vấp | AO18: 19T40172 | AP18: Đang học | AQ18: 1 | AR18: 19T4-TKĐ1 | AS18: 13/05/2019 | AT18: 2019 | AU18: 2019 | AV18: Trung cấp | AW18: Chính quy 3 năm | AX18: Khoa Công nghệ Thông tin | AY18: Thiết kế đồ họa | AZ18: Thiết kế đồ họa | BA18: Trường Cao đẳng Lý Tự Trọng TPHCM
A19: 14 | B19: 19000014 | C19: Vũ Trường | D19: Khanh | E19: Nam | F19: 30/10/2004 | G19: Tp. Hồ Chí Minh | N19: 19T4-LTM1 | P19: Kinh | R19: 499/44 Quang Trung, P.10, Q.Gò Vấp, TPHCM | T19: 0964493213 | AJ19: KV3 | AM19: Tp. Hồ Chí Minh | AN19: Quận Gò Vấp | AO19: 19T40164 | AP19: Đang học | AQ19: 1 | AR19: 19T4-LTM1 | AS19: 14/05/2019 | AT19: 2019 | AU19: 2019 | AV19: Trung cấp | AW19: Chính quy 3 năm | AX19: Khoa Công nghệ Thông tin | AY19: Lập trình máy tính | AZ19: Lập trình máy tính | BA19: Trường Cao đẳng Lý Tự Trọng TPHCM
A20: 15 | B20: 19000015 | C20: Vũ Ngọc Mai | D20: Khanh | E20: Nữ | F20: 30/10/2004 | G20: Tp. Hồ Chí Minh | N20: 19T4-MTT1 | P20: Kinh | R20: 499/44 Quang Trung, P.10, Quận Gò Vấp, TPHCM | T20: 0964493213 | AJ20: KV3 | AM20: Tp. Hồ Chí Minh | AN20: Quận Gò Vấp | AO20: 19T40175 | AP20: Đang học | AQ20: 1 | AR20: 19T4-MTT1 | AS20: 14/05/2019 | AT20: 2019 | AU20: 2019 | AV20: Trung cấp | AW20: Chính quy 3 năm | AX20: Khoa May - Thời trang | AY20: May thời trang | AZ20: May thời trang | BA20: Trường Cao đẳng Lý Tự Trọng TPHCM
A21: 16 | B21: 19000016 | C21: Nguyễn Dương | D21: Thanh | E21: Nam | F21: 11/03/1997 | G21: Long An | H21: Nguyễn Văn Ngân | I21: Thợ Mộc | J21: 0907751203 | K21: Dương Thị Mỹ Hương | L21: Buôn bán | M21: 0974856203 | N21: 19C1-CNL1 | O21: Long An | P21: Kinh | Q21: Không | R21: 52 ấp Xóm Mới, xã Tân Lân, huyện Cần Đước, tỉnh Long An | S21: 52 ấp Xóm Mới, xã Tân Lân, huyện Cần Đước, tỉnh Long An | T21: 0968498203 | U21: 0907751203 | V21: 0974856203 | X21: nguyenduongthanh1131997@gmail.com | Y21: 301607085 | Z21: 31/05/2012 | AA21: CA. Long An | AB21: 17/05/2015 | AC21: 10/07/2018 | AE21: THPT Chu Văn An | AJ21: KV2-NT | AK21: Đối tượng 03 | AM21: Long An | AN21: Huyện Cần Đước | AO21: 19C10088 | AP21: Đang học | AQ21: 1 | AR21: 19C1-CNL1 | AS21: 14/05/2019 | AT21: 2019 | AU21: 2019 | AV21: Cao đẳng | AW21: Chính quy 2 năm | AX21: Khoa Nhiệt – Lạnh | AY21: Công nghệ kỹ thuật nhiệt | AZ21: Công nghệ kỹ thuật nhiệt | BA21: Trường Cao đẳng Lý Tự Trọng TPHCM
A22: 17 | B22: 19000017 | C22: Đặng Hữu | D22: Giác | E22: Nam | F22: 19/10/2000 | G22: Kiên Giang | H22: Đặng Văn Sâm | I22: Giảng viên | J22: 0384844810 | K22: Trần Xuân Lan | L22: Giáo viên | M22: 0984275178 | N22: 19C1-CNÔ1 | O22: Kiên Giang | P22: Kinh | R22: Lô D11, khu dân cư ấp Tân Hoà B,xã Tân Hoà,huyện Tân Hiệp,tỉnh Kiên Giang | S22: 194 Trần Bá Giao, Phường 5, Quận Gò Vấp, Tp.HCM | T22: 0826855852 | U22: 0384844810 | V22: 0984275178 | Y22: 371901066 | Z22: 19/03/2015 | AA22: CA. Kiên Giang | AE22: THPT Tân Hiệp | AJ22: KV2-NT | AM22: Kiên Giang | AN22: Huyện Tân Hiệp | AO22: 19C10004 | AP22: Đang học | AQ22: 1 | AR22: 19C1-CNÔ1 | AS22: 14/05/2019 | AT22: 2019 | AU22: 2019 | AV22: Cao đẳng | AW22: Chính quy 2 năm | AX22: Khoa Động lực | AY22: Công nghệ ô tô | AZ22: Công nghệ ô tô | BA22: Trường Cao đẳng Lý Tự Trọng TPHCM
A23: 18 | B23: 19000018 | C23: Đào Thanh | D23: Tùng | E23: Nam | F23: 03/12/2002 | G23: Tp. Hồ Chí Minh | N23: 19T4-CNÔ1 | P23: Kinh | R23: 154/31/11A Đường Cống Lỡ, P.15, Q.Tân Bình, TPHCM | T23: 0976166455 | AJ23: KV3 | AM23: Tp. Hồ Chí Minh | AN23: Quận Tân Bình | AO23: 19T40122 | AP23: Đang học | AQ23: 1 | AR23: 19T4-CNÔ1 | AS23: 14/05/2019 | AT23: 2019 | AU23: 2019 | AV23: Trung cấp | AW23: Chính quy 3 năm | AX23: Khoa Động lực | AY23: Công nghệ ô tô | AZ23: Công nghệ ô tô | BA23: Trường Cao đẳng Lý Tự Trọng TPHCM
A24: 19 | B24: 19000019 | C24: Phạm Hoàng | D24: Khôi | E24: Nam | F24: 17/07/2002 | G24: Tp. Hồ Chí Minh | N24: 19T4-CNÔ1 | P24: Kinh | R24: 125/16/26 Bùi Đình Túy P.24 Q.Bình Thạnh Tp HCM | T24: 0933192899 | AJ24: KV3 | AM24: Tp. Hồ Chí Minh | AN24: Huyện Bình Chánh | AO24: 19T40314 | AP24: Đang học | AQ24: 1 | AR24: 19T4-CNÔ1 | AS24: 14/05/2019 | AT24: 2019 | AU24: 2019 | AV24: Trung cấp | AW24: Chính quy 3 năm | AX24: Khoa Động lực | AY24: Công nghệ ô tô | AZ24: Công nghệ ô tô | BA24: Trường Cao đẳng Lý Tự Trọng TPHCM
A25: 20 | B25: 19000020 | C25: Phan Nguyễn Thanh | D25: Thiện | E25: Nam | F25: 31/05/1996 | G25: Tây Ninh | H25: Phan Thành Đông | I25: Làm Nông | J25: 0338151562 | K25: Nguyễn Thị Huệ | L25: Làm nông | M25: 0327711123 | N25: 19T4-ĐCN1 | O25: Tây Ninh | P25: Kinh | Q25: Không | R25: Phước Trung , Phước Chỉ , Trảng Bàng , Tây Ninh | S25: Phước Trung, Phước Chỉ, Trảng Bàng, Tây Ninh | T25: 0967220855 | U25: 0338151561 | V25: 0327711123 | X25: thanhthienpc69@gmail.com | Y25: 072096000781 | Z25: 18/02/2016 | AA25: CA Tây Ninh | AM25: Tây Ninh | AN25: Huyện Trảng Bàng | AO25: 19T40106 | AP25: Đang học | AQ25: 1 | AR25: 19T4-ĐCN1 | AS25: 15/05/2019 | AT25: 2019 | AU25: 2019 | AV25: Trung cấp | AW25: Chính quy 3 năm | AX25: Khoa Điện - Điện tử | AY25: Điện công nghiệp | AZ25: Điện công nghiệp | BA25: Trường Cao đẳng Lý Tự Trọng TPHCM
A26: 21 | B26: 19000021 | C26: Đỗ Viết Thành | D26: An | E26: Nam | F26: 20/03/2004 | G26: Tp. Hồ Chí Minh | H26: Đỗ Tiến Thành | I26: Lao động | J26: 0379732989 | K26: Đặng Thị Xinh | L26: Nội trợ | M26: 1970 | N26: 19T4-ĐCN1 | O26: quang nam | P26: Kinh | Q26: Không | R26: 66/25 Phan Sào Nam P.11 Q.Tân Bình | S26: 66/25 Phan Sào Nam P.11 Q.Tân Bình | T26: 0379732989 | Y26: 0379732989 | Z26: 28/05/2019 | AA26: TP HCM | AJ26: KV3 | AM26: Tp. Hồ Chí Minh | AN26: Quận Tân Bình | AO26: 19T40112 | AP26: Đang học | AQ26: 1 | AR26: 19T4-ĐCN1 | AS26: 15/05/2019 | AT26: 2019 | AU26: 2019 | AV26: Trung cấp | AW26: Chính quy 3 năm | AX26: Khoa Điện - Điện tử | AY26: Điện công nghiệp | AZ26: Điện công nghiệp | BA26: Trường Cao đẳng Lý Tự Trọng TPHCM
A27: 22 | B27: 19000022 | C27: Đào Tấn | D27: Phát | E27: Nam | F27: 24/11/2003 | G27: Bình Thuận | H27: Đào Tấn Thuận | I27: Cơ Khí | J27: 0345454770 | K27: Lê Trần Thúy Phượng | L27: Trang điểm, uống tóc | M27: 0369724472 | N27: 19T4-CĐT1 | O27: Bình Thuận | P27: Kinh | R27: Tổ 10, Thôn 4, Đức Hạnh, Đức Linh, Bình Thuận | S27: 36/13 Đường Bình Gỉa, Phường 13, Quận Tân Bình, Tp.HCM | T27: 0345454770 | Y27: 261569699 | AJ27: KV2-NT | AM27: Bình Thuận | AN27: Huyện Đức Linh | AO27: 19T40070 | AP27: Đang học | AQ27: 1 | AR27: 19T4-CĐT1 | AS27: 15/05/2019 | AT27: 2019 | AU27: 2019 | AV27: Trung cấp | AW27: Chính quy 3 năm | AX27: Khoa Điện - Điện tử | AY27: Cơ điện tử | AZ27: Cơ điện tử | BA27: Trường Cao đẳng Lý Tự Trọng TPHCM
A28: 23 | B28: 19000023 | C28: Nguyễn Cao | D28: Hưng | E28: Nam | F28: 02/07/1998 | G28: Tp. Hồ Chí Minh | N28: 19T2-TKW1 | P28: Kinh | R28: 30/2 Nguyễn Văn Cự kp5 p Tân Tạo A Q.Binh Tân Tp HCM | T28: 0797910442 | AE28: THPT Bình Tân | AJ28: KV3 | AM28: Tp. Hồ Chí Minh | AN28: Quận Bình Tân | AO28: 19T20059 | AP28: Đang học | AQ28: 1 | AR28: 19T2-TKW1 | AS28: 15/05/2019 | AT28: 2019 | AU28: 2019 | AV28: Trung cấp | AW28: Chính quy 1N3 | AX28: Khoa Công nghệ Thông tin | AY28: Thiết kế trang Web | AZ28: Thiết kế trang Web | BA28: Trường Cao đẳng Lý Tự Trọng TPHCM
A29: 24 | B29: 19000024 | C29: Tô Hà Kỳ | D29: Duyên | E29: Nữ | F29: 06/02/2004 | G29: Tp. Hồ Chí Minh | H29: Tô Hồng Đức | I29: Kỹ sư Cơ khí | K29: Đặng Ngọc Ngà | L29: Kinh doang | N29: 19T4-NNA1 | O29: Tp. Hồ Chí Minh | P29: Kinh | R29: 152/48 Lý Chính Thắng, P.7, Q.3, TPHCM | S29: 164C Võ Thị Sáu, Phường 8, Tp.HCM | T29: 0907107649 | U29: 0909916249 | AJ29: KV3 | AM29: Tp. Hồ Chí Minh | AN29: Quận 3 | AO29: 19T40348 | AP29: Đang học | AQ29: 1 | AR29: 19T4-NNA1 | AS29: 15/05/2019 | AT29: 2019 | AU29: 2019 | AV29: Trung cấp | AW29: Chính quy 3 năm | AX29: Khoa Khoa học cơ bản | AY29: Tiếng Anh | AZ29: Tiếng Anh | BA29: Trường Cao đẳng Lý Tự Trọng TPHCM
A30: 25 | B30: 19000025 | C30: Nguyễn Minh | D30: Ánh | E30: Nữ | F30: 23/07/2004 | G30: Tp. Hồ Chí Minh | N30: 19T4-TKĐ1 | P30: Kinh | R30: 291D Hoàng Văn Thụ, P.2, Q. Tân Bình, TPHCM | T30: 0906855812 | AJ30: KV3 | AM30: Tp. Hồ Chí Minh | AN30: Quận Tân Phú | AO30: 19T40163 | AP30: Đang học | AQ30: 1 | AR30: 19T4-TKĐ1 | AS30: 15/05/2019 | AT30: 2019 | AU30: 2019 | AV30: Trung cấp | AW30: Chính quy 3 năm | AX30: Khoa Công nghệ Thông tin | AY30: Thiết kế đồ họa | AZ30: Thiết kế đồ họa | BA30: Trường Cao đẳng Lý Tự Trọng TPHCM
A31: 26 | B31: 19000026 | C31: Võ Kiều Minh | D31: Thư | E31: Nữ | F31: 25/02/1999 | G31: Tp. Hồ Chí Minh | N31: 19T4-NNA1 | P31: Kinh | R31: D12/53 đường Huỳnh Văn Trí, ấp 4, xã Bình Chánh, huyện Bình Chánh, TPHCM | T31: 0397481470 | AJ31: KV2 | AM31: Tp. Hồ Chí Minh | AN31: Huyện Bình Chánh | AO31: 19T40034 | AP31: Đang học | AQ31: 1 | AR31: 19T4-NNA1 | AS31: 15/05/2019 | AT31: 2019 | AU31: 2019 | AV31: Trung cấp | AW31: Chính quy 3 năm | AX31: Khoa Khoa học cơ bản | AY31: Tiếng Anh | AZ31: Tiếng Anh | BA31: Trường Cao đẳng Lý Tự Trọng TPHCM
A32: 27 | B32: 19000027 | C32: Lê Hoàng Quốc | D32: Anh | E32: Nam | F32: 23/07/2004 | G32: Tp. Hồ Chí Minh | H32: Lê Văn Hạ | I32: Xây dựng | J32: 0908128565 | K32: Hoàng Thị Hằng | L32: Buôn Bán | M32: 0933740954 | N32: 19T4-TKĐ1 | O32: Tp. Hồ Chí Minh | P32: Kinh | R32: C12/37 ẤP 3B XÃ VĨNH LỘC B , BÌNH CHÁNH , TP.HCM | S32: C12/37 ẤP 3B XÃ VĨNH LỘC B , BÌNH CHÁNH , TP.HCM | T32: 0968097606 | Y32: 052204000129 | Z32: 23/03/2019 | AA32: CCSĐKQLDC | AJ32: KV2 | AM32: Tp. Hồ Chí Minh | AN32: Huyện Bình Chánh | AO32: 19T40093 | AP32: Đang học | AQ32: 1 | AR32: 19T4-TKĐ1 | AS32: 16/05/2019 | AT32: 2019 | AU32: 2019 | AV32: Trung cấp | AW32: Chính quy 3 năm | AX32: Khoa Công nghệ Thông tin | AY32: Thiết kế đồ họa | AZ32: Thiết kế đồ họa | BA32: Trường Cao đẳng Lý Tự Trọng TPHCM
A33: 28 | B33: 19000028 | C33: Bùi Hoàng An | D33: Vỹ | E33: Nam | F33: 27/10/2001 | G33: Tp. Hồ Chí Minh | H33: Bùi Anh Vũ | I33: Nhân viên thuốc lá Sài gòn | J33: 0913116703 | K33: Trần Thị Hoàng Anh | L33: Bác sĩ | M33: 0903948929 | N33: 19T4-ĐCN1 | O33: Tp. Hồ Chí Minh | P33: Kinh | Q33: Không | R33: 263/10 Thạch Lam, P. Phú Thạch, Q. Tân Phú, TPHCM | S33: 263/10 Thạch Lam, P. Phú Thạch, Q. Tân Phú, TPHCM | T33: 0856493973 | U33: 0913116703 | V33: 0903948929 | X33: bon2710b@gmail.com | Y33: 079201008520 | Z33: 01/06/2016 | AA33: CA. TPHCM | AJ33: KV3 | AM33: Tp. Hồ Chí Minh | AN33: Quận Tân Phú | AO33: 19T40072 | AP33: Đang học | AQ33: 1 | AR33: 19T4-ĐCN1 | AS33: 16/05/2019 | AT33: 2019 | AU33: 2019 | AV33: Trung cấp | AW33: Chính quy 3 năm | AX33: Khoa Điện - Điện tử | AY33: Điện công nghiệp | AZ33: Điện công nghiệp | BA33: Trường Cao đẳng Lý Tự Trọng TPHCM
A34: 29 | B34: 19000029 | C34: Mach | D34: Arafin | E34: Nam | F34: 15/02/2004 | G34: Tp. Hồ Chí Minh | H34: Mach Layh Manh | I34: Tài xé | J34: 0907890659 | K34: Nguyễn Thị Phượng | L34: Thợ may | M34: 0937187357 | N34: 19T4-CNÔ1 | O34: XA TAN CHAU CHAU PHONG, AN GIANG | P34: Chăm | Q34: Hồi Giáo | R34: 127/29 Cao Thắng P.17 Q.Phú Nhuận Tp.HCM | S34: 127/29 Cao Thắng P.17 Q.Phú Nhuận Tp.HCM | T34: 0937187357 | Y34: 083204000005 | Z34: 23/04/2018 | AA34: CA PHU NHUAN | AJ34: KV3 | AM34: Tp. Hồ Chí Minh | AN34: Quận Phú Nhuận | AO34: 19T40374 | AP34: Đang học | AQ34: 1 | AR34: 19T4-CNÔ1 | AS34: 16/05/2019 | AT34: 2019 | AU34: 2019 | AV34: Trung cấp | AW34: Chính quy 3 năm | AX34: Khoa Động lực | AY34: Công nghệ ô tô | AZ34: Công nghệ ô tô | BA34: Trường Cao đẳng Lý Tự Trọng TPHCM
A35: 30 | B35: 19000030 | C35: Lê Nguyễn Trung | D35: Hiếu | E35: Nam | F35: 03/12/2004 | G35: Tp. Hồ Chí Minh | H35: Lê Hữu Phước | K35: Nguyễn Thị Phượng | M35: 0902628189 | N35: 19T4-THU1 | O35: Tp. Hồ Chí Minh | P35: Kinh | Q35: Phật Giáo | R35: 105/10 Cao Thắng Phường 17, Q.Phú Nhuận TPHCM | S35: 105/10 Cao Thắng Phường 17, Q.Phú Nhuận TPHCM | T35: 0902628189 | U35: 0937002837 | Y35: 079204012484 | Z35: 29/01/2019 | AA35: CTCCSQLĐKDC | AJ35: KV3 | AM35: Tp. Hồ Chí Minh | AN35: Quận Phú Nhuận | AO35: 19T40277 | AP35: Đang học | AQ35: 1 | AR35: 19T4-THU1 | AS35: 16/05/2019 | AT35: 2019 | AU35: 2019 | AV35: Trung cấp | AW35: Chính quy 3 năm | AX35: Khoa Công nghệ Thông tin | AY35: Tin học ứng dụng | AZ35: Tin học ứng dụng | BA35: Trường Cao đẳng Lý Tự Trọng TPHCM
A36: 31 | B36: 19000031 | C36: Huỳnh Thái | D36: Toàn | E36: Nam | F36: 07/09/2004 | G36: Tp. Hồ Chí Minh | H36: Huỳnh Thanh Sơn | I36: Tài xế | J36: 0933987220 | K36: Lê Thị Ngọc Tuyết | L36: Nội trợ | M36: 0909330098 | N36: 19T4-CNÔ1 | O36: Tp. Hồ Chí Minh | P36: Hoa | R36: 216/3 Lạc Long Quân, Phường 10, Quận 11 TP.Hồ Chí Minh | S36: 216/3 Lạc Long Quân, Phường 10, Quận 11 TP.Hồ Chí Minh | T36: 0764309556 | U36: 0933987220 | V36: 0909330098 | AM36: Tp. Hồ Chí Minh | AN36: Quận 11 | AO36: 19T40194 | AP36: Đang học | AQ36: 1 | AR36: 19T4-CNÔ1 | AS36: 16/05/2019 | AT36: 2019 | AU36: 2019 | AV36: Trung cấp | AW36: Chính quy 3 năm | AX36: Khoa Động lực | AY36: Công nghệ ô tô | AZ36: Công nghệ ô tô | BA36: Trường Cao đẳng Lý Tự Trọng TPHCM
A37: 32 | B37: 19000032 | C37: Huỳnh Văn | D37: Đạt | E37: Nam | F37: 14/05/2004 | G37: Tp. Hồ Chí Minh | H37: Huỳnh Văn Lạc | I37: Buôn bán | J37: 0983382881 | K37: Huỳnh Thị Thủy | M37: 0335882063 | N37: 19T4-QTM1 | O37: Tp. Hồ Chí Minh | P37: Kinh | R37: 66/12/9 Đường 45, Phường 14, Q.Gò Vấp TPHCM | S37: 66/12/9 Đường 45, Phường 14, Q.Gò Vấp TPHCM | T37: 0983382881 | U37: 0335882063 | AJ37: KV3 | AM37: Tp. Hồ Chí Minh | AN37: Quận Gò Vấp | AO37: 19T40232 | AP37: Đang học | AQ37: 1 | AR37: 19T4-QTM1 | AS37: 16/05/2019 | AT37: 2019 | AU37: 2019 | AV37: Trung cấp | AW37: Chính quy 3 năm | AX37: Khoa Công nghệ Thông tin | AY37: Quản trị mạng máy tính | AZ37: Quản trị mạng máy tính | BA37: Trường Cao đẳng Lý Tự Trọng TPHCM
A38: 33 | B38: 19000033 | C38: Nguyễn Quốc | D38: Phục | E38: Nam | F38: 20/09/1997 | G38: Gia Lai | H38: Nguyễn Quốc Việt | I38: Nông | K38: Phan Thị Thanh Lâm | L38: Nông | N38: 19C1-CNÔ1 | O38: Mỹ Hiệp, Phù Mỹ, Bình Đinh | P38: Kinh | Q38: Không | R38: Số 72 Quang Trung, Tổ dân phố 2, TT.Chư Sê, huyện Chư Sê, tỉnh Gia Lai | S38: Số 72 Quang Trung, Tổ dân phố 2, TT.Chư Sê, huyện Chư Sê, tỉnh Gia Lai | T38: 0375257585 | Y38: 231083906 | Z38: 17/06/2013 | AA38: CA. Gia Lai | AE38: Trường THPT Nguyễn Bỉnh Khiêm | AJ38: KV3 | AM38: Gia Lai | AN38: Huyện Chư Sê | AO38: 19C10129 | AP38: Đang học | AQ38: 1 | AR38: 19C1-CNÔ1 | AS38: 16/05/2019 | AT38: 2019 | AU38: 2019 | AV38: Cao đẳng | AW38: Chính quy 2 năm | AX38: Khoa Động lực | AY38: Công nghệ ô tô | AZ38: Công nghệ ô tô | BA38: Trường Cao đẳng Lý Tự Trọng TPHCM
A39: 34 | B39: 19000034 | C39: Nguyễn Lê Minh | D39: Kha | E39: Nam | F39: 30/08/2004 | G39: Tp. Hồ Chí Minh | H39: Nguyễn Ngọc Nhung | I39: Nhân viên | J39: 0903883390 | K39: Lê Thanh Như Thảo | L39: Nhân viên | M39: 0902717043 | N39: 19T4-TĐH1 | O39: Tp. Hồ Chí Minh | P39: Kinh | R39: C9/28 Đường Trịnh Như Khuê, Ấp 3, Xã Bình Chánh, Huyện Bình Chánh, Tp.HCM | S39: C9/28 Đường Trịnh Như Khuê, Ấp 3, Xã Bình Chánh, Huyện Bình Chánh, Tp.HCM | T39: 0903883390 | U39: 0902717043 | AJ39: KV2 | AM39: Tp. Hồ Chí Minh | AN39: Huyện Bình Chánh | AO39: 19T40389 | AP39: Đang học | AQ39: 1 | AR39: 19T4-TĐH1 | AS39: 17/05/2019 | AT39: 2019 | AU39: 2019 | AV39: Trung cấp | AW39: Chính quy 3 năm | AX39: Khoa Điện - Điện tử | AY39: Công nghệ kỹ thuật điều khiển tự động | AZ39: Công nghệ kỹ thuật điều khiển tự động | BA39: Trường Cao đẳng Lý Tự Trọng TPHCM
A40: 35 | B40: 19000035 | C40: Võ Thanh | D40: Hiếu | E40: Nam | F40: 28/06/2004 | G40: Tp. Hồ Chí Minh | N40: 19T4-ĐCN1 | O40: tphcm | P40: Kinh | Q40: Phật Giáo | R40: 21/35 TRẦN BÁ THƯỚC P7 PHÚ NHUẬN | S40: 21/35 TRẦN BÁ THƯỚC P7 PHÚ NHUẬN | T40: 0347740279 | Y40: 079204005924 | Z40: 07/09/2018 | AA40: C.a tphcm | AJ40: KV3 | AM40: Tp. Hồ Chí Minh | AN40: Quận Phú Nhuận | AO40: 19T40278 | AP40: Đang học | AQ40: 1 | AR40: 19T4-ĐCN1 | AS40: 17/05/2019 | AT40: 2019 | AU40: 2019 | AV40: Trung cấp | AW40: Chính quy 3 năm | AX40: Khoa Điện - Điện tử | AY40: Điện công nghiệp | AZ40: Điện công nghiệp | BA40: Trường Cao đẳng Lý Tự Trọng TPHCM
A41: 36 | B41: 19000036 | C41: Vũ Y | D41: Phụng | E41: Nữ | F41: 13/10/2003 | G41: Tp. Hồ Chí Minh | H41: Vũ Mạnh Chiến | I41: Tài xé | J41: 0984337079 | K41: Đặng Thị Ngoan | L41: Buôn bán | M41: 0904606811 | N41: 19T4-NNA1 | O41: Tp. Hồ Chí Minh | P41: Kinh | R41: 148 Nguyễn Thị Nhỏ, P.15, Q.11, TPHCM | S41: 148 Nguyễn Thị Nhỏ, P.15, Q.11, TPHCM | T41: 0904606811 | U41: 0984337079 | V41: 0904606811 | AJ41: KV3 | AM41: Tp. Hồ Chí Minh | AN41: Quận 11 | AO41: 19T40009 | AP41: Đang học | AQ41: 1 | AR41: 19T4-NNA1 | AS41: 17/05/2019 | AT41: 2019 | AU41: 2019 | AV41: Trung cấp | AW41: Chính quy 3 năm | AX41: Khoa Khoa học cơ bản | AY41: Tiếng Anh | AZ41: Tiếng Anh | BA41: Trường Cao đẳng Lý Tự Trọng TPHCM
A42: 37 | B42: 19000037 | C42: Ngô Khí | D42: Tài | E42: Nam | F42: 23/03/2000 | G42: Tp. Hồ Chí Minh | H42: Ngô Thanh Bình | I42: Tài Xé | J42: 0903764998 | K42: Bùi Thị Ngọc Minh | L42: Nội trợ | M42: 0908525940 | N42: 19C1-TKĐ1 | O42: Thừa Thiên Huế | P42: Kinh | Q42: Phật Giáo | R42: 108 L1, Đường Hồ Tùng Mậu, Phường Bến Nghé, Quận 1, Thành phố Hồ Chí Minh | S42: 182 Chiến Thắng, Phường 9, Quận Phú Nhuận | T42: 0704516860 | U42: 0903764998 | V42: 0908525940 | X42: ngkhitai@gmail.com | Y42: 025930280 | Z42: 23/07/2014 | AA42: TP. HCM | AB42: 14/04/2016 | AE42: THPT Trưng Vương | AJ42: KV3 | AM42: Tp. Hồ Chí Minh | AN42: Quận 1 | AO42: 19C10062 | AP42: Đang học | AQ42: 1 | AR42: 19C1-TKĐ1 | AS42: 17/05/2019 | AT42: 2019 | AU42: 2019 | AV42: Cao đẳng | AW42: Chính quy 2 năm | AX42: Khoa Công nghệ Thông tin | AY42: Thiết kế đồ họa | AZ42: Thiết kế đồ họa | BA42: Trường Cao đẳng Lý Tự Trọng TPHCM
A43: 38 | B43: 19000038 | C43: Trần Ngọc | D43: Tú | E43: Nam | F43: 06/12/1996 | G43: Tp. Hồ Chí Minh | H43: Trần Đình Đức | I43: Hưu Trí | J43: 0398504845 | N43: 19C1-CCK1 | O43: Tp. Hồ Chí Minh | P43: Kinh | R43: 4E , Khu phố 2, Phường Trung Mỹ Tây, Quận 12, TPHCM | S43: 4E , Khu phố 2, Phường Trung Mỹ Tây, Quận 12, TPHCM | T43: 0985991321 | U43: 0398504845 | Y43: 025596325 | Z43: 05/03/2012 | AA43: CA. TPHCM | AE43: THPT Trường Chinh | AJ43: KV3 | AM43: Tp. Hồ Chí Minh | AN43: Quận 12 | AO43: 19C10157 | AP43: Đang học | AQ43: 1 | AR43: 19C1-CCK1 | AS43: 18/05/2019 | AT43: 2019 | AU43: 2019 | AV43: Cao đẳng | AW43: Chính quy 2 năm | AX43: Khoa Cơ khí | AY43: Công nghệ kỹ thuật cơ khí | AZ43: Công nghệ kỹ thuật cơ khí | BA43: Trường Cao đẳng Lý Tự Trọng TPHCM
A44: 39 | B44: 19000039 | C44: Mai Quốc | D44: An | E44: Nam | F44: 26/07/2003 | G44: Tp. Hồ Chí Minh | H44: Mai Văn Thắng | I44: Nhân Viên | J44: 0903815737 | K44: Phạm Thị Tuyết Nhung | L44: Nhân viên | M44: 0973515892 | N44: 19T4-ANM1 | O44: Tp. Hồ Chí Minh | P44: Kinh | Q44: Không | R44: 225 Chung Cư Thanh Niên Bàu cát 2 p.14 | S44: 027 chung cư thanh niên đường bàu cát 2 phường 14 Quận Tân Bình | T44: 0973515892 | U44: 0903815737 | V44: 0973515892 | X44: huyanquoc123@gmail.com | Y44: 079203004897 | Z44: 22/06/2018 | AA44: công an thành phố hồ chí minh | AB44: 05/05/2019 | AM44: Tp. Hồ Chí Minh | AN44: Quận Tân Phú | AO44: 19T40155 | AP44: Đang học | AQ44: 1 | AR44: 19T4-ANM1 | AS44: 18/05/2019 | AT44: 2019 | AU44: 2019 | AV44: Trung cấp | AW44: Chính quy 3 năm | AX44: Khoa Công nghệ Thông tin | AY44: An ninh mạng | AZ44: An ninh mạng | BA44: Trường Cao đẳng Lý Tự Trọng TPHCM
A45: 40 | B45: 19000040 | C45: Đỗ Trần Quốc | D45: Đạt | E45: Nam | F45: 11/03/2001 | G45: Tp. Hồ Chí Minh | N45: 19T4-VSL1 | P45: Kinh | R45: B14/8 Khu Phố 1 Bình An Q.2 Tp HCM | T45: 0938865717 | AM45: Tp. Hồ Chí Minh | AN45: Quận 2 | AO45: 19T40409 | AP45: Đang học | AQ45: 1 | AR45: 19T4-VSL1 | AS45: 18/05/2019 | AT45: 2019 | AU45: 2019 | AV45: Trung cấp | AW45: Chính quy 3 năm | AX45: Khoa Nhiệt – Lạnh | AY45: Vận hành, sửa chữa thiết bị lạnh | AZ45: Vận hành, sửa chữa thiết bị lạnh | BA45: Trường Cao đẳng Lý Tự Trọng TPHCM
A46: 41 | B46: 19000041 | C46: Mạc Huỳnh Quốc | D46: Huy | E46: Nam | F46: 07/10/1999 | G46: Bến Tre | H46: Mạc văn Tùng | I46: Buôn bán | J46: 0915627618 | K46: Huỳnh Cẩm Tuyết | L46: Buôn bán | M46: 0815627618 | N46: 19C1-CNÔ1 | O46: Bến Tre | P46: Kinh | R46: số 144, Ấp Phú Đông 1, An Định, Mỏ Cày Nam, Bến Tre | S46: số 144, Ấp Phú Đông 1, An Định, Mỏ Cày Nam, Bến Tre | T46: 0944190142 | U46: 0915627618 | V46: 0815627618 | Y46: 321734843 | Z46: 17/07/2015 | AA46: CA. Bến Tre | AE46: THPT Ca Văn Thỉnh | AJ46: KV2-NT | AM46: Bến Tre | AN46: Huyện Mỏ Cày Nam | AO46: 19C10132 | AP46: Đang học | AQ46: 1 | AR46: 19C1-CNÔ1 | AS46: 18/05/2019 | AT46: 2019 | AU46: 2019 | AV46: Cao đẳng | AW46: Chính quy 2 năm | AX46: Khoa Động lực | AY46: Công nghệ ô tô | AZ46: Công nghệ ô tô | BA46: Trường Cao đẳng Lý Tự Trọng TPHCM
A47: 42 | B47: 19000042 | C47: Nguyễn Thị Đình | D47: Trúc | E47: Nữ | F47: 03/09/2000 | G47: Bến Tre | H47: Nguyễn Văn Phương | I47: Buôn bán | J47: 0984746663 | K47: Lương Thị Trinh | L47: Buôn bán | M47: 0975644535 | N47: 19C1-CNÔ1 | O47: Bến Tre | P47: Kinh | R47: số nhà 438, Ấp Phú Lộc Thượng, xã An Định, huyện Mỏ Cày Nam, tỉnh Bến Tre | S47: số nhà 438, Ấp Phú Lộc Thượng, xã An Định, huyện Mỏ Cày Nam, tỉnh Bến Tre | T47: 0352922710 | U47: 0984746663 | V47: 0975644535 | Y47: 321734808 | Z47: 17/07/2015 | AA47: CA. Bến Tre | AE47: THPT Ca Văn Thỉnh | AJ47: KV2-NT | AM47: Bến Tre | AN47: Huyện Mỏ Cày Nam | AO47: 19C10133 | AP47: Đang học | AQ47: 1 | AR47: 19C1-CNÔ1 | AS47: 18/05/2019 | AT47: 2019 | AU47: 2019 | AV47: Cao đẳng | AW47: Chính quy 2 năm | AX47: Khoa Động lực | AY47: Công nghệ ô tô | AZ47: Công nghệ ô tô | BA47: Trường Cao đẳng Lý Tự Trọng TPHCM
A48: 43 | B48: 19000043 | C48: Nguyễn Thanh | D48: Tâm | E48: Nam | F48: 26/06/2004 | G48: Tp. Hồ Chí Minh | N48: 19T4-ĐCN1 | P48: Kinh | R48: 55/12 Đường Số 7, P.7, Q.Gò Vấp | T48: 0973233246 | AJ48: KV3 | AM48: Tp. Hồ Chí Minh | AN48: Quận Gò Vấp | AO48: 19T40415 | AP48: Đang học | AQ48: 1 | AR48: 19T4-ĐCN1 | AS48: 20/05/2019 | AT48: 2019 | AU48: 2019 | AV48: Trung cấp | AW48: Chính quy 3 năm | AX48: Khoa Điện - Điện tử | AY48: Điện công nghiệp | AZ48: Điện công nghiệp | BA48: Trường Cao đẳng Lý Tự Trọng TPHCM
A49: 44 | B49: 19000044 | C49: Lê Đức | D49: Trong | E49: Nam | F49: 30/10/1996 | G49: Long An | H49: Lê Phước Hùng | I49: Thợ Mộc | J49: 0783624128 | K49: Nguyễn Thị Nguyệt | L49: Làm Nông | M49: 0792493773 | N49: 19C1-ĐĐT1 | O49: Tân Ân- Cần Đước- Long An | P49: Kinh | Q49: Không | R49: Số 16 tổ 1 ấp 1 xã tân ân, huyện cần đước, tỉnh long an | S49: Tân Ân- Cần Đước- Long An | T49: 0344333267 | U49: 0783624128 | V49: 0792493773 | X49: Namta3010@gmail.com | Y49: 301572691 | Z49: 20/08/2014 | AA49: Long An | AB49: 10/12/2015 | AC49: 22/12/2017 | AE49: THPT Chu Văn An | AJ49: KV2-NT | AM49: Long An | AN49: Huyện Cần Đước | AO49: 19C10169 | AP49: Đang học | AQ49: 1 | AR49: 19C1-ĐĐT1 | AS49: 20/05/2019 | AT49: 2019 | AU49: 2019 | AV49: Cao đẳng | AW49: Chính quy 2 năm | AX49: Khoa Điện - Điện tử | AY49: Công nghệ kỹ thuật điện, điện tử | AZ49: Công nghệ kỹ thuật điện, điện tử | BA49: Trường Cao đẳng Lý Tự Trọng TPHCM
A50: 45 | B50: 19000045 | C50: Nguyễn Nhật | D50: Huy | E50: Nam | F50: 06/04/1999 | G50: Bình Định | H50: Nguyễn Văn Thọ | I50: Nông dân | J50: 0936646497 | K50: Trần Thị Thúy Hằng | L50: Nông dân | N50: 19T2-ĐCN1 | O50: Bình Định | P50: Kinh | R50: Phú Thịnh, Tây Phú, Tây Sơn, Bình Định | S50: Phú Thịnh, Tây Phú, Tây Sơn, Bình Định | T50: 0347517340 | U50: 0936646497 | Y50: 215478014 | Z50: 11/01/2014 | AA50: CA. Bình Định | AE50: THPT Nguyễn Huệ | AJ50: KV2-NT | AK50: Đối tượng 01 | AM50: Bình Định | AN50: Huyện Tây Sơn | AO50: 19T20005 | AP50: Đang học | AQ50: 1 | AR50: 19T2-ĐCN1 | AS50: 20/05/2019 | AT50: 2019 | AU50: 2019 | AV50: Trung cấp | AW50: Chính quy 1N3 | AX50: Khoa Điện - Điện tử | AY50: Điện công nghiệp | AZ50: Điện công nghiệp | BA50: Trường Cao đẳng Lý Tự Trọng TPHCM
A51: 46 | B51: 19000046 | C51: Trần Nhật | D51: Phong | E51: Nam | F51: 22/01/2004 | G51: Tp. Hồ Chí Minh | H51: Trần Văn Chiến | I51: Tài xé | J51: 0764309698 | K51: Trần Thị Minh Châu | L51: Nội trợ | M51: 0773171889 | N51: 19T4-CNÔ1 | O51: Tp. Hồ Chí Minh | P51: Kinh | R51: 225 Lạc Long Quân, Phường 3, Quận 11, Tp.HCM | S51: 225 Lạc Long Quân, Phường 3, Quận 11, Tp.HCM | T51: 0773171889 | U51: 0764309698 | V51: 0773171889 | Y51: 079204017285 | Z51: 02/05/2019 | AA51: CA. Tp.HCM | AJ51: KV3 | AM51: Tp. Hồ Chí Minh | AN51: Quận 11 | AO51: 19T40293 | AP51: Đang học | AQ51: 1 | AR51: 19T4-CNÔ1 | AS51: 20/05/2019 | AT51: 2019 | AU51: 2019 | AV51: Trung cấp | AW51: Chính quy 3 năm | AX51: Khoa Động lực | AY51: Công nghệ ô tô | AZ51: Công nghệ ô tô | BA51: Trường Cao đẳng Lý Tự Trọng TPHCM
A52: 47 | B52: 19000047 | C52: Kỳ Chí | D52: An | E52: Nam | F52: 28/08/2004 | G52: Tp. Hồ Chí Minh | N52: 19T4-LTM1 | P52: Hoa | R52: 027 LÔ A CHUNG CƯ LẠC LONG QUÂN PHƯỜNG 5 QUẬN 11 TP.HCM | T52: 0902432882 | AJ52: KV3 | AM52: Tp. Hồ Chí Minh | AN52: Quận 11 | AO52: 19T40042 | AP52: Đang học | AQ52: 1 | AR52: 19T4-LTM1 | AS52: 20/05/2019 | AT52: 2019 | AU52: 2019 | AV52: Trung cấp | AW52: Chính quy 3 năm | AX52: Khoa Công nghệ Thông tin | AY52: Lập trình máy tính | AZ52: Lập trình máy tính | BA52: Trường Cao đẳng Lý Tự Trọng TPHCM
A53: 48 | B53: 19000048 | C53: Nguyễn Đăng | D53: Khoa | E53: Nam | F53: 04/07/2000 | G53: Tp. Hồ Chí Minh | N53: 19C1-ĐCN1 | P53: Kinh | R53: 164 đường số 1, ấp 3, xã Phước Vĩnh An, huyện Củ Chi, TP HCM | T53: 0392801742 | AE53: THPT Tân Thông Hội | AJ53: KV2 | AM53: Tp. Hồ Chí Minh | AN53: Huyện Củ Chi | AO53: 19C10363 | AP53: Đang học | AQ53: 1 | AR53: 19C1-ĐCN1 | AS53: 20/05/2019 | AT53: 2019 | AU53: 2019 | AV53: Cao đẳng | AW53: Chính quy 2 năm | AX53: Khoa Điện - Điện tử | AY53: Điện công nghiệp | AZ53: Điện công nghiệp | BA53: Trường Cao đẳng Lý Tự Trọng TPHCM
A54: 49 | B54: 19000049 | C54: Huỳnh Trung | D54: Nhân | E54: Nam | F54: 28/04/2001 | G54: Tp. Hồ Chí Minh | N54: 19C1-ĐĐT1 | P54: Kinh | R54: 1/139B Ấp Đình Xã Tuân Xuân, Huyện Học Môn, TPHCM | T54: 0942560599 | Y54: 079201006533 | AE54: THPT Bà Điểm | AJ54: KV2 | AM54: Tp. Hồ Chí Minh | AN54: Huyện Hóc Môn | AO54: 19C10340 | AP54: Đang học | AQ54: 1 | AR54: 19C1-ĐĐT1 | AS54: 20/05/2019 | AT54: 2019 | AU54: 2019 | AV54: Cao đẳng | AW54: Chính quy 2 năm | AX54: Khoa Điện - Điện tử | AY54: Công nghệ kỹ thuật điện, điện tử | AZ54: Công nghệ kỹ thuật điện, điện tử | BA54: Trường Cao đẳng Lý Tự Trọng TPHCM
A55: 50 | B55: 19000050 | C55: Trần Kim | D55: Thảo | E55: Nữ | F55: 19/05/2001 | G55: Tp. Hồ Chí Minh | N55: 19C1-MVT1 | P55: Kinh | R55: 3/160B ấp Đình, xã Tần Xuân, huyện Hóc Môn, TPHCM | T55: 0817879092 | Y55: 079301023828 | AE55: THPT Bà Điểm | AJ55: KV2 | AM55: Tp. Hồ Chí Minh | AN55: Huyện Hóc Môn | AO55: 19C10473 | AP55: Đang học | AQ55: 1 | AR55: 19C1-MVT1 | AS55: 20/05/2019 | AT55: 2019 | AU55: 2019 | AV55: Cao đẳng | AW55: Chính quy 2 năm | AX55: Khoa May - Thời trang | AY55: Công nghệ may Veston | AZ55: Công nghệ may Veston | BA55: Trường Cao đẳng Lý Tự Trọng TPHCM
A56: 51 | B56: 19000051 | C56: Nguyễn Tuấn | D56: Anh | E56: Nam | F56: 22/04/2003 | G56: Tp. Hồ Chí Minh | H56: Nguyễn Văn Chiến | J56: 0985955046 | K56: Lê Thị Cúc | M56: 0388867831 | N56: 19T4-KML1 | O56: Độc Lập | P56: Kinh | Q56: Không | R56: 11/3 ấp xóm đồng xã Tân Phú Trung Củ Chi | S56: 11/3 ấp xóm đồng xã Tan phú trung củ chi | T56: 0388867831 | U56: 034922576 | V56: 0985955046 | X56: tuananh258789@gmail.com | Y56: 038203000516 | Z56: 12/04/2019 | AA56: Củ Chi | AJ56: KV2 | AM56: Tp. Hồ Chí Minh | AN56: Huyện Củ Chi | AO56: 19T40148 | AP56: Đang học | AQ56: 1 | AR56: 19T4-KML1 | AS56: 21/05/2019 | AT56: 2019 | AU56: 2019 | AV56: Trung cấp | AW56: Chính quy 3 năm | AX56: Khoa Nhiệt – Lạnh | AY56: Kỹ thuật máy lạnh và điều hòa không khí | AZ56: Kỹ thuật máy lạnh và điều hòa không khí | BA56: Trường Cao đẳng Lý Tự Trọng TPHCM
A57: 52 | B57: 19000052 | C57: Nguyễn Thị Quỳnh | D57: Như | E57: Nữ | F57: 22/06/2004 | G57: Tp. Hồ Chí Minh | H57: Nguyễn Văn Toàn | I57: Xe ôm | K57: Thổ Thị Thu Nga | L57: Công nhân | M57: 0773746991 | N57: 19T4-QTD1 | O57: Tp. Hồ Chí Minh | P57: Kinh | R57: 445/17, đường Phan Huy Ích, phường 14, quận Gò Vấp, thành phố Hồ Chí Minh | S57: 911/29 Quang Trung, Phường 14, Quận Gò Vấp, Tp.HCM | T57: 0934125727 | U57: 0773746991 | AJ57: KV3 | AM57: Tp. Hồ Chí Minh | AN57: Quận Gò Vấp | AO57: 19T40410 | AP57: Đang học | AQ57: 1 | AR57: 19T4-QTD1 | AS57: 21/05/2019 | AT57: 2019 | AU57: 2019 | AV57: Trung cấp | AW57: Chính quy 3 năm | AX57: Khoa Kinh tế | AY57: Quản trị doanh nghiệp | AZ57: Quản trị doanh nghiệp | BA57: Trường Cao đẳng Lý Tự Trọng TPHCM
A58: 53 | B58: 19000053 | C58: Trương Thị Hải | D58: Yến | E58: Nữ | F58: 18/01/2004 | G58: Tp. Hồ Chí Minh | H58: Trương Quang Hải | I58: Tài xế | J58: 0903631495 | K58: Lò Thị Hạnh | L58: Nội trợ | M58: 0965745449 | N58: 19T4-LTM1 | O58: Tp. Hồ Chí Minh | P58: Kinh | R58: 129/5 Nguyễn Duy Cung, phường 12, quận Gò Vấp, thành phố Hồ Chí Minh | S58: 129/5 Nguyễn Duy Cung, phường 12, quận Gò Vấp, thành phố Hồ Chí Minh | T58: 0707592781 | U58: 0903631495 | V58: 0965745449 | AB58: 11/03/2019 | AJ58: KV3 | AM58: Tp. Hồ Chí Minh | AN58: Quận Gò Vấp | AO58: 19T40403 | AP58: Đang học | AQ58: 1 | AR58: 19T4-LTM1 | AS58: 21/05/2019 | AT58: 2019 | AU58: 2019 | AV58: Trung cấp | AW58: Chính quy 3 năm | AX58: Khoa Công nghệ Thông tin | AY58: Lập trình máy tính | AZ58: Lập trình máy tính | BA58: Trường Cao đẳng Lý Tự Trọng TPHCM
A59: 54 | B59: 19000054 | C59: Phan Đức | D59: Trường | E59: Nam | F59: 02/09/2003 | G59: Tp. Hồ Chí Minh | H59: Phan Trung Tuấn | J59: 0909039874 | K59: Bùi Thị Hà | M59: 0358378250 | N59: 19T4-LĐL1 | O59: Quảng Ngải | P59: Kinh | Q59: Phật Giáo | R59: 87/57/2/2 Nguyễn Sỹ Sách, phường 15, Quận Tân Bình, Tp. Hồ Chí Minh | S59: 87/57/2/2 Nguyễn Sỹ Sách, phường 15, Quận Tân Bình, Tp. Hồ Chí Minh | T59: 0352883275 | U59: 0909039874 | V59: 0358378250 | Y59: 051203000218 | Z59: 07/06/2018 | AA59: CCSĐKQL | AJ59: KV3 | AM59: Tp. Hồ Chí Minh | AN59: Quận Tân Bình | AO59: 19T40382 | AP59: Đang học | AQ59: 1 | AR59: 19T4-LĐL1 | AS59: 21/05/2019 | AT59: 2019 | AU59: 2019 | AV59: Trung cấp | AW59: Chính quy 3 năm | AX59: Khoa Nhiệt – Lạnh | AY59: Lắp đặt thiết bị lạnh | AZ59: Lắp đặt thiết bị lạnh | BA59: Trường Cao đẳng Lý Tự Trọng TPHCM
A60: 55 | B60: 19000055 | C60: Kha Trương Đại | D60: Phước | E60: Nam | F60: 31/07/2004 | G60: Tp. Hồ Chí Minh | H60: Kha Thành Hồng | I60: Buôn bán | K60: Trương Thị Hoàng Anh | L60: Buôn bán | N60: 19T4-TĐH1 | O60: Tp Hồ Chí Minh | P60: Hoa | Q60: Không | R60: 63/13 đường 702 Hồng Bàng, phường 1, quận 11, Tp.HCM | S60: 19/36 Dường Kinh Dương Vương, Phường 12,Quận 6 | T60: 0909678496 | U60: 0939935999 | Y60: 19000055 | Z60: 01/06/2019 | AA60: Trường Lý Tự Trọng | AJ60: KV3 | AM60: Tp. Hồ Chí Minh | AN60: Quận 6 | AO60: 19T40414 | AP60: Đang học | AQ60: 1 | AR60: 19T4-TĐH1 | AS60: 21/05/2019 | AT60: 2019 | AU60: 2019 | AV60: Trung cấp | AW60: Chính quy 3 năm | AX60: Khoa Điện - Điện tử | AY60: Công nghệ kỹ thuật điều khiển tự động | AZ60: Công nghệ kỹ thuật điều khiển tự động | BA60: Trường Cao đẳng Lý Tự Trọng TPHCM
A61: 56 | B61: 19000056 | C61: Bành Nguyễn Cao | D61: Minh | E61: Nam | F61: 17/07/2004 | G61: Tp. Hồ Chí Minh | H61: Bành Cao Hải | I61: Công nhân | J61: 0396433728 | K61: Nguyễn Thị Tuyết | L61: Công nhân | M61: 0932739606 | N61: 19T4-CNÔ1 | O61: Tp. Hồ Chí Minh | P61: Kinh | Q61: Phật Giáo | R61: 445/1 đường Phan Huy Ích, phường 14, quận Gò Vấp | S61: 445/1 ĐƯỜNG PHAN HUY ÍCH PHƯỜNG 14 QUẬN GÒ VẤP | T61: 0932739606 | Y61: 079204017838 | Z61: 07/05/2019 | AA61: CTCCSĐKQLHCVTTXH | AJ61: KV3 | AM61: Tp. Hồ Chí Minh | AN61: Quận Gò Vấp | AO61: 19T40443 | AP61: Đang học | AQ61: 1 | AR61: 19T4-CNÔ1 | AS61: 21/05/2019 | AT61: 2019 | AU61: 2019 | AV61: Trung cấp | AW61: Chính quy 3 năm | AX61: Khoa Động lực | AY61: Công nghệ ô tô | AZ61: Công nghệ ô tô | BA61: Trường Cao đẳng Lý Tự Trọng TPHCM
A62: 57 | B62: 19000057 | C62: Võ Trường | D62: Duy | E62: Nam | F62: 04/02/2004 | G62: Tp. Hồ Chí Minh | H62: Võ Tiến Trung | I62: Xe ôm | J62: 0772662547 | K62: Nguyễn Thị Xuân Lợi | L62: Nội trợ | N62: 19T4-NNA1 | O62: Tp. Hồ Chí Minh | P62: Kinh | Q62: Phật Giáo | R62: 956/4 Âu Cơ, P.14, Q.Tân Bình, Tp HCM | S62: 956/4 Âu Cơ, P.14, Q.Tân Bình, Tp HCM | T62: 0772662547 | X62: duytruong2607@gmail.com | Y62: 0762803064 | Z62: 01/05/2019 | AA62: CA. Tp.HCM | AJ62: KV3 | AM62: Tp. Hồ Chí Minh | AN62: Quận Tân Bình | AO62: 19T40317 | AP62: Đang học | AQ62: 1 | AR62: 19T4-NNA1 | AS62: 21/05/2019 | AT62: 2019 | AU62: 2019 | AV62: Trung cấp | AW62: Chính quy 3 năm | AX62: Khoa Khoa học cơ bản | AY62: Tiếng Anh | AZ62: Tiếng Anh | BA62: Trường Cao đẳng Lý Tự Trọng TPHCM
A63: 58 | B63: 19000058 | C63: Huỳnh Phước | D63: Quang | E63: Nam | F63: 18/09/2004 | G63: Tây Ninh | H63: Huỳnh Phước Huy | I63: Công nhân | J63: 0989664058 | K63: Nguyễn Thị Thu | L63: Công nhân | M63: 0398388526 | N63: 19T4-BCN1 | O63: Tây Ninh | P63: Kinh | R63: xã An Cơ, Huyện Châu Thành, tỉnh Tây Ninh | S63: xã An Cơ, Huyện Châu Thành, tỉnh Tây Ninh | T63: 0989664058 | U63: 0937348584 | V63: 0398388526 | AJ63: KV2 | AM63: Tây Ninh | AN63: Huyện Châu Thành | AO63: 19T40467 | AP63: Đang học | AQ63: 1 | AR63: 19T4-BCN1 | AS63: 21/05/2019 | AT63: 2019 | AU63: 2019 | AV63: Trung cấp | AW63: Chính quy 3 năm | AX63: Khoa Cơ khí | AY63: Bảo trì hệ thống thiết bị công nghiệp | AZ63: Bảo trì hệ thống thiết bị công nghiệp | BA63: Trường Cao đẳng Lý Tự Trọng TPHCM
A64: 59 | B64: 19000059 | C64: Đặng Hồ Vũ | D64: Lâm | E64: Nam | F64: 30/09/1999 | G64: Bình Thuận | H64: Đặng Ngọc Vũ | I64: Tài xế | J64: 0918590373 | K64: Hồ Thị Tính | L64: Nội trợ | M64: 0949396345 | N64: 19C1-CNÔ1 | O64: Bình Thuận | P64: Kinh | Q64: Phật Giáo | R64: Khu Phố Long Sơn , Phường Mũi Né , Thành Phố Phan Thiết , Tỉnh Bình Thuận | S64: 20/11 Nguyễn Thị Thập, Phường Bình Thuận , Quận 7, Tp.HCM | T64: 0986857720 | Y64: 261543079 | Z64: 17/12/2014 | AA64: CA Bình Thuận | AE64: THPT Bùi Thị Xuân | AJ64: KV2 | AM64: Bình Thuận | AN64: Thành phố Phan Thiết | AO64: 19C10322 | AP64: Đang học | AQ64: 1 | AR64: 19C1-CNÔ1 | AS64: 21/05/2019 | AT64: 2019 | AU64: 2019 | AV64: Cao đẳng | AW64: Chính quy 2 năm | AX64: Khoa Động lực | AY64: Công nghệ ô tô | AZ64: Công nghệ ô tô | BA64: Trường Cao đẳng Lý Tự Trọng TPHCM
A65: 60 | B65: 19000060 | C65: Nguyễn Anh | D65: Hào | E65: Nam | F65: 08/06/2004 | G65: Tp. Hồ Chí Minh | H65: Nguyễn Quang Minh | I65: Công nhân | J65: 0918689936 | K65: Nguyễn Tuyết Loan | L65: Công nhân | M65: 0918454523 | N65: 19T4-QTD1 | O65: Tp. Hồ Chí Minh | P65: Kinh | R65: 11 Đường Số 6, P.15, Q. Gò Vấp, TPHCM | S65: 11 Đường Số 6, P.15, Q. Gò Vấp, TPHCM | T65: 0918454623 | U65: 0918689936 | V65: 0918454623 | Y65: 0792041013066 | Z65: 13/02/2019 | AA65: CTCCSQLHCVTTXH | AJ65: KV3 | AM65: Tp. Hồ Chí Minh | AN65: Quận Gò Vấp | AO65: 19T40173 | AP65: Đang học | AQ65: 1 | AR65: 19T4-QTD1 | AS65: 21/05/2019 | AT65: 2019 | AU65: 2019 | AV65: Trung cấp | AW65: Chính quy 3 năm | AX65: Khoa Kinh tế | AY65: Quản trị doanh nghiệp | AZ65: Quản trị doanh nghiệp | BA65: Trường Cao đẳng Lý Tự Trọng TPHCM
A66: 61 | B66: 19000061 | C66: Nguyễn Phan Hoàng | D66: Phúc | E66: Nam | F66: 08/05/1994 | G66: Bình Thuận | H66: Nguyễn Thanh Hùng | I66: Tự do | J66: 0913837490 | K66: Phan Thị Xuân Thảo | L66: Giáo viên | M66: 0984300900 | N66: 19C1-TĐH1 | O66: Bình Thuận | P66: Kinh | Q66: Không | R66: 194 Nguyễn Huệ, khu phố 7, thị trấn Liên Hương, Tỉnh Bình Thuận | S66: 84/19C Đường Số 2, Tân Quy, Quận 7, Tp.HCM | T66: 0394295512 | Y66: 261263101 | Z66: 23/07/2015 | AA66: C.a Binh Thuận | AE66: THPT Chuyên Trần Hưng Đạo | AJ66: KV2 | AM66: Bình Thuận | AN66: Huyện Tuy Phong | AO66: 19C10151 | AP66: Đang học | AQ66: 1 | AR66: 19C1-TĐH1 | AS66: 21/05/2019 | AT66: 2019 | AU66: 2019 | AV66: Cao đẳng | AW66: Chính quy 2 năm | AX66: Khoa Điện - Điện tử | AY66: Công nghệ kỹ thuật điều khiển và tự động hóa | AZ66: Công nghệ kỹ thuật điều khiển và tự động hóa | BA66: Trường Cao đẳng Lý Tự Trọng TPHCM
A67: 62 | B67: 19000062 | C67: Lê Đăng | D67: Hoàng | E67: Nam | F67: 30/10/2001 | G67: Bình Phước | H67: Lê Đăng Phương | I67: Giáo viên | J67: 0974830844 | K67: Đào Đức Hạnh | L67: Nông dân | M67: 0868414948 | N67: 19T4-ĐĐT1 | O67: Bình Phước | P67: Kinh | R67: Tổ 1 - An Hòa - Thanh An - Hớn Quản - Bình Phước. | S67: 29/14 Đường B3, Phường Tây Thạnh, Quận Tân Phú, Tp.HCM | T67: 0346211309 | U67: 0974830844 | V67: 0868414948 | Y67: 285770292 | AJ67: KV1 | AM67: Bình Phước | AN67: Huyện Hớn Quản | AO67: 19T40065 | AP67: Đang học | AQ67: 1 | AR67: 19T4-ĐĐT1 | AS67: 22/05/2019 | AT67: 2019 | AU67: 2019 | AV67: Trung cấp | AW67: Chính quy 3 năm | AX67: Khoa Điện - Điện tử | AY67: Công nghệ kỹ thuật điện, điện tử | AZ67: Công nghệ kỹ thuật điện, điện tử | BA67: Trường Cao đẳng Lý Tự Trọng TPHCM
A68: 63 | B68: 19000063 | C68: Bùi Minh | D68: Tuấn | E68: Nam | F68: 09/04/2004 | G68: Tp. Hồ Chí Minh | K68: Huỳnh Thị Loan | M68: 0778957963 | N68: 19T4-ĐCN1 | O68: Tp. Hồ Chí Minh | P68: Kinh | R68: 377/43E, CMT8, Phường 13, Quận 10, Tp.HCM | S68: 377/43E, CMT8, Phường 13, Quận 10, Tp.HCM | T68: 01656417010 | Y68: 079204002825 | Z68: 09/07/2018 | AA68: CCS | AJ68: KV3 | AM68: Tp. Hồ Chí Minh | AN68: Quận 10 | AO68: 19T40491 | AP68: Đang học | AQ68: 1 | AR68: 19T4-ĐCN1 | AS68: 22/05/2019 | AT68: 2019 | AU68: 2019 | AV68: Trung cấp | AW68: Chính quy 3 năm | AX68: Khoa Điện - Điện tử | AY68: Điện công nghiệp | AZ68: Điện công nghiệp | BA68: Trường Cao đẳng Lý Tự Trọng TPHCM
A69: 64 | B69: 19000064 | C69: Xa Đồng | D69: Phúc | E69: Nam | F69: 09/10/2003 | G69: Quảng Ngãi | H69: Xa Đồng Phát | I69: Sữa xe | J69: 0936758958 | K69: Nguyễn Thị Phương | L69: Thợ may | M69: 0902280063 | N69: 19T4-CNÔ1 | O69: Quảng Ngãi | P69: Kinh | R69: 38/23 đường số 18 B; KP 10; phường Bình Hưng Hòa A; quận Bình Tân; Tp.Hồ Chí Minh | S69: 38/23 đường số 18 B; KP 10; phường Bình Hưng Hòa A; quận Bình Tân; Tp.Hồ Chí Minh | T69: 0936758958 | Y69: 051203000228 | Z69: 12/06/2018 | AA69: CA. Tp.HCM | AJ69: KV3 | AM69: Quảng Ngãi | AN69: Huyện Tư Nghĩa | AO69: 19T40045 | AP69: Đang học | AQ69: 1 | AR69: 19T4-CNÔ1 | AS69: 22/05/2019 | AT69: 2019 | AU69: 2019 | AV69: Trung cấp | AW69: Chính quy 3 năm | AX69: Khoa Động lực | AY69: Công nghệ ô tô | AZ69: Công nghệ ô tô | BA69: Trường Cao đẳng Lý Tự Trọng TPHCM
A70: 65 | B70: 19000065 | C70: Nguyễn Phú | D70: Huy | E70: Nam | F70: 27/07/2004 | G70: Tp. Hồ Chí Minh | N70: 19T4-QTM1 | P70: Kinh | R70: 309/31 Võ Văn Ngân , Linh Chiểu, Thủ Đức, | T70: 0938808366 | AJ70: KV3 | AM70: Tp. Hồ Chí Minh | AN70: Quận Thủ Đức | AO70: 19T40216 | AP70: Đang học | AQ70: 1 | AR70: 19T4-QTM1 | AS70: 22/05/2019 | AT70: 2019 | AU70: 2019 | AV70: Trung cấp | AW70: Chính quy 3 năm | AX70: Khoa Công nghệ Thông tin | AY70: Quản trị mạng máy tính | AZ70: Quản trị mạng máy tính | BA70: Trường Cao đẳng Lý Tự Trọng TPHCM
A71: 66 | B71: 19000066 | C71: Nguyễn Thanh | D71: Trung | E71: Nam | F71: 15/09/2004 | G71: Tp. Hồ Chí Minh | H71: Nguyễn Thanh Danh | K71: Lê Thị Kiều Nhi | M71: 0919990579 | N71: 19T4-LTM1 | O71: Phường 8, Quận Phú Nhuận, TPHCM | P71: Kinh | Q71: Không | R71: 234 Đường số 6, Phường 7, Gò Vấp,TPHCM | S71: 234 Đường số 6, Phường 7, Gò Vấp,TPHCM | T71: 0919990579 | X71: trungnguyen234gv@gmail.com | Y71: 083144000035 | Z71: 22/04/2019 | AA71: CATPHCM | AJ71: KV3 | AM71: Tp. Hồ Chí Minh | AN71: Quận Gò Vấp | AO71: 19T40500 | AP71: Đang học | AQ71: 1 | AR71: 19T4-LTM1 | AS71: 22/05/2019 | AT71: 2019 | AU71: 2019 | AV71: Trung cấp | AW71: Chính quy 3 năm | AX71: Khoa Công nghệ Thông tin | AY71: Lập trình máy tính | AZ71: Lập trình máy tính | BA71: Trường Cao đẳng Lý Tự Trọng TPHCM
A72: 67 | B72: 19000067 | C72: Trịnh Đức | D72: Anh | E72: Nam | F72: 26/02/2004 | G72: Thanh Hoá | H72: Trịnh Đình Phúc | I72: Kinh doanh BĐS | J72: 0988616433 | K72: Lường Thị Hồng | L72: Nội trợ | M72: 0964918276 | N72: 19T4-TKW1 | O72: Thanh Hoá | P72: Kinh | R72: Thôn Lam Vĩ, Xã Thiệu Vũ, Huyện Thiệu Hóa, Tỉnh Thanh Hóa | S72: 29/5Đ, Ấp Tẩy Lân, Xã Bà Điểm, Huyện Hóc Môn, Tp.HCM | T72: 0964918276 | Y72: 038204000096 | AJ72: KV3 | AM72: Thanh Hoá | AN72: Huyện Thiệu Hoá | AO72: 19T40482 | AP72: Đang học | AQ72: 1 | AR72: 19T4-TKW1 | AS72: 22/05/2019 | AT72: 2019 | AU72: 2019 | AV72: Trung cấp | AW72: Chính quy 3 năm | AX72: Khoa Công nghệ Thông tin | AY72: Thiết kế trang Web | AZ72: Thiết kế trang Web | BA72: Trường Cao đẳng Lý Tự Trọng TPHCM
A73: 68 | B73: 19000068 | C73: Nguyễn Phương | D73: Nam | E73: Nam | F73: 22/09/2004 | G73: Tp. Hồ Chí Minh | H73: Nguyễn Hồng Phương | I73: Lái xe | J73: 0981806689 | K73: Nguyễn Thị Vân | L73: Kế toán | M73: 0962485759 | N73: 19T4-ĐCN1 | O73: Tp. Hồ Chí Minh | P73: Kinh | Q73: Không | R73: Tổ 5, Khu 12, Long Đức, Long Thành, Đồng Nai | S73: 61/33 Phạm Văn Chiêu, Phường 14, Quận Gò Vấp, Tp.HCM | T73: 0962485759 | Y73: 0983011427 | Z73: 23/05/2019 | AA73: Thành phố Hồ Chỉ Minh | AJ73: KV3 | AM73: Tp. Hồ Chí Minh | AN73: Huyện Hóc Môn | AO73: 19T40199 | AP73: Đang học | AQ73: 1 | AR73: 19T4-ĐCN1 | AS73: 22/05/2019 | AT73: 2019 | AU73: 2019 | AV73: Trung cấp | AW73: Chính quy 3 năm | AX73: Khoa Điện - Điện tử | AY73: Điện công nghiệp | AZ73: Điện công nghiệp | BA73: Trường Cao đẳng Lý Tự Trọng TPHCM
A74: 69 | B74: 19000069 | C74: Phùng Minh | D74: Nhật | E74: Nam | F74: 22/08/2004 | G74: Tp. Hồ Chí Minh | H74: Phùng Hữu Tiến | I74: Giáo viên | K74: Lê Thị Kim Thu | L74: Buôn bán | N74: 19T4-KML1 | O74: Tp. Hồ Chí Minh | P74: Kinh | Q74: Công Giáo | R74: 196/14 Nguyễn Thượng Hiền, phường 5, Quận Phú Nhuân, Tp.HCM | S74: 196/14 Nguyễn Thượng Hiền, phường 5, Quận Phú Nhuân, Tp.HCM | T74: 0918255442 | U74: 0918255442 | V74: 0938339690 | Y74: 077204000679 | Z74: 28/09/2018 | AA74: CUC CANH SAT | AJ74: KV3 | AM74: Tp. Hồ Chí Minh | AN74: Quận Phú Nhuận | AO74: 19T40503 | AP74: Đang học | AQ74: 1 | AR74: 19T4-KML1 | AS74: 22/05/2019 | AT74: 2019 | AU74: 2019 | AV74: Trung cấp | AW74: Chính quy 3 năm | AX74: Khoa Nhiệt – Lạnh | AY74: Kỹ thuật máy lạnh và điều hòa không khí | AZ74: Kỹ thuật máy lạnh và điều hòa không khí | BA74: Trường Cao đẳng Lý Tự Trọng TPHCM
A75: 70 | B75: 19000070 | C75: Nguyễn Hùng | D75: Mạnh | E75: Nam | F75: 01/08/2004 | G75: Tp. Hồ Chí Minh | H75: Nguyễn Văn Hùng | I75: Công Nhân | J75: 0908925350 | K75: Huỳnh Thị Thanh | L75: Nội trợ | M75: 0968319901 | N75: 19T4-CNÔ1 | O75: Hoài Xuân, Hoài Nhơn, Bình Đinh | P75: Kinh | Q75: Không | R75: 72/2A, Tổ 66B, Khu Phố 6, PTTN, Q.12, TPHCM | S75: 72/2A, Tổ 66B, Khu Phố 6, PTTN, Q.12, TPHCM | T75: 0908925350 | Y75: 19000070 | Z75: 22/05/2019 | AA75: TCĐLTT | AJ75: KV3 | AM75: Tp. Hồ Chí Minh | AN75: Quận 12 | AO75: 19T40241 | AP75: Đang học | AQ75: 1 | AR75: 19T4-CNÔ1 | AS75: 22/05/2019 | AT75: 2019 | AU75: 2019 | AV75: Trung cấp | AW75: Chính quy 3 năm | AX75: Khoa Động lực | AY75: Công nghệ ô tô | AZ75: Công nghệ ô tô | BA75: Trường Cao đẳng Lý Tự Trọng TPHCM
A76: 71 | B76: 19000071 | C76: Nguyễn Tấn | D76: Thịnh | E76: Nam | F76: 13/10/2004 | G76: Tp. Hồ Chí Minh | H76: Nguyễn Tấn Hưng | I76: Tài xế | J76: 0914749804 | K76: Võ Thị Công Lập | L76: Nội trợ | N76: 19T4-CNÔ1 | O76: Tp. Hồ Chí Minh | P76: Kinh | R76: 1057 Nguyễn Ảnh Thủ F Tân Chính Hiệp Q12 | S76: 90A Phan Đăng Lưu, Phường 5, Quận Phú Nhuận, Tp.HCM | T76: 0913749804 | AJ76: KV3 | AM76: Tp. Hồ Chí Minh | AN76: Quận Phú Nhuận | AO76: 19T40281 | AP76: Đang học | AQ76: 1 | AR76: 19T4-CNÔ1 | AS76: 22/05/2019 | AT76: 2019 | AU76: 2019 | AV76: Trung cấp | AW76: Chính quy 3 năm | AX76: Khoa Động lực | AY76: Công nghệ ô tô | AZ76: Công nghệ ô tô | BA76: Trường Cao đẳng Lý Tự Trọng TPHCM
A77: 72 | B77: 19000072 | C77: Nguyễn Hoàng | D77: Kha | E77: Nam | F77: 28/09/2004 | G77: Tp. Hồ Chí Minh | H77: Nguyễn Hoàng Tùng | I77: Tài Xế | K77: Nguyễn Thị Cẩm | L77: Nội trợ | N77: 19T4-CCK1 | O77: Tp. Hồ Chí Minh | P77: Kinh | Q77: Không | R77: 231/57/70 Bình Tiên, Phường 8, Quận 6, TPHCM | S77: 231/57/70 Bình Tiên, Phường 8, Quận 6, TPHCM | T77: 0933312242 | U77: 0938486242 | X77: nguyenhoangkha2809@gmail.com | Y77: 079204013234 | Z77: 19/02/2019 | AA77: CA. TpHCM | AJ77: KV3 | AM77: Tp. Hồ Chí Minh | AN77: Quận 6 | AO77: 19T40149 | AP77: Đang học | AQ77: 1 | AR77: 19T4-CCK1 | AS77: 22/05/2019 | AT77: 2019 | AU77: 2019 | AV77: Trung cấp | AW77: Chính quy 3 năm | AX77: Khoa Cơ khí | AY77: Công nghệ kỹ thuật cơ khí | AZ77: Công nghệ kỹ thuật cơ khí | BA77: Trường Cao đẳng Lý Tự Trọng TPHCM
A78: 73 | B78: 19000073 | C78: Nguyễn Tuấn | D78: Thành | E78: Nam | F78: 15/04/2004 | G78: Tp. Hồ Chí Minh | H78: Nguyễn Văn Hòa | I78: Thêu vi tính | J78: 0986446119 | K78: Bùi Thị Hương | L78: Thêu vi tính | M78: 0988449119 | N78: 19T4-CNÔ1 | O78: Tp. Hồ Chí Minh | P78: Kinh | Q78: Không | R78: xã Tiên Lương, huyện Cẩm Khê, tỉnh Phú Thọ | S78: 688/19 Đường Tân Kỳ Tân Qúi, Phường Bình Hưng Hòa, Quận Bình Tân, Tp.HCM | T78: 0986449119 | Y78: 132453895 | Z78: 05/06/2018 | AA78: Phú Thọ | AJ78: KV3 | AM78: Tp. Hồ Chí Minh | AN78: Quận Bình Tân | AO78: 19T40158 | AP78: Đang học | AQ78: 1 | AR78: 19T4-CNÔ1 | AS78: 23/05/2019 | AT78: 2019 | AU78: 2019 | AV78: Trung cấp | AW78: Chính quy 3 năm | AX78: Khoa Động lực | AY78: Công nghệ ô tô | AZ78: Công nghệ ô tô | BA78: Trường Cao đẳng Lý Tự Trọng TPHCM
A79: 74 | B79: 19000074 | C79: Võ Lân Đông | D79: Trúc | E79: Nam | F79: 21/10/2004 | G79: Tp. Hồ Chí Minh | N79: 19T4-CNÔ1 | P79: Kinh | R79: 46 Hoàng Văn Hòe, P.Tân Quý, Q.Tân Phú, TpHCM | T79: 0974765030 | AJ79: KV3 | AM79: Tp. Hồ Chí Minh | AN79: Quận Tân Phú | AO79: 19T40214 | AP79: Đang học | AQ79: 1 | AR79: 19T4-CNÔ1 | AS79: 23/05/2019 | AT79: 2019 | AU79: 2019 | AV79: Trung cấp | AW79: Chính quy 3 năm | AX79: Khoa Động lực | AY79: Công nghệ ô tô | AZ79: Công nghệ ô tô | BA79: Trường Cao đẳng Lý Tự Trọng TPHCM
A80: 75 | B80: 19000075
A81: 76 | B81: 19000076 | C81: Nguyễn Thái Trung | D81: Nguyên | E81: Nam | F81: 16/01/2000 | G81: Tp. Hồ Chí Minh | H81: Nguyễn Quốc Hùng | K81: Thái Thị Mỹ Nga | M81: 0938945853 | N81: 19C1-CNÔ1 | O81: Tp. Hồ Chí Minh | P81: Kinh | Q81: Không | R81: 23/2 Đặng Văn Ngữ, phường 10, quận Phú Nhuận, Tp.HCM | S81: 80/9 Huỳnh Văn Nghệ, Phường 15, Quận Tân Bình, Tp.HCM | T81: 0707271375 | U81: 0938945853 | X81: nguyenthaitrungnguyen171@gmail.com | Y81: 026090761 | Z81: 24/10/2015 | AA81: CA. Tp.HCM | AE81: THCS và THPT Đăng Khoa | AJ81: KV3 | AM81: Tp. Hồ Chí Minh | AN81: Quận Phú Nhuận | AO81: 19C10533 | AP81: Đang học | AQ81: 1 | AR81: 19C1-CNÔ1 | AS81: 23/05/2019 | AT81: 2019 | AU81: 2019 | AV81: Cao đẳng | AW81: Chính quy 2 năm | AX81: Khoa Động lực | AY81: Công nghệ ô tô | AZ81: Công nghệ ô tô | BA81: Trường Cao đẳng Lý Tự Trọng TPHCM
A82: 77 | B82: 19000077 | C82: Trần Nhật | D82: Quang | E82: Nam | F82: 14/07/2004 | G82: Đồng Nai | K82: Quách Thị Thúy Nga | L82: Thợ tóc | M82: 0985487168 | N82: 19T4-NNA1 | O82: Đồng Nai | P82: Kinh | R82: Xã Bắc Sơn, Trảng Bom, Đồng Nai | S82: Xã Bắc Sơn, Trảng Bom, Đồng Nai | T82: 0985487168 | Y82: 2760181480 | Z82: 26/03/2019 | AA82: Đồng Nai | AJ82: KV1 | AM82: Đồng Nai | AN82: Huyện Trảng Bom | AO82: 19T40324 | AP82: Đang học | AQ82: 1 | AR82: 19T4-NNA1 | AS82: 23/05/2019 | AT82: 2019 | AU82: 2019 | AV82: Trung cấp | AW82: Chính quy 3 năm | AX82: Khoa Khoa học cơ bản | AY82: Tiếng Anh | AZ82: Tiếng Anh | BA82: Trường Cao đẳng Lý Tự Trọng TPHCM
A83: 78 | B83: 19000078 | C83: Lưu Dân | D83: Hiếu | E83: Nam | F83: 17/12/2002 | G83: Tp. Hồ Chí Minh | N83: 19T4-CCK1 | P83: Kinh | R83: 10/23B Cống Lỡ, Phường 15, QuậnTân Bình, TPHCM | T83: 0707197573 | Y83: 0792020292839 | AJ83: KV3 | AM83: Tp. Hồ Chí Minh | AN83: Quận Tân Bình | AO83: 19T40397 | AP83: Đang học | AQ83: 1 | AR83: 19T4-CCK1 | AS83: 23/05/2019 | AT83: 2019 | AU83: 2019 | AV83: Trung cấp | AW83: Chính quy 3 năm | AX83: Khoa Cơ khí | AY83: Công nghệ kỹ thuật cơ khí | AZ83: Công nghệ kỹ thuật cơ khí | BA83: Trường Cao đẳng Lý Tự Trọng TPHCM
A84: 79 | B84: 19000079 | C84: Nguyễn Nhật | D84: Quang | E84: Nam | F84: 10/08/2001 | G84: Bến Tre | N84: 19C1-CNÔ1 | P84: Kinh | R84: 135 ấp Tân Mỹ, xã Tân Bình, Mỏ Cày Bắc, tỉnh Bến Tre | T84: 0382045991 | Y84: 321766622 | AE84: THPT Quản Trọng Hoàng | AJ84: KV2-NT | AM84: Bến Tre | AN84: Huyện Mỏ Cày Bắc | AO84: 19C10530 | AP84: Đang học | AQ84: 1 | AR84: 19C1-CNÔ1 | AS84: 23/05/2019 | AT84: 2019 | AU84: 2019 | AV84: Cao đẳng | AW84: Chính quy 2 năm | AX84: Khoa Động lực | AY84: Công nghệ ô tô | AZ84: Công nghệ ô tô | BA84: Trường Cao đẳng Lý Tự Trọng TPHCM
A85: 80 | B85: 19000080 | C85: Vũ Quang | D85: Cường | E85: Nam | F85: 23/11/2003 | G85: Tp. Hồ Chí Minh | H85: Vũ Quang Mạnh | I85: Tài xế | J85: 0919127209 | K85: Lê Thị Hà | L85: Thợ May | M85: 0986108309 | N85: 19T4-CNÔ1 | O85: Tp. Hồ Chí Minh | P85: Kinh | R85: Thôn Bến, Xã Thanh Thuỷ, Huyện Thanh Liêm, Tỉnh Hà Nam | S85: 32/23/5 Liên Khu 4-5, Phường Bình Hưng Hòa B, Quận Tân Bình, Tp.HCM | T85: 0986108309 | Y85: 035203000671 | Z85: 18/07/2018 | AA85: CA.Hà Nam | AJ85: KV3 | AM85: Tp. Hồ Chí Minh | AN85: Quận Bình Tân | AO85: 19T40383 | AP85: Đang học | AQ85: 1 | AR85: 19T4-CNÔ1 | AS85: 23/05/2019 | AT85: 2019 | AU85: 2019 | AV85: Trung cấp | AW85: Chính quy 3 năm | AX85: Khoa Động lực | AY85: Công nghệ ô tô | AZ85: Công nghệ ô tô | BA85: Trường Cao đẳng Lý Tự Trọng TPHCM
A86: 81 | B86: 19000081 | C86: Nguyễn Hùng | D86: Cường | E86: Nam | F86: 30/10/2004 | G86: Tp. Hồ Chí Minh | H86: Nguyễn Hùng Ân | I86: Nhân viên | J86: 0908932202 | K86: Phan Thị Phương Thảo | L86: Nhân viên | M86: 0899463524 | N86: 19T4-LĐL1 | O86: Tp. Hồ Chí Minh | P86: Kinh | R86: 326 Phạm Văn Bạch, Phường 15, Quận Tân Bình, TPHCM | S86: 326 Phạm Văn Bạch, Phường 15, Quận Tân Bình, TPHCM | T86: 0908932202 | U86: 0899463524 | AJ86: KV3 | AM86: Tp. Hồ Chí Minh | AN86: Quận Tân Bình | AO86: 19T40329 | AP86: Đang học | AQ86: 1 | AR86: 19T4-LĐL1 | AS86: 23/05/2019 | AT86: 2019 | AU86: 2019 | AV86: Trung cấp | AW86: Chính quy 3 năm | AX86: Khoa Nhiệt – Lạnh | AY86: Lắp đặt thiết bị lạnh | AZ86: Lắp đặt thiết bị lạnh | BA86: Trường Cao đẳng Lý Tự Trọng TPHCM
A87: 82 | B87: 19000082 | C87: Nguyễn Cảnh | D87: Long | E87: Nam | F87: 05/12/2004 | G87: Tp. Hồ Chí Minh | H87: Nguyễn Cảnh Linh | J87: 0902151398 | K87: Nguyễn Thị Tuyết Mai | M87: 0905197938 | N87: 19T4-CNÔ1 | O87: Tp. Hồ Chí Minh | P87: Kinh | R87: 87/27 Nguyễn Đình Chính, P15, Quận Phú Nhuận TPHCM | S87: 87/27 Nguyễn Đình Chính, P15, Quận Phú Nhuận TPHCM | T87: 0902515298 | AJ87: KV3 | AM87: Tp. Hồ Chí Minh | AN87: Quận Phú Nhuận | AO87: 19T40264 | AP87: Đang học | AQ87: 1 | AR87: 19T4-CNÔ1 | AS87: 23/05/2019 | AT87: 2019 | AU87: 2019 | AV87: Trung cấp | AW87: Chính quy 3 năm | AX87: Khoa Động lực | AY87: Công nghệ ô tô | AZ87: Công nghệ ô tô | BA87: Trường Cao đẳng Lý Tự Trọng TPHCM
A88: 83 | B88: 19000083 | C88: Trần Trọng | D88: Thoại | E88: Nam | F88: 24/06/1997 | G88: Tây Ninh | K88: Trần Văn Tiệp | L88: Làm ruộng | M88: 0975753478 | N88: 19C1-CNÔ1 | O88: Tây Ninh | P88: Kinh | Q88: Không | R88: Số 6, ấp thuận chánh, xã lợi thuận, huyện bến cầu, tỉnh tây ninh | S88: Số 6, ấp thuận chánh, xã lợi thuận, huyện bến cầu, tỉnh tây ninh | T88: 0911429978 | U88: 0975753478 | V88: 01254535398 | Y88: 291154521 | Z88: 31/05/2012 | AA88: Công an tây ninh | AB88: 26/03/2014 | AC88: 22/02/2019 | AE88: THPT Nguyễn Huệ | AJ88: KV1 | AM88: Tây Ninh | AN88: Huyện Bến Cầu | AO88: 19C10304 | AP88: Đang học | AQ88: 1 | AR88: 19C1-CNÔ1 | AS88: 23/05/2019 | AT88: 2019 | AU88: 2019 | AV88: Cao đẳng | AW88: Chính quy 2 năm | AX88: Khoa Động lực | AY88: Công nghệ ô tô | AZ88: Công nghệ ô tô | BA88: Trường Cao đẳng Lý Tự Trọng TPHCM
A89: 84 | B89: 19000084 | C89: Lê Bảo | D89: Lộc | E89: Nam | F89: 27/01/1997 | G89: Tây Ninh | H89: Lê Tuấn Thành | I89: Làm nông | J89: 0984642336 | K89: Võ Thị Ngọc Loan | L89: Làm Nông | M89: 0383807774 | N89: 19C1-CNÔ1 | O89: Tây Ninh | P89: Kinh | Q89: Không | R89: 476,781, Phước Tân1, xã Phan, huyện Dương Minh Châu, tỉnh Tây Ninh | S89: 476,781,Phước Tân1,xã phan, Dương Minh Châu,Tây Ninh | T89: 0353153745 | X89: lebaoloc483@gmail.com | Y89: 072097002169 | Z89: 17/05/2017 | AA89: Cục trưởng cục cảnh sát DKQL cư trú vàDLQG về dân cư | AB89: 20/10/2012 | AE89: THPT Dương Minh Châu | AJ89: KV2-NT | AM89: Tây Ninh | AN89: Huyện Dương Minh Châu | AO89: 19C10315 | AP89: Đang học | AQ89: 1 | AR89: 19C1-CNÔ1 | AS89: 23/05/2019 | AT89: 2019 | AU89: 2019 | AV89: Cao đẳng | AW89: Chính quy 2 năm | AX89: Khoa Động lực | AY89: Công nghệ ô tô | AZ89: Công nghệ ô tô | BA89: Trường Cao đẳng Lý Tự Trọng TPHCM
A90: 85 | B90: 19000085 | C90: Huỳnh Thanh | D90: Tuấn | E90: Nam | F90: 02/04/2004 | G90: Tp. Hồ Chí Minh | H90: Huỳnh Thanh Tùng | I90: Thợ Hồ | J90: 0778875610 | K90: Trần Thị Thùy Dung | L90: Buôn bán | M90: 0869024942 | N90: 19T4-LTM1 | O90: Tp. Hồ Chí Minh | P90: Kinh | R90: 114/38/2 Phạm Văn Chiêu, phường 9, Gò Vấp, TPHCM | S90: 114/38/2 Phạm Văn Chiêu, phường 9, Gò Vấp, TPHCM | T90: 0869024942 | AJ90: KV3 | AM90: Tp. Hồ Chí Minh | AN90: Quận Gò Vấp | AO90: 19T40469 | AP90: Đang học | AQ90: 1 | AR90: 19T4-LTM1 | AS90: 23/05/2019 | AT90: 2019 | AU90: 2019 | AV90: Trung cấp | AW90: Chính quy 3 năm | AX90: Khoa Công nghệ Thông tin | AY90: Lập trình máy tính | AZ90: Lập trình máy tính | BA90: Trường Cao đẳng Lý Tự Trọng TPHCM
A91: 86 | B91: 19000086 | C91: Giang Lê Đức | D91: Tâm | E91: Nam | F91: 07/07/2004 | G91: Tp. Hồ Chí Minh | H91: Giang Đức Thịnh | I91: Xây dựng | J91: 0902705262 | K91: Lê Thị Kim Điền | L91: Nội trợ | M91: 0939763932 | N91: 19T4-CNÔ1 | O91: Tp. Hồ Chí Minh | P91: Kinh | Q91: Phật Giáo | R91: 453 Lê Văn Sĩ, phường 2, quận Tân Bình, Tp.HCM | S91: 453 Lê văn sĩ phường 2 quận Tân Bình | T91: 0902705262 | U91: 0939763932 | X91: giangtam4003@gmail.com | Y91: 079204003088 | Z91: 12/07/2018 | AA91: cục trưởng cục cảnh sát | AJ91: KV3 | AM91: Tp. Hồ Chí Minh | AN91: Quận Tân Bình | AO91: 19T40541 | AP91: Đang học | AQ91: 1 | AR91: 19T4-CNÔ1 | AS91: 23/05/2019 | AT91: 2019 | AU91: 2019 | AV91: Trung cấp | AW91: Chính quy 3 năm | AX91: Khoa Động lực | AY91: Công nghệ ô tô | AZ91: Công nghệ ô tô | BA91: Trường Cao đẳng Lý Tự Trọng TPHCM
A92: 87 | B92: 19000087 | C92: Trần Kim | D92: Bảo | E92: Nam | F92: 18/07/2004 | G92: Tp. Hồ Chí Minh | H92: Trần Hồng Ngự | K92: Huỳnh Thị Kim Hồng | L92: Nội trợ | M92: 0782117125 | N92: 19T4-CNÔ1 | O92: Tp. Hồ Chí Minh | P92: Kinh | R92: 362/25/11 Phan Huy Ích, phường 12 | S92: 2-9 Phan Huy Ích, Phường 12, Quận Gò Vấp, Tp.HCM | T92: 0782117125 | Y92: 079204014928 | AJ92: KV3 | AM92: Tp. Hồ Chí Minh | AN92: Quận Gò Vấp | AO92: 19T40509 | AP92: Đang học | AQ92: 1 | AR92: 19T4-CNÔ1 | AS92: 23/05/2019 | AT92: 2019 | AU92: 2019 | AV92: Trung cấp | AW92: Chính quy 3 năm | AX92: Khoa Động lực | AY92: Công nghệ ô tô | AZ92: Công nghệ ô tô | BA92: Trường Cao đẳng Lý Tự Trọng TPHCM
A93: 88 | B93: 19000088 | C93: Lê Hoàng | D93: Phước | E93: Nam | F93: 17/11/2004 | G93: Tp. Hồ Chí Minh | H93: Lê Danh Quyết | J93: 0933427005 | K93: Nguyễn Thị Mát | L93: Thợ máy | M93: 0344391035 | N93: 19T4-LTM1 | O93: Tp. Hồ Chí Minh | P93: Kinh | R93: 237/18 Trần Văn Đang, phường 11, quận 3, Tp.HCM | S93: 237/18 Trần Văn Đang, phường 11, quận 3, Tp.HCM | T93: 0327686133 | U93: 0933427005 | V93: 0344391035 | Y93: 079204009790 | Z93: 17/12/2018 | AA93: CA. Tp.HCM | AJ93: KV3 | AM93: Tp. Hồ Chí Minh | AN93: Quận 3 | AO93: 19T40537 | AP93: Đang học | AQ93: 1 | AR93: 19T4-LTM1 | AS93: 23/05/2019 | AT93: 2019 | AU93: 2019 | AV93: Trung cấp | AW93: Chính quy 3 năm | AX93: Khoa Công nghệ Thông tin | AY93: Lập trình máy tính | AZ93: Lập trình máy tính | BA93: Trường Cao đẳng Lý Tự Trọng TPHCM
A94: 89 | B94: 19000089 | C94: Vũ Hoàng | D94: Đạo | E94: Nam | F94: 22/10/2002 | G94: Tp. Hồ Chí Minh | N94: 19T4-KML1 | O94: binh chuan, thuan an, binh duong | P94: Kinh | Q94: Công Giáo | R94: 159/90/59 Trần Văn Đang, phường 11 | S94: 159/90/59 tran van dang phuong 11 quan 3 TP HCM | T94: 0988547860 | Y94: 074202000165 | Z94: 02/01/2019 | AA94: cong an Q3 TP HCM | AJ94: KV3 | AM94: Tp. Hồ Chí Minh | AN94: Quận 3 | AO94: 19T40384 | AP94: Đang học | AQ94: 1 | AR94: 19T4-KML1 | AS94: 23/05/2019 | AT94: 2019 | AU94: 2019 | AV94: Trung cấp | AW94: Chính quy 3 năm | AX94: Khoa Nhiệt – Lạnh | AY94: Kỹ thuật máy lạnh và điều hòa không khí | AZ94: Kỹ thuật máy lạnh và điều hòa không khí | BA94: Trường Cao đẳng Lý Tự Trọng TPHCM
A95: 90 | B95: 19000090 | C95: Nguyễn Trần Đức | D95: Duy | E95: Nam | F95: 11/01/2004 | G95: Tp. Hồ Chí Minh | H95: Nguyễn Đức Lợi | I95: Thợ Điện | J95: 0919690654 | K95: Trần Thị Thuận | L95: Nội Trợ | M95: 0906943597 | N95: 19T4-ANM1 | O95: Tp. Hồ Chí Minh | P95: Kinh | R95: 190a Đỗ Bí, phường Phú Thạnh, quận Tân Phú | S95: 190a Đỗ Bí, phường Phú Thạnh, quận Tân Phú, Tp.HCM | T95: 0906943597 | U95: 0919690654 | Y95: 0793204000057 | Z95: 31/01/2018 | AA95: CA. Tp.HCM | AJ95: KV3 | AM95: Tp. Hồ Chí Minh | AN95: Quận Tân Phú | AO95: 19T40447 | AP95: Đang học | AQ95: 1 | AR95: 19T4-ANM1 | AS95: 23/05/2019 | AT95: 2019 | AU95: 2019 | AV95: Trung cấp | AW95: Chính quy 3 năm | AX95: Khoa Công nghệ Thông tin | AY95: An ninh mạng | AZ95: An ninh mạng | BA95: Trường Cao đẳng Lý Tự Trọng TPHCM
A96: 91 | B96: 19000091 | C96: Lý Ngô Bảo | D96: Nguyên | E96: Nữ | F96: 04/10/2004 | G96: Tp. Hồ Chí Minh | H96: Ngô Bil | I96: Tự do | J96: 03711836 | K96: Lý Hòa Sinh | L96: Nội Trợ | M96: 0369210636 | N96: 19T4-THU1 | O96: Tp. Hồ Chí Minh | P96: Kinh | Q96: Không | R96: 528/5/44 Điện Biên Phủ p.11 q.10 tp HCM | S96: 120/6/2A Cống Lỡ, Phường 15, Quận Tân Bình, Tp.HCM | T96: 0375111836 | X96: baonguyenk89371@gmail.com | Y96: 079304007824 | Z96: 14/11/2018 | AA96: CÔNG AN QUẬN 10 | AJ96: KV3 | AM96: Tp. Hồ Chí Minh | AN96: Quận 10 | AO96: 19T40320 | AP96: Đang học | AQ96: 1 | AR96: 19T4-THU1 | AS96: 24/05/2019 | AT96: 2019 | AU96: 2019 | AV96: Trung cấp | AW96: Chính quy 3 năm | AX96: Khoa Công nghệ Thông tin | AY96: Tin học ứng dụng | AZ96: Tin học ứng dụng | BA96: Trường Cao đẳng Lý Tự Trọng TPHCM
A97: 92 | B97: 19000092 | C97: Nguyễn Bá Duy | D97: Thành | E97: Nam | F97: 28/09/2004 | G97: Tp. Hồ Chí Minh | N97: 19T4-VSL1 | P97: Kinh | R97: 9/12 Đường số 7, Cư xá Đô Thành, Phường 4, Quận 3, Tp.HCM | T97: 0904788095 | AJ97: KV3 | AM97: Tp. Hồ Chí Minh | AN97: Quận 3 | AO97: 19T40551 | AP97: Đang học | AQ97: 1 | AR97: 19T4-VSL1 | AS97: 24/05/2019 | AT97: 2019 | AU97: 2019 | AV97: Trung cấp | AW97: Chính quy 3 năm | AX97: Khoa Nhiệt – Lạnh | AY97: Vận hành, sửa chữa thiết bị lạnh | AZ97: Vận hành, sửa chữa thiết bị lạnh | BA97: Trường Cao đẳng Lý Tự Trọng TPHCM
A98: 93 | B98: 19000093 | C98: Trần Trí | D98: Lực | E98: Nam | F98: 25/12/2004 | G98: Tp. Hồ Chí Minh | H98: Trần Đình Đại | I98: Công nhân | J98: 0934106596 | K98: La Kim Hạnh | L98: Buôn bán | M98: 0376857527 | N98: 19T4-CNÔ1 | O98: Tp. Hồ Chí Minh | P98: Kinh | R98: 29 Nguyễn Định Chính p.15 q.Phú Nhuận | S98: 23/25 Nguyễn Đình Chính, Phường 15, Quận Phú Nhuận, Tp.HCM | T98: 0934106596 | AJ98: KV3 | AM98: Tp. Hồ Chí Minh | AN98: Quận Phú Nhuận | AO98: 19T40223 | AP98: Đang học | AQ98: 1 | AR98: 19T4-CNÔ1 | AS98: 24/05/2019 | AT98: 2019 | AU98: 2019 | AV98: Trung cấp | AW98: Chính quy 3 năm | AX98: Khoa Động lực | AY98: Công nghệ ô tô | AZ98: Công nghệ ô tô | BA98: Trường Cao đẳng Lý Tự Trọng TPHCM
A99: 94 | B99: 19000094 | C99: Nguyễn Ngọc Hoàng | D99: An | E99: Nữ | F99: 08/04/2004 | G99: Tp. Hồ Chí Minh | H99: Nguyễn Minh Hoàng | I99: Hưu trí | J99: 0907126019 | K99: Thiện Lê Hương | L99: Nội trợ | M99: 0938192619 | N99: 19T4-LTM1 | O99: Tp. Hồ Chí Minh | P99: Kinh | Q99: Không | R99: 487A Âu Cơ, phường 10, Quận Tân Bình, Tp. Hồ Chí Minh | S99: 487A Âu Cơ, phường 10, Quận Tân Bình, Tp. Hồ Chí Minh | T99: 0938192619 | U99: 0907126019 | V99: 0938192619 | X99: bhtt8469@gmail.com | Y99: 079304018860 | Z99: 21/05/2019 | AA99: cuc truong cuc canh sat TP HCM | AM99: Tp. Hồ Chí Minh | AN99: Quận Tân Bình | AO99: 19T40394 | AP99: Đang học | AQ99: 1 | AR99: 19T4-LTM1 | AS99: 24/05/2019 | AT99: 2019 | AU99: 2019 | AV99: Trung cấp | AW99: Chính quy 3 năm | AX99: Khoa Công nghệ Thông tin | AY99: Lập trình máy tính | AZ99: Lập trình máy tính | BA99: Trường Cao đẳng Lý Tự Trọng TPHCM
A100: 95 | B100: 19000095 | C100: Nguyễn Ngọc Hoàng | D100: Ân | E100: Nữ | F100: 08/04/2004 | G100: Tp. Hồ Chí Minh | H100: Nguyễn Minh Hoàng | I100: Hưu trí | J100: 0907126019 | K100: Thiên Lệ Hương | M100: 0938192619 | N100: 19T4-LTM1 | O100: Tp. Hồ Chí Minh | P100: Kinh | Q100: Không | R100: 487A Âu Cơ, phường 10, Quận Tân Bình, Tp. Hồ Chí Minh | S100: 487A Âu Cơ, phường 10, Quận Tân Bình, Tp. Hồ Chí Minh | T100: 0938192619 | X100: bhtt8469@gmail.com | Y100: 079304018861 | Z100: 21/06/2019 | AA100: cuc truong cuc canh sat TP HCM | AM100: Tp. Hồ Chí Minh | AN100: Quận Tân Bình | AO100: 19T40395 | AP100: Đang học | AQ100: 1 | AR100: 19T4-LTM1 | AS100: 24/05/2019 | AT100: 2019 | AU100: 2019 | AV100: Trung cấp | AW100: Chính quy 3 năm | AX100: Khoa Công nghệ Thông tin | AY100: Lập trình máy tính | AZ100: Lập trình máy tính | BA100: Trường Cao đẳng Lý Tự Trọng TPHCM
A101: 96 | B101: 19000096 | C101: Trương Hữu | D101: Thiên | E101: Nam | F101: 08/08/2003 | G101: Tp. Hồ Chí Minh | H101: Trương Quang Tùng | I101: Tài xế | K101: Phạm Thị Tranh | N101: 19T4-CNÔ2 | O101: Tp. Hồ Chí Minh | P101: Kinh | R101: 18/84 bis Trần Quang Diện, phường 14, quận 3, TP.HCM | S101: 18/84 bis Trần Quang Diện, phường 14, quận 3, TP.HCM | T101: 0903065868 | U101: 0989772896 | AJ101: KV3 | AM101: Tp. Hồ Chí Minh | AN101: Quận 3 | AO101: 19T40554 | AP101: Đang học | AQ101: 1 | AR101: 19T4-CNÔ2 | AS101: 24/05/2019 | AT101: 2019 | AU101: 2019 | AV101: Trung cấp | AW101: Chính quy 3 năm | AX101: Khoa Động lực | AY101: Công nghệ ô tô | AZ101: Công nghệ ô tô | BA101: Trường Cao đẳng Lý Tự Trọng TPHCM
A102: 97 | B102: 19000097 | C102: Nguyễn Thế | D102: Bảo | E102: Nam | F102: 01/01/2003 | G102: Tp. Hồ Chí Minh | H102: Nguyễn Thế Cường | I102: Kinh doanh | J102: 0906364630 | K102: Nguyễn Thị Thụy Anh | L102: Kinh doanh | M102: 0989072029 | N102: 19T4-CNÔ1 | O102: Tp. Hồ Chí Minh | P102: Kinh | R102: 127/21 Ba Vân, phường 14, quận Tân Bình, Tp.HCM | S102: 127/21 Ba Vân, phường 14, quận Tân Bình, Tp.HCM | T102: 0989072029 | U102: 0906364630 | V102: 0989072029 | Y102: 079203017623 | Z102: 16/05/2018 | AA102: CCSĐKQLDC | AJ102: KV3 | AM102: Tp. Hồ Chí Minh | AN102: Quận Tân Bình | AO102: 19T40534 | AP102: Đang học | AQ102: 1 | AR102: 19T4-CNÔ1 | AS102: 24/05/2019 | AT102: 2019 | AU102: 2019 | AV102: Trung cấp | AW102: Chính quy 3 năm | AX102: Khoa Động lực | AY102: Công nghệ ô tô | AZ102: Công nghệ ô tô | BA102: Trường Cao đẳng Lý Tự Trọng TPHCM
A103: 98 | B103: 19000098 | C103: Trịnh Tấn | D103: An | E103: Nam | F103: 04/03/1995 | G103: Tây Ninh | H103: Trịnh Văn Chính | I103: Buôn bán | J103: 0903800670 | K103: Võ Ngọc Khâm | L103: Buôn bán | N103: 19C1-ĐCN1 | O103: Tây Ninh | P103: Kinh | Q103: Không | R103: Số 44, đường 782, ấp Lộc Khê , xã Gia Lộc, huyện Trảng Bàng, tỉnh Tây Ninh | S103: Số 44,đường 782,ấp Lộc Khê, Xã Gia Lộc,huyện Trảng Bàng,tỉnh Tây Ninh | T103: 0393909615 | X103: an.trinh.9615@gmail.com | Y103: 072095002288 | Z103: 12/06/2017 | AA103: Cục cảnh sát | AB103: 26/03/2012 | AC103: 25/01/2019 | AE103: THPT Trảng Bàng | AJ103: KV2-NT | AM103: Tây Ninh | AN103: Huyện Trảng Bàng | AO103: 19C10047 | AP103: Đang học | AQ103: 1 | AR103: 19C1-ĐCN1 | AS103: 24/05/2019 | AT103: 2019 | AU103: 2019 | AV103: Cao đẳng | AW103: Chính quy 2 năm | AX103: Khoa Điện - Điện tử | AY103: Điện công nghiệp | AZ103: Điện công nghiệp | BA103: Trường Cao đẳng Lý Tự Trọng TPHCM
A104: 99 | B104: 19000099 | C104: Trần Thái Thành | D104: Đạt | E104: Nam | F104: 20/12/2004 | G104: Tp. Hồ Chí Minh | H104: Trần Thiện Thanh | I104: Nhân viên | J104: 0915671801 | K104: Vũ Thị Thái Hằng | L104: Công nhân | M104: 0938967443 | N104: 19T4-QTM1 | O104: Tp. Hồ Chí Minh | P104: Kinh | R104: 25/9 KP6, P.Tân Thới Nhất, Q.12, TPHCM | S104: 25/9 KP6, P.Tân Thới Nhất, Q.12, TPHCM | T104: 0938967443 | U104: 0963843122 | V104: 0915671801 | Y104: Vi? | AJ104: KV3 | AM104: Tp. Hồ Chí Minh | AN104: Quận 12 | AO104: 19T40126 | AP104: Đang học | AQ104: 1 | AR104: 19T4-QTM1 | AS104: 24/05/2019 | AT104: 2019 | AU104: 2019 | AV104: Trung cấp | AW104: Chính quy 3 năm | AX104: Khoa Công nghệ Thông tin | AY104: Quản trị mạng máy tính | AZ104: Quản trị mạng máy tính | BA104: Trường Cao đẳng Lý Tự Trọng TPHCM
...

Sheet MAUDANGKYBHXH (2)
A1: Tên đơn vị: TRƯỜNG CAO ĐẲNG LÝ TỰ TRỌNG THÀNH PHỐ HỒ CHÍ MINH
A2: Mã đơn vị: BD0240Z
A3: Địa chỉ: 390 Hoàng Văn Thụ,Phường 4,Quận Tân Bình, Thành Phố Hồ Chí Minh
A4: DANH SÁCH NGƯỜI CHỈ THAM GIA BẢO HIỂM Y TẾ
A5: Số : 3 tháng 12 năm 2018
B6: Đối tượng tham gia | F6: Lương cơ sở: ……………… đồng
A7: STT | B7: Họ và tên | C7: Mã số BHXH | D7: Ngày tháng năm sinh | E7: Giới tính | F7: Nơi đăng ký KCB ban đầu | G7: Biên lai, ngày tham gia | I7: Tiền lương, trợ cấp hoặc số tiền đóng | J7: Tỷ lệ NS hỗ trợ (%) | K7: Thời hạn sử dụng thẻ | M7: Ghi chú
G8: Số | H8: Ngày | K8: Số tháng | L8: Từ ngày | M8: Địa chỉ | N8: Số CMND | O8: Mã PB | P8: mã tỉnh KS | R8: mã huyện KS | T8: mã xã KS
A9: A | B9: B | C9: 1 | D9: 2 | E9: 3 | F9: 4 | G9: 5 | H9: 6 | I9: 7 | J9: 8 | K9: 9 | L9: 10 | M9: 11 | N9: 12 | O9: 13 | P9: 14 | R9: 15 | T9: 16

Sheet MAUDANGKYBHXH (T5)
A1: Tên đơn vị: TRƯỜNG CAO ĐẲNG LÝ TỰ TRỌNG THÀNH PHỐ HỒ CHÍ MINH
A2: Mã đơn vị: BD0240Z
A3: Địa chỉ: 390 Hoàng Văn Thụ,Phường 4,Quận Tân Bình, Thành Phố Hồ Chí Minh
A4: DANH SÁCH NGƯỜI CHỈ THAM GIA BẢO HIỂM Y TẾ
A5: Số : 3 tháng 12 năm 2018
B6: Đối tượng tham gia | G6: Lương cơ sở: ……………… đồng
A7: STT | B7: Mã số BHXH | D7: Họ và tên | F7: Giới tính | G7: Ngày tháng năm sinh | H7: Nơi đăng ký KCB ban đầu | I7: Biên lai, ngày tham gia | K7: Tiền lương, trợ cấp hoặc số tiền đóng | L7: Thời hạn sử dụng thẻ | S7: Địa chỉ | Z7: Số CMND | AB7: Mã PB | AD7: mã tỉnh KS | AE7: mã tỉnh KS | AF7: mã huyện KS | AG7: mã huyện KS | AH7: mã xã KS | AI7: mã xã KS | AJ7: HKTT số nhà
B8: cột này để làm MPB | I8: Số | J8: Ngày | L8: Số tháng | M8: Từ ngày
A9: A | B9: 1 | D9: B | E9: B | F9: 3 | G9: 2 | H9: 4 | I9: 5 | J9: 6 | K9: 7 | L9: 9(MABHXH Truy cap) | M9: 10 | S9: 11 | Z9: 12 | AB9: 13 | AD9: 14 | AE9: 14 | AF9: 15 | AG9: 15 | AH9: 16 | AI9: 16
A10: STT | B10: cột này để làm MPB | D10: Họ | E10: Tên | F10: Giới tính(SAU NGÀY SINH) | G10: Ngày sinh(TRƯỚC GIỚI TÍNH) | H10: Nơi sinh(NHẬP NĐKKCBBĐ) | I10: Họ tên cha(XÓA KHI HOÀN THÀNH DS) | J10: Nghề nghiệp cha(XÓA ) | K10: Số điện thoại cha(XÓA) | L10: Họ tên mẹ(XÓA KHI HOÀN THÀNH DANH SÁCH ) | M10: Nghề nghiệp mẹ(XÓA) | N10: SĐT (DÙNG KHI CẦN) | O10: Lớp( GIỮ LẠI LÀM mpb) | P10: Nguyên quán | Q10: Dân tộc | R10: Tôn giáo | S10: ĐC thường trú | T10: ĐC liên lạc | U10: ĐC thường trú(ĐÃ SỬA) | V10: ĐC thường trú(THÔN,ẤP,SỐ NHÀ) | W10: ĐC thường trú(PHƯỜNG, XÃ) | X10: ĐC thường trú(QUẬN , HUYỆN) | Y10: ĐC thường trú(TỈNH, THÀNH) | Z10: Số CMND | AA10: Ngày cấp | AB10: Nơi cấp | AC10: Ngày vào đoàn | AD10: Ngày vào đảng | AE10: HKTT tỉnh | AF10: Trường tốt nghiệp | AG10: HKTT huyện | AH10: HKTT phường xã | AI10: HKTT thôn xóm | AJ10: HKTT số nhà | AK10: Khu vực | AL10: Đối tượng | AM10: Đối tượng chính sách | AN10: Tỉnh | AO10: Huyện | AP10: Hồ sơ | AQ10: Trạng thái | AR10: Nhóm | AS10: Mã lớp | AT10: Ngày nhập học | AU10: Năm vào | AV10: Khóa học | AW10: Hệ đào tạo | AX10: Loại hình ĐT | AY10: Khoa | AZ10: Ngành | BA10: Nghề | BB10: Cơ sở
A11: 1 | B11: 19000001 | D11: Phan Phú | E11: Hào | F11: Nam | G11: 23/03/1997 | J11: =MID(H11,3,1) | K11: =MID(H11,4,2) | L11: =RIGHT(M11,10) | O11: 19C1-CNÔ1 | S11: 17/15a khu phố 6a p.tân thới nhất quận 12 tp. Hồ Chí Minh | T11: 17/15a khu phố 6a p.tân thới nhất quận 12 tp. Hồ Chí Minh | U11: 17/15A Khu Phố 6A ,P.Tân Thới Nhất, Quận 12, Tp. Hồ Chí Minh | V11: 17/15A Khu Phố 6A | W11: P.Tân Thới Nhất | X11: Quận 12 | Y11: Thành phố Hồ Chí Minh | AC11: 20/03/2014 | AD11: 79 | AE11: Thành phố Hồ Chí Minh | AF11: 761 | AG11: Quận 12 | AH11: 26791 | AI11: Phường Tân Thới Nhất | AK11: KV2 | AL11: Đối tượng 03 | AN11: Tp. Hồ Chí Minh | AO11: Quận 12 | AP11: 19C10211 | AQ11: Đang học | AR11: 1 | AS11: 19C1-CNÔ1 | AT11: 10/05/2019 | AU11: 2019 | AV11: 2019 | AW11: Cao đẳng | AX11: Chính quy 2 năm | AY11: Khoa Động lực | AZ11: Công nghệ ô tô | BA11: Công nghệ ô tô | BB11: Trường Cao đẳng Lý Tự Trọng TPHCM | BC11: 19000001
A12: 2 | B12: 19000002 | D12: Phùng Đức | E12: Dương | F12: Nam | G12: 17/10/2001 | H12: =VLOOKUP(B12,'ĐKKCBBĐ K2019'!$B$5:$C$414,2,0) -> GD4797936952403 | I12: =LEFT(H12,2) -> GD | J12: =MID(H12,3,1) -> 4 | K12: =MID(H12,4,2) -> 79 | M12: GD4797936952403 | O12: 19T4-KML1 | S12: Nghĩa Hương, Xã Mỹ Hương, Huyện Lương Tài, Tỉnh Bắc Ninh | T12: 5/25H tổ 14 ấp 2 xã Xuân Thới Thượng huyện Hóc Môn tp Hồ Chí Minh | U12: Nghĩa Hương, Xã Mỹ Hương, Huyện Lương Tài, Tỉnh Bắc Ninh | V12: Nghĩa Hương | W12: Xã Mỹ Hương | X12: Huyện Lương Tài | Y12: Tỉnh Bắc Ninh | AK12: KV3 | AN12: Bắc Ninh | AO12: Huyện Lương Tài | AP12: 19T40054 | AQ12: Đang học | AR12: 1 | AS12: 19T4-KML1 | AT12: 10/05/2019 | AU12: 2019 | AV12: 2019 | AW12: Trung cấp | AX12: Chính quy 3 năm | AY12: Khoa Nhiệt – Lạnh | AZ12: Kỹ thuật máy lạnh và điều hòa không khí | BA12: Kỹ thuật máy lạnh và điều hòa không khí | BB12: Trường Cao đẳng Lý Tự Trọng TPHCM | BC12: 19000002
A13: 3 | B13: 19000003 | D13: Lê Trọng | E13: Tiến | F13: Nam | G13: 15/03/2002 | H13: =VLOOKUP(B13,'ĐKKCBBĐ K2019'!$B$5:$C$414,2,0) -> HS4797935160094 | I13: =LEFT(H13,2) -> HS | J13: =MID(H13,3,1) -> 4 | K13: =MID(H13,4,2) -> 79 | M13: HS4797935160094 | O13: 19T4-CNÔ1 | S13: 24 Nguyễn Văn Tỷ, Khu phố 2, thị trấn Củ Chi, huyện Củ Chi, TPHCM | T13: 24 Nguyễn Văn Tỷ, Khu phố 2, thị trấn Củ Chi, huyện Củ Chi, TPHCM | U13: 24 Nguyễn Văn Tỷ Khu Phố 2, Thị Trấn Củ Chi, Huyện Củ Chi, Tphcm | V13: 24 Nguyễn Văn Tỷ Khu Phố 2 | W13: Thị Trấn Củ Chi | X13: Huyện Củ Chi | Y13: Thành phố Hồ Chí Minh | AD13: 79 | AE13: Thành phố Hồ Chí Minh | AF13: 783 | AG13: Huyện Củ Chi | AH13: 27496 | AI13: Thị trấn Củ Chi | AK13: KV2 | AN13: Tp. Hồ Chí Minh | AO13: Huyện Củ Chi | AP13: 19T40059 | AQ13: Đang học | AR13: 1 | AS13: 19T4-CNÔ1 | AT13: 10/05/2019 | AU13: 2019 | AV13: 2019 | AW13: Trung cấp | AX13: Chính quy 3 năm | AY13: Khoa Động lực | AZ13: Công nghệ ô tô | BA13: Công nghệ ô tô | BB13: Trường Cao đẳng Lý Tự Trọng TPHCM | BC13: 19000003
A14: 4 | B14: 19000004 | D14: Phạm Hữu | E14: Hoàng | F14: Nam | G14: 02/02/1993 | J14: =MID(H14,3,1) | K14: =MID(H14,4,2) | L14: =RIGHT(M14,10) | O14: 19C1-LGT1 | S14: Ấp 3 xã Phú Lộc, huyện Tân Phú, tỉnh Đồng Nai | T14: 122/54 Bùi Đình Túy, P12, Quận Bình Thạnh, Tp. HCM | U14: Ấp 3 ,Xã Phú Lộc, Huyện Tân Phú, Tỉnh Đồng Nai | V14: Ấp 3 | W14: Xã Phú Lộc | X14: Huyện Tân Phú | Y14: Tỉnh Đồng Nai | AC14: 13/12/2009 | AD14: 75 | AE14: Tỉnh Đồng Nai | AK14: KV1 | AN14: Đồng Nai | AO14: Huyện Tân Phú | AP14: 19C10008 | AQ14: Đang học | AR14: 1 | AS14: 19C1-LGT1 | AT14: 10/05/2019 | AU14: 2019 | AV14: 2019 | AW14: Cao đẳng | AX14: Chính quy 2 năm | AY14: Khoa Kinh tế | AZ14: Logistics | BA14: Logistics | BB14: Trường Cao đẳng Lý Tự Trọng TPHCM | BC14: 19000004
A15: 5 | B15: 19000005 | D15: Nguyễn Khắc Trung | E15: Kiên | F15: Nam | G15: 10/12/1997 | J15: =MID(H15,3,1) | K15: =MID(H15,4,2) | L15: =RIGHT(M15,10) | O15: 19C1-ĐCN1 | S15: Xã Vũ Công, Huyện Kiến Xương, Tỉnh Thái Bình | T15: 257/38/9 đường bình thành, phường bình hưng hoà B, Quận Bình Tân | U15: ,Xã Vũ Công, Huyện Kiến Xương, Tỉnh Thái Bình | W15: Xã Vũ Công | X15: Huyện Kiến Xương | Y15: Tỉnh Thái Bình | AC15: 26/03/2016 | AK15: KV3 | AN15: Thái Bình | AO15: Huyện Kiến Xương | AP15: 19C10116 | AQ15: Đang học | AR15: 1 | AS15: 19C1-ĐCN1 | AT15: 10/05/2019 | AU15: 2019 | AV15: 2019 | AW15: Cao đẳng | AX15: Chính quy 2 năm | AY15: Khoa Điện - Điện tử | AZ15: Điện công nghiệp | BA15: Điện công nghiệp | BB15: Trường Cao đẳng Lý Tự Trọng TPHCM | BC15: 19000005
A16: 6 | B16: 19000006 | D16: Trần Minh | E16: Quang | F16: Nam | G16: 17/06/1999 | J16: =MID(H16,3,1) | K16: =MID(H16,4,2) | L16: =RIGHT(M16,10) | O16: 19C1-CNÔ1 | S16: Ấp 2, Vĩnh Bình, Vĩnh Hưng, Long An | T16: 142/18 Cộng Hòa, Phường 4, Quận Tân Bình, Tp.HCM | U16: Ấp 2, Vĩnh Bình, Vĩnh Hưng, Long An | V16: Ấp 2 | W16: Vĩnh Bình | X16: Vĩnh Hưng | Y16: Long An | AK16: KV2-NT | AN16: Long An | AO16: Huyện Vĩnh Hưng | AP16: 19C10090 | AQ16: Đang học | AR16: 1 | AS16: 19C1-CNÔ1 | AT16: 11/05/2019 | AU16: 2019 | AV16: 2019 | AW16: Cao đẳng | AX16: Chính quy 2 năm | AY16: Khoa Động lực | AZ16: Công nghệ ô tô | BA16: Công nghệ ô tô | BB16: Trường Cao đẳng Lý Tự Trọng TPHCM | BC16: 19000006
A17: 7 | B17: 19000007 | D17: Lê Minh | E17: Sang | F17: Nam | G17: 28/01/1995 | J17: =MID(H17,3,1) | K17: =MID(H17,4,2) | L17: =RIGHT(M17,10) -> 8222267122 | M17: 8222267122 | O17: 19C1-TĐH1 | S17: Số 204, tổ 6, ấp 3, xã An Thái Trung, huyện Cái bè, tỉnh Tiền Giang | T17: Số 204, tổ 6, ấp 3, xã An Thái Trung, huyện Cái bè, tỉnh Tiền Giang | U17: Số 204 Tổ 6 Ấp 3, Xã An Thái Trung, Huyện Cái Bè, Tỉnh Tiền Giang | V17: Số 204 Tổ 6 Ấp 3 | W17: Xã An Thái Trung | X17: Huyện Cái Bè | Y17: Tỉnh Tiền Giang | AK17: KV2-NT | AL17: Đối tượng 03 | AN17: Tiền Giang | AO17: Huyện Cái Bè | AP17: 19C10159 | AQ17: Đang học | AR17: 1 | AS17: 19C1-TĐH1 | AT17: 11/05/2019 | AU17: 2019 | AV17: 2019 | AW17: Cao đẳng | AX17: Chính quy 2 năm | AY17: Khoa Điện - Điện tử | AZ17: Công nghệ kỹ thuật điều khiển và tự động hóa | BA17: Công nghệ kỹ thuật điều khiển và tự động hóa | BB17: Trường Cao đẳng Lý Tự Trọng TPHCM | BC17: 19000007
A18: 8 | B18: 19000008 | D18: Võ Trung | E18: Khang | F18: Nam | G18: 17/04/2004 | J18: =MID(H18,3,1) | K18: =MID(H18,4,2) | L18: =RIGHT(M18,10) | O18: 19T4-VSL1 | S18: 787/72 Trường Chinh p.Tây Thạnh Q.tân Phú | T18: 787/72 Trường Chinh p.Tây Thạnh Q.tân Phú | U18: 787/72 Trường Chinh, P.Tây Thạnh, Q.Tân Phú,HCM | V18: 787/72 Trường Chinh | W18: P.Tây Thạnh | X18: Q.Tân Phú | Y18: Thành phố Hồ Chí Minh | AD18: 79 | AE18: Thành phố Hồ Chí Minh | AF18: 767 | AG18: Quận Tân Phú | AH18: 27013 | AI18: Phường Tây Thạnh | AK18: KV3 | AN18: Tp. Hồ Chí Minh | AO18: Quận Tân Phú | AP18: 19T40276 | AQ18: Đang học | AR18: 1 | AS18: 19T4-VSL1 | AT18: 13/05/2019 | AU18: 2019 | AV18: 2019 | AW18: Trung cấp | AX18: Chính quy 3 năm | AY18: Khoa Nhiệt – Lạnh | AZ18: Vận hành, sửa chữa thiết bị lạnh | BA18: Vận hành, sửa chữa thiết bị lạnh | BB18: Trường Cao đẳng Lý Tự Trọng TPHCM | BC18: 19000008
A19: 9 | B19: 19000009 | D19: Nguyễn Lê | E19: Hoàng | F19: Nam | G19: 13/08/2003 | J19: =MID(H19,3,1) | K19: =MID(H19,4,2) | L19: =RIGHT(M19,10) -> 7934223996 | M19: 7934223996 | O19: 19T4-CNÔ1 | S19: E3/21c3 - Ấp 5A - Xã Vĩnh Lộc A - Huyện Bình Chánh HCM | T19: E3/21c3 - Ấp 5A - Xã Vĩnh Lộc A - Huyện Bình Chánh HCM | U19: E3/21C3 Ấp 5A ,Xã Vĩnh Lộc A , Huyện Bình Chánh, Hcm | V19: E3/21C3 Ấp 5A | W19: Xã Vĩnh Lộc A | X19: Huyện Bình Chánh | Y19: Thành phố Hồ Chí Minh | AD19: 79 | AE19: Thành phố Hồ Chí Minh | AF19: 785 | AG19: Huyện Bình Chánh | AH19: 27601 | AI19: Xã Vĩnh Lộc A | AK19: KV3 | AN19: Tp. Hồ Chí Minh | AO19: Huyện Bình Chánh | AP19: 19T40157 | AQ19: Đang học | AR19: 1 | AS19: 19T4-CNÔ1 | AT19: 13/05/2019 | AU19: 2019 | AV19: 2019 | AW19: Trung cấp | AX19: Chính quy 3 năm | AY19: Khoa Động lực | AZ19: Công nghệ ô tô | BA19: Công nghệ ô tô | BB19: Trường Cao đẳng Lý Tự Trọng TPHCM | BC19: 19000009
A20: 10 | B20: 19000010 | D20: Trần Cao | E20: Long | F20: Nam | G20: 20/11/2004 | J20: =MID(H20,3,1) | K20: =MID(H20,4,2) | L20: =RIGHT(M20,10) | O20: 19T4-CNÔ1 | S20: 507/39 Hương Lộ 3 Phường Bình Hưng Hòa Q.bình tân | U20: 507/39 Hương Lộ 3 ,Phường Bình Hưng Hòa, Q.Bình Tân,HCM | V20: 507/39 Hương Lộ 3 | W20: Phường Bình Hưng Hòa | X20: Q.Bình Tân | Y20: Thành phố Hồ Chí Minh | AD20: 79 | AE20: Thành phố Hồ Chí Minh | AF20: 777 | AG20: Quận Bình Tân | AH20: 27436 | AI20: Phường Bình Hưng Hòa | AK20: KV3 | AN20: Tp. Hồ Chí Minh | AO20: Quận Bình Tân | AP20: 19T40117 | AQ20: Đang học | AR20: 1 | AS20: 19T4-CNÔ1 | AT20: 13/05/2019 | AU20: 2019 | AV20: 2019 | AW20: Trung cấp | AX20: Chính quy 3 năm | AY20: Khoa Động lực | AZ20: Công nghệ ô tô | BA20: Công nghệ ô tô | BB20: Trường Cao đẳng Lý Tự Trọng TPHCM | BC20: 19000010
A21: 11 | B21: 19000011 | D21: Huỳnh Nhựt | E21: Thành | F21: Nam | G21: 08/01/2003 | H21: =VLOOKUP(B21,'ĐKKCBBĐ K2019'!$B$5:$C$414,2,0) -> HS4797934005910 | I21: =LEFT(H21,2) -> HS | J21: =MID(H21,3,1) -> 4 | K21: =MID(H21,4,2) -> 79 | M21: HS4797934005910 | O21: 19T4-CNÔ1 | S21: 139/26/13 Chiến Lược, P. Bình Trị Đông, Q. Bình Tân, TPHCM | T21: 139/26/13 Chiến Lược, P. Bình Trị Đông, Q. Bình Tân, TPHCM | U21: 139/26/13 Chiến Lược, P. Bình Trị Đông, Q. Bình Tân, Tphcm | V21: 139/26/13 Chiến Lược | W21: P. Bình Trị Đông | X21: Q. Bình Tân | Y21: Thành phố Hồ Chí Minh | AD21: 79 | AE21: Thành phố Hồ Chí Minh | AF21: 777 | AG21: Quận Bình Tân | AH21: 27445 | AI21: Phường Bình Trị Đông | AK21: KV3 | AN21: Tp. Hồ Chí Minh | AO21: Quận Bình Tân | AP21: 19T40039 | AQ21: Đang học | AR21: 1 | AS21: 19T4-CNÔ1 | AT21: 13/05/2019 | AU21: 2019 | AV21: 2019 | AW21: Trung cấp | AX21: Chính quy 3 năm | AY21: Khoa Động lực | AZ21: Công nghệ ô tô | BA21: Công nghệ ô tô | BB21: Trường Cao đẳng Lý Tự Trọng TPHCM | BC21: 19000011
A22: 12 | B22: 19000012 | D22: Nguyễn Hoàng Minh | E22: Quân | F22: Nam | G22: 13/12/2000 | H22: =VLOOKUP(B22,'ĐKKCBBĐ K2019'!$B$5:$C$414,2,0) -> GD4797933322737 | I22: =LEFT(H22,2) -> GD | J22: =MID(H22,3,1) -> 4 | K22: =MID(H22,4,2) -> 79 | M22: GD 4797933322737 | O22: 19C1-CNÔ1 | S22: 995/122 Hồng Bàng, Phường 12, Quận 6, Tp.Hồ Chí Minh | T22: 995/122 Hồng Bàng, Phường 12, Quận 6, Tp.Hồ Chí Minh | U22: 995/122 Hồng Bàng, Phường 12, Quận 6, Tp.Hồ Chí Minh | V22: 995/122 Hồng Bàng | W22: Phường 12 | X22: Quận 6 | Y22: Thành phố Hồ Chí Minh | AD22: 79 | AE22: Thành phố Hồ Chí Minh | AF22: 775 | AG22: Quận 6 | AH22: 27358 | AI22: Phường 12 | AK22: KV3 | AN22: Tp. Hồ Chí Minh | AO22: Quận 6 | AP22: 19C10036 | AQ22: Đang học | AR22: 1 | AS22: 19C1-CNÔ1 | AT22: 13/05/2019 | AU22: 2019 | AV22: 2019 | AW22: Cao đẳng | AX22: Chính quy 2 năm | AY22: Khoa Động lực | AZ22: Công nghệ ô tô | BA22: Công nghệ ô tô | BB22: Trường Cao đẳng Lý Tự Trọng TPHCM | BC22: 19000012
A23: 13 | B23: 19000013 | D23: Nguyễn Nhật | E23: Huy | F23: Nam | G23: 11/05/2004 | J23: =MID(H23,3,1) | K23: =MID(H23,4,2) | L23: =RIGHT(M23,10) -> 7930311750 | M23: 7930311750 | O23: 19T4-TKĐ1 | S23: 411/11/ Lê Đức Thọ f.17 | U23: 411/11/ Lê Đức Thọ ,F.17, QUẬN GÒ VẤP, TPHCM | V23: 411/11/ Lê Đức Thọ | W23: F.17 | X23: QUẬN GÒ VẤP | Y23: Thành phố Hồ Chí Minh | AD23: 79 | AE23: Thành phố Hồ Chí Minh | AF23: 764 | AG23: Quận Gò Vấp | AH23: 26875 | AI23: Phường 17 | AK23: KV3 | AN23: Tp. Hồ Chí Minh | AO23: Quận Gò Vấp | AP23: 19T40172 | AQ23: Đang học | AR23: 1 | AS23: 19T4-TKĐ1 | AT23: 13/05/2019 | AU23: 2019 | AV23: 2019 | AW23: Trung cấp | AX23: Chính quy 3 năm | AY23: Khoa Công nghệ Thông tin | AZ23: Thiết kế đồ họa | BA23: Thiết kế đồ họa | BB23: Trường Cao đẳng Lý Tự Trọng TPHCM | BC23: 19000013
A24: 14 | B24: 19000014 | D24: Vũ Trường | E24: Khanh | F24: Nam | G24: 30/10/2004 | J24: =MID(H24,3,1) | K24: =MID(H24,4,2) | L24: =RIGHT(M24,10) -> 7931924170 | M24: 7931924170 | O24: 19T4-LTM1 | S24: 499/44 Quang Trung, P.10, Q.Gò Vấp, TPHCM | U24: 499/44 Quang Trung, P.10, Q.Gò Vấp, Tphcm | V24: 499/44 Quang Trung | W24: P.10 | X24: Q.Gò Vấp | Y24: Thành phố Hồ Chí Minh | AD24: 79 | AE24: Thành phố Hồ Chí Minh | AF24: 764 | AG24: Quận Gò Vấp | AH24: 26884 | AI24: Phường 10 | AK24: KV3 | AN24: Tp. Hồ Chí Minh | AO24: Quận Gò Vấp | AP24: 19T40164 | AQ24: Đang học | AR24: 1 | AS24: 19T4-LTM1 | AT24: 14/05/2019 | AU24: 2019 | AV24: 2019 | AW24: Trung cấp | AX24: Chính quy 3 năm | AY24: Khoa Công nghệ Thông tin | AZ24: Lập trình máy tính | BA24: Lập trình máy tính | BB24: Trường Cao đẳng Lý Tự Trọng TPHCM | BC24: 19000014
A25: 15 | B25: 19000015 | D25: Vũ Ngọc Mai | E25: Khanh | F25: Nữ | G25: 30/10/2004 | J25: =MID(H25,3,1) | K25: =MID(H25,4,2) | L25: =RIGHT(M25,10) -> 7931883424 | M25: 7931883424 | O25: 19T4-MTT1 | S25: 499/44 Quang Trung, P.10, Quận Gò Vấp, TPHCM | U25: 499/44 Quang Trung, P.10, Quận Gò Vấp, Tphcm | V25: 499/44 Quang Trung | W25: P.10 | X25: Quận Gò Vấp | Y25: Thành phố Hồ Chí Minh | AD25: 79 | AE25: Thành phố Hồ Chí Minh | AF25: 764 | AG25: Quận Gò Vấp | AH25: 26884 | AI25: Phường 10 | AK25: KV3 | AN25: Tp. Hồ Chí Minh | AO25: Quận Gò Vấp | AP25: 19T40175 | AQ25: Đang học | AR25: 1 | AS25: 19T4-MTT1 | AT25: 14/05/2019 | AU25: 2019 | AV25: 2019 | AW25: Trung cấp | AX25: Chính quy 3 năm | AY25: Khoa May - Thời trang | AZ25: May thời trang | BA25: May thời trang | BB25: Trường Cao đẳng Lý Tự Trọng TPHCM | BC25: 19000015
A26: 16 | B26: 19000016 | D26: Nguyễn Dương | E26: Thanh | F26: Nam | G26: 11/03/1997 | H26: =VLOOKUP(B26,'ĐKKCBBĐ K2019'!$B$5:$C$414,2,0) -> GD4808023599812 | I26: =LEFT(H26,2) -> GD | J26: =MID(H26,3,1) -> 4 | K26: =MID(H26,4,2) -> 80 | M26: GD 4808023599812 | O26: 19C1-CNL1 | S26: 52 ấp Xóm Mới, xã Tân Lân, huyện Cần Đước, tỉnh Long An | T26: 52 ấp Xóm Mới, xã Tân Lân, huyện Cần Đước, tỉnh Long An | U26: 52 Ấp Xóm Mới, Xã Tân Lân, Huyện Cần Đước, Tỉnh Long An | V26: 52 Ấp Xóm Mới | W26: Xã Tân Lân | X26: Huyện Cần Đước | Y26: Tỉnh Long An | AK26: KV2-NT | AL26: Đối tượng 03 | AN26: Long An | AO26: Huyện Cần Đước | AP26: 19C10088 | AQ26: Đang học | AR26: 1 | AS26: 19C1-CNL1 | AT26: 14/05/2019 | AU26: 2019 | AV26: 2019 | AW26: Cao đẳng | AX26: Chính quy 2 năm | AY26: Khoa Nhiệt – Lạnh | AZ26: Công nghệ kỹ thuật nhiệt | BA26: Công nghệ kỹ thuật nhiệt | BB26: Trường Cao đẳng Lý Tự Trọng TPHCM | BC26: 19000016
A27: 17 | B27: 19000017 | D27: Đặng Hữu | E27: Giác | F27: Nam | G27: 19/10/2000 | J27: =MID(H27,3,1) | K27: =MID(H27,4,2) | L27: =RIGHT(M27,10) -> 9122136081 | M27: 9122136081 | O27: 19C1-CNÔ1 | S27: Lô D11, khu dân cư ấp Tân Hoà B,xã Tân Hoà,huyện Tân Hiệp,tỉnh Kiên Giang | T27: 194 Trần Bá Giao, Phường 5, Quận Gò Vấp, Tp.HCM | U27: Lô D11 Khu Dân Cư Ấp Tân Hoà B,Xã Tân Hoà,Huyện Tân Hiệp,Tỉnh Kiên Giang | V27: Lô D11 Khu Dân Cư Ấp Tân Hoà B | W27: Xã Tân Hoà | X27: Huyện Tân Hiệp | Y27: Tỉnh Kiên Giang | AK27: KV2-NT | AN27: Kiên Giang | AO27: Huyện Tân Hiệp | AP27: 19C10004 | AQ27: Đang học | AR27: 1 | AS27: 19C1-CNÔ1 | AT27: 14/05/2019 | AU27: 2019 | AV27: 2019 | AW27: Cao đẳng | AX27: Chính quy 2 năm | AY27: Khoa Động lực | AZ27: Công nghệ ô tô | BA27: Công nghệ ô tô | BB27: Trường Cao đẳng Lý Tự Trọng TPHCM | BC27: 19000017
A28: 18 | B28: 19000018 | D28: Đào Thanh | E28: Tùng | F28: Nam | G28: 03/12/2002 | J28: =MID(H28,3,1) | K28: =MID(H28,4,2) | L28: =RIGHT(M28,10) -> 7931161714 | M28: 7931161714 | O28: 19T4-CNÔ1 | S28: 154/31/11A Đường Cống Lỡ, P.15, Q.Tân Bình, TPHCM | U28: 154/31/11A Đường Cống Lỡ, P.15, Q.Tân Bình, Tphcm | V28: 154/31/11A Đường Cống Lỡ | W28: P.15 | X28: Q.Tân Bình | Y28: Thành phố Hồ Chí Minh | AD28: 79 | AE28: Thành phố Hồ Chí Minh | AF28: 766 | AG28: Quận Tân Bình | AH28: 27007 | AI28: Phường 15 | AK28: KV3 | AN28: Tp. Hồ Chí Minh | AO28: Quận Tân Bình | AP28: 19T40122 | AQ28: Đang học | AR28: 1 | AS28: 19T4-CNÔ1 | AT28: 14/05/2019 | AU28: 2019 | AV28: 2019 | AW28: Trung cấp | AX28: Chính quy 3 năm | AY28: Khoa Động lực | AZ28: Công nghệ ô tô | BA28: Công nghệ ô tô | BB28: Trường Cao đẳng Lý Tự Trọng TPHCM | BC28: 19000018
A29: 19 | B29: 19000019 | D29: Phạm Hoàng | E29: Khôi | F29: Nam | G29: 17/07/2002 | J29: =MID(H29,3,1) | K29: =MID(H29,4,2) | L29: =RIGHT(M29,10) -> 7930510278 | M29: 7930510278 | O29: 19T4-CNÔ1 | S29: 125/16/26 Bùi Đình Túy P.24 Q.Bình Thạnh Tp HCM | U29: 125/16/26 Bùi Đình Túy, P.24 ,Q.Bình Thạnh, Tp Hcm | V29: 125/16/26 Bùi Đình Túy | W29: P.24 | X29: Q.Bình Thạnh | Y29: Thành phố Hồ Chí Minh | AD29: 79 | AE29: Thành phố Hồ Chí Minh | AF29: 765 | AG29: Quận Bình Thạnh | AH29: 26929 | AI29: Phường 24 | AK29: KV3 | AN29: Tp. Hồ Chí Minh | AO29: Huyện Bình Chánh | AP29: 19T40314 | AQ29: Đang học | AR29: 1 | AS29: 19T4-CNÔ1 | AT29: 14/05/2019 | AU29: 2019 | AV29: 2019 | AW29: Trung cấp | AX29: Chính quy 3 năm | AY29: Khoa Động lực | AZ29: Công nghệ ô tô | BA29: Công nghệ ô tô | BB29: Trường Cao đẳng Lý Tự Trọng TPHCM | BC29: 19000019
A30: 20 | B30: 19000020 | D30: Phan Nguyễn Thanh | E30: Thiện | F30: Nam | G30: 31/05/1996 | J30: =MID(H30,3,1) | K30: =MID(H30,4,2) | L30: =RIGHT(M30,10) -> 7222247032 | M30: 7222247032 | O30: 19T4-ĐCN1 | S30: Phước Trung , Phước Chỉ , Trảng Bàng , Tây Ninh | T30: Phước Trung, Phước Chỉ, Trảng Bàng, Tây Ninh | U30: Phước Trung , Phước Chỉ , Trảng Bàng , Tây Ninh | V30: Phước Trung | W30: Phước Chỉ | X30: Trảng Bàng | Y30: Tây Ninh | AN30: Tây Ninh | AO30: Huyện Trảng Bàng | AP30: 19T40106 | AQ30: Đang học | AR30: 1 | AS30: 19T4-ĐCN1 | AT30: 15/05/2019 | AU30: 2019 | AV30: 2019 | AW30: Trung cấp | AX30: Chính quy 3 năm | AY30: Khoa Điện - Điện tử | AZ30: Điện công nghiệp | BA30: Điện công nghiệp | BB30: Trường Cao đẳng Lý Tự Trọng TPHCM | BC30: 19000020
A31: 21 | B31: 19000021 | D31: Đỗ Viết Thành | E31: An | F31: Nam | G31: 20/03/2004 | J31: =MID(H31,3,1) | K31: =MID(H31,4,2) | L31: =RIGHT(M31,10) -> 7937711664 | M31: 7937711664 | O31: 19T4-ĐCN1 | S31: 66/25 Phan Sào Nam P.11 Q.Tân Bình | U31: 66/25 Phan Sào Nam, P.11, Q.Tân Bình,TPHCM | V31: 66/25 Phan Sào Nam | W31: P.11 | X31: Q.Tân Bình | Y31: Thành phố Hồ Chí Minh | AD31: 79 | AE31: Thành phố Hồ Chí Minh | AF31: 766 | AG31: Quận Tân Bình | AH31: 26983 | AI31: Phường 11 | AK31: KV3 | AN31: Tp. Hồ Chí Minh | AO31: Quận Tân Bình | AP31: 19T40112 | AQ31: Đang học | AR31: 1 | AS31: 19T4-ĐCN1 | AT31: 15/05/2019 | AU31: 2019 | AV31: 2019 | AW31: Trung cấp | AX31: Chính quy 3 năm | AY31: Khoa Điện - Điện tử | AZ31: Điện công nghiệp | BA31: Điện công nghiệp | BB31: Trường Cao đẳng Lý Tự Trọng TPHCM | BC31: 19000021
A32: 22 | B32: 19000022 | D32: Đào Tấn | E32: Phát | F32: Nam | G32: 24/11/2003 | J32: =MID(H32,3,1) | K32: =MID(H32,4,2) | L32: =RIGHT(M32,10) -> 6021111837 | M32: 6021111837 | O32: 19T4-CĐT1 | S32: Tổ 10, Thôn 4, Đức Hạnh, Đức Linh, Bình Thuận | T32: 36/13 Đường Bình Gỉa, Phường 13, Quận Tân Bình, Tp.HCM | U32: Tổ 10 Thôn 4, Đức Hạnh, Đức Linh, Bình Thuận | V32: Tổ 10 Thôn 4 | W32: Đức Hạnh | X32: Đức Linh | Y32: Bình Thuận | AK32: KV2-NT | AN32: Bình Thuận | AO32: Huyện Đức Linh | AP32: 19T40070 | AQ32: Đang học | AR32: 1 | AS32: 19T4-CĐT1 | AT32: 15/05/2019 | AU32: 2019 | AV32: 2019 | AW32: Trung cấp | AX32: Chính quy 3 năm | AY32: Khoa Điện - Điện tử | AZ32: Cơ điện tử | BA32: Cơ điện tử | BB32: Trường Cao đẳng Lý Tự Trọng TPHCM | BC32: 19000022
A33: 23 | B33: 19000023 | D33: Nguyễn Cao | E33: Hưng | F33: Nam | G33: 02/07/1998 | H33: =VLOOKUP(B33,'ĐKKCBBĐ K2019'!$B$5:$C$414,2,0) -> HS4797934304799 | I33: =LEFT(H33,2) -> HS | J33: =MID(H33,3,1) -> 4 | K33: =MID(H33,4,2) -> 79 | M33: HS 4797934304799 | O33: 19T2-TKW1 | S33: 30/2 Nguyễn Văn Cự kp5 p Tân Tạo A Q.Binh Tân Tp HCM | U33: 30/2 Nguyễn Văn Cự Kp5, P Tân Tạo A, Q.Binh Tân, Tp Hcm | V33: 30/2 Nguyễn Văn Cự Kp5 | W33: P Tân Tạo A | X33: Q.Binh Tân | Y33: Thành phố Hồ Chí Minh | AD33: 79 | AE33: Thành phố Hồ Chí Minh | AF33: 777 | AG33: Quận Bình Tân | AH33: 27457 | AI33: Phường Tân Tạo A | AK33: KV3 | AN33: Tp. Hồ Chí Minh | AO33: Quận Bình Tân | AP33: 19T20059 | AQ33: Đang học | AR33: 1 | AS33: 19T2-TKW1 | AT33: 15/05/2019 | AU33: 2019 | AV33: 2019 | AW33: Trung cấp | AX33: Chính quy 1N3 | AY33: Khoa Công nghệ Thông tin | AZ33: Thiết kế trang Web | BA33: Thiết kế trang Web | BB33: Trường Cao đẳng Lý Tự Trọng TPHCM | BC33: 19000023
A34: 24 | B34: 19000024 | D34: Tô Hà Kỳ | E34: Duyên | F34: Nữ | G34: 06/02/2004 | J34: =MID(H34,3,1) | K34: =MID(H34,4,2) | L34: =RIGHT(M34,10) -> 7932371881 | M34: 7932371881 | O34: 19T4-NNA1 | S34: 152/48 Lý Chính Thắng, P.7, Q.3, TPHCM | T34: 164C Võ Thị Sáu, Phường 8, Tp.HCM | U34: 152/48 Lý Chính Thắng, P.7, Q.3, Tphcm | V34: 152/48 Lý Chính Thắng | W34: P.7 | X34: Q.3 | Y34: Thành phố Hồ Chí Minh | AD34: 79 | AE34: Thành phố Hồ Chí Minh | AF34: 770 | AG34: Quận 3 | AH34: 27124 | AI34: Phường 07 | AK34: KV3 | AN34: Tp. Hồ Chí Minh | AO34: Quận 3 | AP34: 19T40348 | AQ34: Đang học | AR34: 1 | AS34: 19T4-NNA1 | AT34: 15/05/2019 | AU34: 2019 | AV34: 2019 | AW34: Trung cấp | AX34: Chính quy 3 năm | AY34: Khoa Khoa học cơ bản | AZ34: Tiếng Anh | BA34: Tiếng Anh | BB34: Trường Cao đẳng Lý Tự Trọng TPHCM | BC34: 19000024
A35: 25 | B35: 19000025 | D35: Nguyễn Minh | E35: Ánh | F35: Nữ | G35: 23/07/2004 | J35: =MID(H35,3,1) | K35: =MID(H35,4,2) | L35: =RIGHT(M35,10) -> 7930937730 | M35: 7930937730 | O35: 19T4-TKĐ1 | S35: 291D Hoàng Văn Thụ, P.2, Q. Tân Bình, TPHCM | U35: 291D Hoàng Văn Thụ, P.2, Q. Tân Bình, Tphcm | V35: 291D Hoàng Văn Thụ | W35: P.2 | X35: Q. Tân Bình | Y35: Thành phố Hồ Chí Minh | AD35: 79 | AE35: Thành phố Hồ Chí Minh | AF35: 766 | AG35: Quận Tân Bình | AH35: 26965 | AI35: Phường 02 | AK35: KV3 | AN35: Tp. Hồ Chí Minh | AO35: Quận Tân Phú | AP35: 19T40163 | AQ35: Đang học | AR35: 1 | AS35: 19T4-TKĐ1 | AT35: 15/05/2019 | AU35: 2019 | AV35: 2019 | AW35: Trung cấp | AX35: Chính quy 3 năm | AY35: Khoa Công nghệ Thông tin | AZ35: Thiết kế đồ họa | BA35: Thiết kế đồ họa | BB35: Trường Cao đẳng Lý Tự Trọng TPHCM | BC35: 19000025
A36: 26 | B36: 19000026 | D36: Võ Kiều Minh | E36: Thư | F36: Nữ | G36: 25/02/1999 | J36: =MID(H36,3,1) | K36: =MID(H36,4,2) | L36: =RIGHT(M36,10) -> 7936148178 | M36: 7936148178 | O36: 19T4-NNA1 | S36: D12/53 đường Huỳnh Văn Trí, ấp 4, xã Bình Chánh, huyện Bình Chánh, TPHCM | U36: D12/53 Đường Huỳnh Văn Trí Ấp 4, Xã Bình Chánh, Huyện Bình Chánh, Tphcm | V36: D12/53 Đường Huỳnh Văn Trí Ấp 4 | W36: Xã Bình Chánh | X36: Huyện Bình Chánh | Y36: Thành phố Hồ Chí Minh | AD36: 79 | AE36: Thành phố Hồ Chí Minh | AF36: 785 | AG36: Huyện Bình Chánh | AH36: 27637 | AI36: Xã Bình Chánh | AK36: KV2 | AN36: Tp. Hồ Chí Minh | AO36: Huyện Bình Chánh | AP36: 19T40034 | AQ36: Đang học | AR36: 1 | AS36: 19T4-NNA1 | AT36: 15/05/2019 | AU36: 2019 | AV36: 2019 | AW36: Trung cấp | AX36: Chính quy 3 năm | AY36: Khoa Khoa học cơ bản | AZ36: Tiếng Anh | BA36: Tiếng Anh | BB36: Trường Cao đẳng Lý Tự Trọng TPHCM | BC36: 19000026
A37: 27 | B37: 19000027 | D37: Lê Hoàng Quốc | E37: Anh | F37: Nam | G37: 23/07/2004 | H37: =VLOOKUP(B37,'ĐKKCBBĐ K2019'!$B$5:$C$414,2,0) -> HS4797931377033 | I37: =LEFT(H37,2) -> HS | J37: =MID(H37,3,1) -> 4 | K37: =MID(H37,4,2) -> 79 | M37: HS4797931377033 | O37: 19T4-TKĐ1 | S37: C12/37 ẤP 3B XÃ VĨNH LỘC B , BÌNH CHÁNH , TP.HCM | T37: C12/37 ẤP 3B XÃ VĨNH LỘC B , BÌNH CHÁNH , TP.HCM | U37: C12/37 Ấp 3B ,Xã Vĩnh Lộc B , Bình Chánh , Tp.Hcm | V37: C12/37 Ấp 3B | W37: Xã Vĩnh Lộc B | X37: Bình Chánh | Y37: Thành phố Hồ Chí Minh | AD37: 79 | AE37: Thành phố Hồ Chí Minh | AF37: 785 | AG37: Huyện Bình Chánh | AH37: 27604 | AI37: Xã Vĩnh Lộc B | AK37: KV2 | AN37: Tp. Hồ Chí Minh | AO37: Huyện Bình Chánh | AP37: 19T40093 | AQ37: Đang học | AR37: 1 | AS37: 19T4-TKĐ1 | AT37: 16/05/2019 | AU37: 2019 | AV37: 2019 | AW37: Trung cấp | AX37: Chính quy 3 năm | AY37: Khoa Công nghệ Thông tin | AZ37: Thiết kế đồ họa | BA37: Thiết kế đồ họa | BB37: Trường Cao đẳng Lý Tự Trọng TPHCM | BC37: 19000027
A38: 28 | B38: 19000028 | D38: Bùi Hoàng An | E38: Vỹ | F38: Nam | G38: 27/10/2001 | J38: =MID(H38,3,1) | K38: =MID(H38,4,2) | L38: =RIGHT(M38,10) -> 7931511443 | M38: 7931511443 | O38: 19T4-ĐCN1 | S38: 263/10 Thạch Lam, P. Phú Thạch, Q. Tân Phú, TPHCM | T38: 263/10 Thạch Lam, P. Phú Thạch, Q. Tân Phú, TPHCM | U38: 263/10 Thạch Lam, P. Phú Thạch, Q. Tân Phú, Tphcm | V38: 263/10 Thạch Lam | W38: P. Phú Thạch | X38: Q. Tân Phú | Y38: Thành phố Hồ Chí Minh | AD38: 79 | AE38: Thành phố Hồ Chí Minh | AF38: 767 | AG38: Quận Tân Phú | AH38: 27028 | AI38: Phường Phú Thạnh | AK38: KV3 | AN38: Tp. Hồ Chí Minh | AO38: Quận Tân Phú | AP38: 19T40072 | AQ38: Đang học | AR38: 1 | AS38: 19T4-ĐCN1 | AT38: 16/05/2019 | AU38: 2019 | AV38: 2019 | AW38: Trung cấp | AX38: Chính quy 3 năm | AY38: Khoa Điện - Điện tử | AZ38: Điện công nghiệp | BA38: Điện công nghiệp | BB38: Trường Cao đẳng Lý Tự Trọng TPHCM | BC38: 19000028
A39: 29 | B39: 19000029 | D39: Mach | E39: Arafin | F39: Nam | G39: 15/02/2004 | J39: =MID(H39,3,1) | K39: =MID(H39,4,2) | L39: =RIGHT(M39,10) -> 7931931864 | M39: 7931931864 | O39: 19T4-CNÔ1 | S39: 127/29 Cao Thắng P.17 Q.Phú Nhuận Tp.HCM | T39: 127/29 Cao Thắng P.17 Q.Phú Nhuận Tp.HCM | U39: 127/29 Cao Thắng ,P.17, Q.Phú Nhuận ,Tp.Hcm | V39: 127/29 Cao Thắng | W39: P.17 | X39: Q.Phú Nhuận | Y39: Thành phố Hồ Chí Minh | AD39: 79 | AE39: Thành phố Hồ Chí Minh | AF39: 768 | AG39: Quận Phú Nhuận | AH39: 27076 | AI39: Phường 17 | AK39: KV3 | AN39: Tp. Hồ Chí Minh | AO39: Quận Phú Nhuận | AP39: 19T40374 | AQ39: Đang học | AR39: 1 | AS39: 19T4-CNÔ1 | AT39: 16/05/2019 | AU39: 2019 | AV39: 2019 | AW39: Trung cấp | AX39: Chính quy 3 năm | AY39: Khoa Động lực | AZ39: Công nghệ ô tô | BA39: Công nghệ ô tô | BB39: Trường Cao đẳng Lý Tự Trọng TPHCM | BC39: 19000029
A40: 30 | B40: 19000030 | D40: Lê Nguyễn Trung | E40: Hiếu | F40: Nam | G40: 03/12/2004 | J40: =MID(H40,3,1) | K40: =MID(H40,4,2) | L40: =RIGHT(M40,10) -> 7931859708 | M40: 7931859708 | O40: 19T4-THU1 | S40: 105/10 Cao Thắng Phường 17, Q.Phú Nhuận TPHCM | U40: 105/10 Cao Thắng, Phường 17, Q.Phú Nhuận Tphcm | V40: 105/10 Cao Thắng | W40: Phường 17 | X40: Q.Phú Nhuận | Y40: Thành phố Hồ Chí Minh | AD40: 79 | AE40: Thành phố Hồ Chí Minh | AF40: 768 | AG40: Quận Phú Nhuận | AH40: 27076 | AI40: Phường 17 | AK40: KV3 | AN40: Tp. Hồ Chí Minh | AO40: Quận Phú Nhuận | AP40: 19T40277 | AQ40: Đang học | AR40: 1 | AS40: 19T4-THU1 | AT40: 16/05/2019 | AU40: 2019 | AV40: 2019 | AW40: Trung cấp | AX40: Chính quy 3 năm | AY40: Khoa Công nghệ Thông tin | AZ40: Tin học ứng dụng | BA40: Tin học ứng dụng | BB40: Trường Cao đẳng Lý Tự Trọng TPHCM | BC40: 19000030
A41: 31 | B41: 19000031 | D41: Huỳnh Thái | E41: Toàn | F41: Nam | G41: 07/09/2004 | J41: =MID(H41,3,1) | K41: =MID(H41,4,2) | L41: =RIGHT(M41,10) -> 7932795051 | M41: 7932795051 | O41: 19T4-CNÔ1 | S41: 216/3 Lạc Long Quân, Phường 10, Quận 11 TP.Hồ Chí Minh | T41: 216/3 Lạc Long Quân, Phường 10, Quận 11 TP.Hồ Chí Minh | U41: 216/3 Lạc Long Quân, Phường 10, Quận 11, Tp.Hồ Chí Minh | V41: 216/3 Lạc Long Quân | W41: Phường 10 | X41: Quận 11 | Y41: Thành phố Hồ Chí Minh | AD41: 79 | AE41: Thành phố Hồ Chí Minh | AF41: 772 | AG41: Quận 11 | AH41: 27223 | AI41: Phường 10 | AN41: Tp. Hồ Chí Minh | AO41: Quận 11 | AP41: 19T40194 | AQ41: Đang học | AR41: 1 | AS41: 19T4-CNÔ1 | AT41: 16/05/2019 | AU41: 2019 | AV41: 2019 | AW41: Trung cấp | AX41: Chính quy 3 năm | AY41: Khoa Động lực | AZ41: Công nghệ ô tô | BA41: Công nghệ ô tô | BB41: Trường Cao đẳng Lý Tự Trọng TPHCM | BC41: 19000031
A42: 32 | B42: 19000032 | D42: Huỳnh Văn | E42: Đạt | F42: Nam | G42: 14/05/2004 | H42: =VLOOKUP(B42,'ĐKKCBBĐ K2019'!$B$5:$C$414,2,0) -> HS4797936735269 | I42: =LEFT(H42,2) -> HS | J42: =MID(H42,3,1) -> 4 | K42: =MID(H42,4,2) -> 79 | M42: HS4797936735269 | O42: 19T4-QTM1 | S42: 66/12/9 Đường 45, Phường 14, Q.Gò Vấp TPHCM | T42: 66/12/9 Đường 45, Phường 14, Q.Gò Vấp TPHCM | U42: 66/12/9 Đường 45, Phường 14, Q.Gò Vấp, Tphcm | V42: 66/12/9 Đường 45 | W42: Phường 14 | X42: Q.Gò Vấp | Y42: Thành phố Hồ Chí Minh | AD42: 79 | AE42: Thành phố Hồ Chí Minh | AF42: 764 | AG42: Quận Gò Vấp | AH42: 26882 | AI42: Phường 14 | AK42: KV3 | AN42: Tp. Hồ Chí Minh | AO42: Quận Gò Vấp | AP42: 19T40232 | AQ42: Đang học | AR42: 1 | AS42: 19T4-QTM1 | AT42: 16/05/2019 | AU42: 2019 | AV42: 2019 | AW42: Trung cấp | AX42: Chính quy 3 năm | AY42: Khoa Công nghệ Thông tin | AZ42: Quản trị mạng máy tính | BA42: Quản trị mạng máy tính | BB42: Trường Cao đẳng Lý Tự Trọng TPHCM | BC42: 19000032
A43: 33 | B43: 19000033 | D43: Nguyễn Quốc | E43: Phục | F43: Nam | G43: 20/09/1997 | J43: =MID(H43,3,1) | K43: =MID(H43,4,2) | L43: =RIGHT(M43,10) | O43: 19C1-CNÔ1 | S43: Số 72 Quang Trung, Tổ dân phố 2, TT.Chư Sê, huyện Chư Sê, tỉnh Gia Lai | T43: Số 72 Quang Trung, Tổ dân phố 2, TT.Chư Sê, huyện Chư Sê, tỉnh Gia Lai | U43: Số 72 Quang Trung Tổ Dân Phố 2, Tt.Chư Sê, Huyện Chư Sê, Tỉnh Gia Lai | V43: Số 72 Quang Trung Tổ Dân Phố 2 | W43: Tt.Chư Sê | X43: Huyện Chư Sê | Y43: Tỉnh Gia Lai | AK43: KV3 | AN43: Gia Lai | AO43: Huyện Chư Sê | AP43: 19C10129 | AQ43: Đang học | AR43: 1 | AS43: 19C1-CNÔ1 | AT43: 16/05/2019 | AU43: 2019 | AV43: 2019 | AW43: Cao đẳng | AX43: Chính quy 2 năm | AY43: Khoa Động lực | AZ43: Công nghệ ô tô | BA43: Công nghệ ô tô | BB43: Trường Cao đẳng Lý Tự Trọng TPHCM | BC43: 19000033
A44: 34 | B44: 19000034 | D44: Nguyễn Lê Minh | E44: Kha | F44: Nam | G44: 30/08/2004 | H44: =VLOOKUP(B44,'ĐKKCBBĐ K2019'!$B$5:$C$414,2,0) -> HS4797935719015 | I44: =LEFT(H44,2) -> HS | J44: =MID(H44,3,1) -> 4 | K44: =MID(H44,4,2) -> 79 | M44: HS4797935719015 | O44: 19T4-TĐH1 | S44: C9/28 Đường Trịnh Như Khuê, Ấp 3, Xã Bình Chánh, Huyện Bình Chánh, Tp.HCM | T44: C9/28 Đường Trịnh Như Khuê, Ấp 3, Xã Bình Chánh, Huyện Bình Chánh, Tp.HCM | U44: C9/28 Đường Trịnh Như Khuê Ấp 3, Xã Bình Chánh, Huyện Bình Chánh, Tp.Hcm | V44: C9/28 Đường Trịnh Như Khuê Ấp 3 | W44: Xã Bình Chánh | X44: Huyện Bình Chánh | Y44: Thành phố Hồ Chí Minh | AD44: 79 | AE44: Thành phố Hồ Chí Minh | AF44: 785 | AG44: Huyện Bình Chánh | AH44: 27637 | AI44: Xã Bình Chánh | AK44: KV2 | AN44: Tp. Hồ Chí Minh | AO44: Huyện Bình Chánh | AP44: 19T40389 | AQ44: Đang học | AR44: 1 | AS44: 19T4-TĐH1 | AT44: 17/05/2019 | AU44: 2019 | AV44: 2019 | AW44: Trung cấp | AX44: Chính quy 3 năm | AY44: Khoa Điện - Điện tử | AZ44: Công nghệ kỹ thuật điều khiển tự động | BA44: Công nghệ kỹ thuật điều khiển tự động | BB44: Trường Cao đẳng Lý Tự Trọng TPHCM | BC44: 19000034
A45: 35 | B45: 19000035 | D45: Võ Thanh | E45: Hiếu | F45: Nam | G45: 28/06/2004 | H45: =VLOOKUP(B45,'ĐKKCBBĐ K2019'!$B$5:$C$414,2,0) -> HS4797928535928 | I45: =LEFT(H45,2) -> HS | J45: =MID(H45,3,1) -> 4 | K45: =MID(H45,4,2) -> 79 | M45: HS 4797928535928 | O45: 19T4-ĐCN1 | S45: 21/35 TRẦN BÁ THƯỚC P7 PHÚ NHUẬN | T45: 21/35 TRẦN BÁ THƯỚC P7 PHÚ NHUẬN | U45: 21/35 Cầm Bá Thước ,P7 ,Phú Nhuận,tppcm | V45: 21/35 Cầm Bá Thước | W45: P7 | X45: Phú Nhuận | Y45: Thành phố Hồ Chí Minh | AD45: 79 | AE45: Thành phố Hồ Chí Minh | AF45: 768 | AG45: Quận Phú Nhuận | AH45: 27052 | AI45: Phường 07 | AK45: KV3 | AN45: Tp. Hồ Chí Minh | AO45: Quận Phú Nhuận | AP45: 19T40278 | AQ45: Đang học | AR45: 1 | AS45: 19T4-ĐCN1 | AT45: 17/05/2019 | AU45: 2019 | AV45: 2019 | AW45: Trung cấp | AX45: Chính quy 3 năm | AY45: Khoa Điện - Điện tử | AZ45: Điện công nghiệp | BA45: Điện công nghiệp | BB45: Trường Cao đẳng Lý Tự Trọng TPHCM | BC45: 19000035
A46: 36 | B46: 19000036 | D46: Vũ Y | E46: Phụng | F46: Nữ | G46: 13/10/2003 | J46: =MID(H46,3,1) | K46: =MID(H46,4,2) | L46: =RIGHT(M46,10) -> 7932703471 | M46: 7932703471 | O46: 19T4-NNA1 | S46: 148 Nguyễn Thị Nhỏ, P.15, Q.11, TPHCM | T46: 148 Nguyễn Thị Nhỏ, P.15, Q.11, TPHCM | U46: 148 Nguyễn Thị Nhỏ, P.15, Q.11, Tphcm | V46: 148 Nguyễn Thị Nhỏ | W46: P.15 | X46: Q.11 | Y46: Thành phố Hồ Chí Minh | AD46: 79 | AE46: Thành phố Hồ Chí Minh | AF46: 772 | AG46: Quận 11 | AH46: 27208 | AI46: Phường 15 | AK46: KV3 | AN46: Tp. Hồ Chí Minh | AO46: Quận 11 | AP46: 19T40009 | AQ46: Đang học | AR46: 1 | AS46: 19T4-NNA1 | AT46: 17/05/2019 | AU46: 2019 | AV46: 2019 | AW46: Trung cấp | AX46: Chính quy 3 năm | AY46: Khoa Khoa học cơ bản | AZ46: Tiếng Anh | BA46: Tiếng Anh | BB46: Trường Cao đẳng Lý Tự Trọng TPHCM | BC46: 19000036
A47: 37 | B47: 19000037 | D47: Ngô Khí | E47: Tài | F47: Nam | G47: 23/03/2000 | H47: =VLOOKUP(B47,'ĐKKCBBĐ K2019'!$B$5:$C$414,2,0) -> SV4797938292389 | I47: =LEFT(H47,2) -> SV | J47: =MID(H47,3,1) -> 4 | K47: =MID(H47,4,2) -> 79 | M47: SV 4797938292389 | O47: 19C1-TKĐ1 | S47: 108 L1, Đường Hồ Tùng Mậu, Phường Bến Nghé, Quận 1, Thành phố Hồ Chí Minh | T47: 182 Chiến Thắng, Phường 9, Quận Phú Nhuận | U47: 108 L1 Đường Hồ Tùng Mậu, Phường Bến Nghé, Quận 1, Thành Phố Hồ Chí Minh | V47: 108 L1 Đường Hồ Tùng Mậu | W47: Phường Bến Nghé | X47: Quận 1 | Y47: Thành phố Hồ Chí Minh | AC47: 14/04/2016 | AD47: 79 | AE47: Thành phố Hồ Chí Minh | AF47: 760 | AG47: Quận 1 | AH47: 26740 | AI47: Phường Bến Nghé | AK47: KV3 | AN47: Tp. Hồ Chí Minh | AO47: Quận 1 | AP47: 19C10062 | AQ47: Đang học | AR47: 1 | AS47: 19C1-TKĐ1 | AT47: 17/05/2019 | AU47: 2019 | AV47: 2019 | AW47: Cao đẳng | AX47: Chính quy 2 năm | AY47: Khoa Công nghệ Thông tin | AZ47: Thiết kế đồ họa | BA47: Thiết kế đồ họa | BB47: Trường Cao đẳng Lý Tự Trọng TPHCM | BC47: 19000037
A48: 38 | B48: 19000038 | D48: Trần Ngọc | E48: Tú | F48: Nam | G48: 06/12/1996 | J48: =MID(H48,3,1) | K48: =MID(H48,4,2) | L48: =RIGHT(M48,10) -> 7928441683 | M48: 7928441683 | O48: 19C1-CCK1 | S48: 4E , Khu phố 2, Phường Trung Mỹ Tây, Quận 12, TPHCM | T48: 4E , Khu phố 2, Phường Trung Mỹ Tây, Quận 12, TPHCM | U48: 4E Khu Phố 2, Phường Trung Mỹ Tây, Quận 12, Tphcm | V48: 4E Khu Phố 2 | W48: Phường Trung Mỹ Tây | X48: Quận 12 | Y48: Thành phố Hồ Chí Minh | AD48: 79 | AE48: Thành phố Hồ Chí Minh | AF48: 761 | AG48: Quận 12 | AH48: 26785 | AI48: Phường Trung Mỹ Tây | AK48: KV3 | AN48: Tp. Hồ Chí Minh | AO48: Quận 12 | AP48: 19C10157 | AQ48: Đang học | AR48: 1 | AS48: 19C1-CCK1 | AT48: 18/05/2019 | AU48: 2019 | AV48: 2019 | AW48: Cao đẳng | AX48: Chính quy 2 năm | AY48: Khoa Cơ khí | AZ48: Công nghệ kỹ thuật cơ khí | BA48: Công nghệ kỹ thuật cơ khí | BB48: Trường Cao đẳng Lý Tự Trọng TPHCM | BC48: 19000038
A49: 39 | B49: 19000039 | D49: Mai Quốc | E49: An | F49: Nam | G49: 26/07/2003 | J49: =MID(H49,3,1) | K49: =MID(H49,4,2) | L49: =RIGHT(M49,10) -> 7931307559 | M49: 7931307559 | O49: 19T4-ANM1 | S49: 225 Chung Cư Thanh Niên Bàu cát 2 p.14 | T49: 027 chung cư thanh niên đường bàu cát 2 phường 14 Quận Tân Bình | U49: 225 Chung Cư Thanh Niên Bàu Cát 2 ,P.14, quận tb, tphcm | V49: 225 Chung Cư Thanh Niên Bàu Cát 2 | W49: P.14 | X49: quận tb | Y49: Thành phố Hồ Chí Minh | AC49: 05/05/2019 | AD49: 79 | AE49: Thành phố Hồ Chí Minh | AF49: 766 | AG49: Quận Tân Bình | AH49: 27004 | AI49: Phường 14 | AN49: Tp. Hồ Chí Minh | AO49: Quận Tân Phú | AP49: 19T40155 | AQ49: Đang học | AR49: 1 | AS49: 19T4-ANM1 | AT49: 18/05/2019 | AU49: 2019 | AV49: 2019 | AW49: Trung cấp | AX49: Chính quy 3 năm | AY49: Khoa Công nghệ Thông tin | AZ49: An ninh mạng | BA49: An ninh mạng | BB49: Trường Cao đẳng Lý Tự Trọng TPHCM | BC49: 19000039
A50: 40 | B50: 19000040 | D50: Đỗ Trần Quốc | E50: Đạt | F50: Nam | G50: 11/03/2001 | J50: =MID(H50,3,1) | K50: =MID(H50,4,2) | L50: =RIGHT(M50,10) -> 7939215767 | M50: 7939215767 | O50: 19T4-VSL1 | S50: B14/8 Khu Phố 1 Bình An Q.2 Tp HCM | U50: B14/8 Khu Phố 1, Bình An, Q.2 ,Tp Hcm | V50: B14/8 Khu Phố 1 | W50: Bình An | X50: Q.2 | Y50: Thành phố Hồ Chí Minh | AD50: 79 | AE50: Thành phố Hồ Chí Minh | AF50: 769 | AG50: Quận 2 | AH50: 27094 | AI50: Phường Bình An | AN50: Tp. Hồ Chí Minh | AO50: Quận 2 | AP50: 19T40409 | AQ50: Đang học | AR50: 1 | AS50: 19T4-VSL1 | AT50: 18/05/2019 | AU50: 2019 | AV50: 2019 | AW50: Trung cấp | AX50: Chính quy 3 năm | AY50: Khoa Nhiệt – Lạnh | AZ50: Vận hành, sửa chữa thiết bị lạnh | BA50: Vận hành, sửa chữa thiết bị lạnh | BB50: Trường Cao đẳng Lý Tự Trọng TPHCM | BC50: 19000040
A51: 41 | B51: 19000041 | D51: Mạc Huỳnh Quốc | E51: Huy | F51: Nam | G51: 07/10/1999 | J51: =MID(H51,3,1) | K51: =MID(H51,4,2) | L51: =RIGHT(M51,10) -> 8321671433 | M51: 8321671433 | O51: 19C1-CNÔ1 | S51: số 144, Ấp Phú Đông 1, An Định, Mỏ Cày Nam, Bến Tre | T51: số 144, Ấp Phú Đông 1, An Định, Mỏ Cày Nam, Bến Tre | U51: Số 144 Ấp Phú Đông 1, An Định, Mỏ Cày Nam, Bến Tre | V51: Số 144 Ấp Phú Đông 1 | W51: An Định | X51: Mỏ Cày Nam | Y51: Bến Tre | AD51: 83 | AE51: Tỉnh Bến Tre | AF51: 833 | AG51: Huyện Mỏ Cày Nam | AI51: 28957 | AJ51: Xã An Định | AK51: KV2-NT | AN51: Bến Tre | AO51: Huyện Mỏ Cày Nam | AP51: 19C10132 | AQ51: Đang học | AR51: 1 | AS51: 19C1-CNÔ1 | AT51: 18/05/2019 | AU51: 2019 | AV51: 2019 | AW51: Cao đẳng | AX51: Chính quy 2 năm | AY51: Khoa Động lực | AZ51: Công nghệ ô tô | BA51: Công nghệ ô tô | BB51: Trường Cao đẳng Lý Tự Trọng TPHCM | BC51: 19000041
A52: 42 | B52: 19000042 | D52: Nguyễn Thị Đình | E52: Trúc | F52: Nữ | G52: 03/09/2000 | J52: =MID(H52,3,1) | K52: =MID(H52,4,2) | L52: =RIGHT(M52,10) -> 8321684972 | M52: 8321684972 | O52: 19C1-CNÔ1 | S52: số nhà 438, Ấp Phú Lộc Thượng, xã An Định, huyện Mỏ Cày Nam, tỉnh Bến Tre | T52: số nhà 438, Ấp Phú Lộc Thượng, xã An Định, huyện Mỏ Cày Nam, tỉnh Bến Tre | U52: Số Nhà 438 Ấp Phú Lộc Thượng, Xã An Định, Huyện Mỏ Cày Nam, Tỉnh Bến Tre | V52: Số Nhà 438 Ấp Phú Lộc Thượng | W52: Xã An Định | X52: Huyện Mỏ Cày Nam | Y52: Tỉnh Bến Tre | AD52: 83 | AE52: Tỉnh Bến Tre | AF52: 833 | AG52: Huyện Mỏ Cày Nam | AI52: 28957 | AJ52: Xã An Định | AK52: KV2-NT | AN52: Bến Tre | AO52: Huyện Mỏ Cày Nam | AP52: 19C10133 | AQ52: Đang học | AR52: 1 | AS52: 19C1-CNÔ1 | AT52: 18/05/2019 | AU52: 2019 | AV52: 2019 | AW52: Cao đẳng | AX52: Chính quy 2 năm | AY52: Khoa Động lực | AZ52: Công nghệ ô tô | BA52: Công nghệ ô tô | BB52: Trường Cao đẳng Lý Tự Trọng TPHCM | BC52: 19000042
A53: 43 | B53: 19000043 | D53: Nguyễn Thanh | E53: Tâm | F53: Nam | G53: 26/06/2004 | J53: =MID(H53,3,1) | K53: =MID(H53,4,2) | L53: =RIGHT(M53,10) -> 7930215806 | M53: 7930215806 | O53: 19T4-ĐCN1 | S53: 55/12 Đường Số 7, P.7, Q.Gò Vấp | U53: 55/12 Đường Số 7, P.7, Q.Gò Vấp,tphcm | V53: 55/12 Đường Số 7 | W53: P.7 | X53: Q.Gò Vấp | Y53: Thành phố Hồ Chí Minh | AD53: 79 | AE53: Thành phố Hồ Chí Minh | AF53: 764 | AG53: Quận Gò Vấp | AH53: 26890 | AI53: Phường 07 | AK53: KV3 | AN53: Tp. Hồ Chí Minh | AO53: Quận Gò Vấp | AP53: 19T40415 | AQ53: Đang học | AR53: 1 | AS53: 19T4-ĐCN1 | AT53: 20/05/2019 | AU53: 2019 | AV53: 2019 | AW53: Trung cấp | AX53: Chính quy 3 năm | AY53: Khoa Điện - Điện tử | AZ53: Điện công nghiệp | BA53: Điện công nghiệp | BB53: Trường Cao đẳng Lý Tự Trọng TPHCM | BC53: 19000043
A54: 44 | B54: 19000044 | D54: Lê Đức | E54: Trong | F54: Nam | G54: 30/10/1996 | J54: =MID(H54,3,1) | K54: =MID(H54,4,2) | L54: =RIGHT(M54,10) -> 8022586365 | M54: 8022586365 | O54: 19C1-ĐĐT1 | S54: Số 16 tổ 1 ấp 1 xã tân ân, huyện cần đước, tỉnh long an | T54: Tân Ân- Cần Đước- Long An | U54: Số 16 Tổ 1 Ấp 1 Xã Tân Ân, Huyện Cần Đước, Tỉnh Long An | V54: Số 16 Tổ 1 Ấp 1 | W54: Xã Tân Ân | X54: Huyện Cần Đước | Y54: Tỉnh Long An | AC54: 10/12/2015 | AK54: KV2-NT | AN54: Long An | AO54: Huyện Cần Đước | AP54: 19C10169 | AQ54: Đang học | AR54: 1 | AS54: 19C1-ĐĐT1 | AT54: 20/05/2019 | AU54: 2019 | AV54: 2019 | AW54: Cao đẳng | AX54: Chính quy 2 năm | AY54: Khoa Điện - Điện tử | AZ54: Công nghệ kỹ thuật điện, điện tử | BA54: Công nghệ kỹ thuật điện, điện tử | BB54: Trường Cao đẳng Lý Tự Trọng TPHCM | BC54: 19000044
A55: 45 | B55: 19000045 | D55: Nguyễn Nhật | E55: Huy | F55: Nam | G55: 06/04/1999 | J55: =MID(H55,3,1) | K55: =MID(H55,4,2) | L55: =RIGHT(M55,10) -> 5221601381 | M55: 5221601381 | O55: 19T2-ĐCN1 | S55: Phú Thịnh, Tây Phú, Tây Sơn, Bình Định | T55: Phú Thịnh, Tây Phú, Tây Sơn, Bình Định | U55: Phú Thịnh, Tây Phú, Tây Sơn, Bình Định | V55: Phú Thịnh | W55: Tây Phú | X55: Tây Sơn | Y55: Bình Định | AK55: KV2-NT | AL55: Đối tượng 01 | AN55: Bình Định | AO55: Huyện Tây Sơn | AP55: 19T20005 | AQ55: Đang học | AR55: 1 | AS55: 19T2-ĐCN1 | AT55: 20/05/2019 | AU55: 2019 | AV55: 2019 | AW55: Trung cấp | AX55: Chính quy 1N3 | AY55: Khoa Điện - Điện tử | AZ55: Điện công nghiệp | BA55: Điện công nghiệp | BB55: Trường Cao đẳng Lý Tự Trọng TPHCM | BC55: 19000045
A56: 46 | B56: 19000046 | D56: Trần Nhật | E56: Phong | F56: Nam | G56: 22/01/2004 | J56: =MID(H56,3,1) | K56: =MID(H56,4,2) | L56: =RIGHT(M56,10) -> 7932779307 | M56: 7932779307 | O56: 19T4-CNÔ1 | S56: 225 Lạc Long Quân, Phường 3, Quận 11, Tp.HCM | T56: 225 Lạc Long Quân, Phường 3, Quận 11, Tp.HCM | U56: 225 Lạc Long Quân, Phường 3, Quận 11, Tp.Hcm | V56: 225 Lạc Long Quân | W56: Phường 3 | X56: Quận 11 | Y56: Thành phố Hồ Chí Minh | AD56: 79 | AE56: Thành phố Hồ Chí Minh | AF56: 772 | AG56: Quận 11 | AH56: 27220 | AI56: Phường 03 | AK56: KV3 | AN56: Tp. Hồ Chí Minh | AO56: Quận 11 | AP56: 19T40293 | AQ56: Đang học | AR56: 1 | AS56: 19T4-CNÔ1 | AT56: 20/05/2019 | AU56: 2019 | AV56: 2019 | AW56: Trung cấp | AX56: Chính quy 3 năm | AY56: Khoa Động lực | AZ56: Công nghệ ô tô | BA56: Công nghệ ô tô | BB56: Trường Cao đẳng Lý Tự Trọng TPHCM | BC56: 19000046
A57: 47 | B57: 19000047 | D57: Kỳ Chí | E57: An | F57: Nam | G57: 28/08/2004 | J57: =MID(H57,3,1) | K57: =MID(H57,4,2) | L57: =RIGHT(M57,10) -> 7932636358 | M57: 7932636358 | O57: 19T4-LTM1 | S57: 027 LÔ A CHUNG CƯ LẠC LONG QUÂN PHƯỜNG 5 QUẬN 11 TP.HCM | U57: 027 Lô A Chung Cư Lạc Long Quân, Phường 5, Quận 11, Tp.Hcm | V57: 027 Lô A Chung Cư Lạc Long Quân | W57: Phường 5 | X57: Quận 11 | Y57: Thành phố Hồ Chí Minh | AD57: 79 | AE57: Thành phố Hồ Chí Minh | AF57: 772 | AG57: Quận 11 | AH57: 27211 | AI57: Phường 05 | AK57: KV3 | AN57: Tp. Hồ Chí Minh | AO57: Quận 11 | AP57: 19T40042 | AQ57: Đang học | AR57: 1 | AS57: 19T4-LTM1 | AT57: 20/05/2019 | AU57: 2019 | AV57: 2019 | AW57: Trung cấp | AX57: Chính quy 3 năm | AY57: Khoa Công nghệ Thông tin | AZ57: Lập trình máy tính | BA57: Lập trình máy tính | BB57: Trường Cao đẳng Lý Tự Trọng TPHCM | BC57: 19000047
A58: 48 | B58: 19000048 | D58: Nguyễn Đăng | E58: Khoa | F58: Nam | G58: 04/07/2000 | H58: =VLOOKUP(B58,'ĐKKCBBĐ K2019'!$B$5:$C$414,2,0) -> HS4797935021523 | I58: =LEFT(H58,2) -> HS | J58: =MID(H58,3,1) -> 4 | K58: =MID(H58,4,2) -> 79 | M58: HS 4797935021523 | O58: 19C1-ĐCN1 | S58: 164 đường số 1, ấp 3, xã Phước Vĩnh An, huyện Củ Chi, TP HCM | U58: 164 Đường Số 1 Ấp 3, Xã Phước Vĩnh An, Huyện Củ Chi, Tp Hcm | V58: 164 Đường Số 1 Ấp 3 | W58: Xã Phước Vĩnh An | X58: Huyện Củ Chi | Y58: Thành phố Hồ Chí Minh | AD58: 79 | AE58: Thành phố Hồ Chí Minh | AF58: 783 | AG58: Huyện Củ Chi | AH58: 27535 | AI58: Xã Phước Vĩnh An | AK58: KV2 | AN58: Tp. Hồ Chí Minh | AO58: Huyện Củ Chi | AP58: 19C10363 | AQ58: Đang học | AR58: 1 | AS58: 19C1-ĐCN1 | AT58: 20/05/2019 | AU58: 2019 | AV58: 2019 | AW58: Cao đẳng | AX58: Chính quy 2 năm | AY58: Khoa Điện - Điện tử | AZ58: Điện công nghiệp | BA58: Điện công nghiệp | BB58: Trường Cao đẳng Lý Tự Trọng TPHCM | BC58: 19000048
A59: 49 | B59: 19000049 | D59: Huỳnh Trung | E59: Nhân | F59: Nam | G59: 28/04/2001 | H59: =VLOOKUP(B59,'ĐKKCBBĐ K2019'!$B$5:$C$414,2,0) -> HS4797937633341 | I59: =LEFT(H59,2) -> HS | J59: =MID(H59,3,1) -> 4 | K59: =MID(H59,4,2) -> 79 | M59: HS 4797937633341 | O59: 19C1-ĐĐT1 | S59: 1/139B Ấp Đình Xã Tuân Xuân, Huyện Học Môn, TPHCM | U59: 1/139B Ấp Đình, Xã Tân Xuân, Huyện Học Môn, Tphcm | V59: 1/139B Ấp Đình | W59: Xã Tân Xuân | X59: Huyện Học Môn | Y59: Thành phố Hồ Chí Minh | AD59: 79 | AE59: Thành phố Hồ Chí Minh | AF59: 784 | AG59: Huyện Hóc Môn | AH59: 27580 | AI59: Xã Tân Xuân | AK59: KV2 | AN59: Tp. Hồ Chí Minh | AO59: Huyện Hóc Môn | AP59: 19C10340 | AQ59: Đang học | AR59: 1 | AS59: 19C1-ĐĐT1 | AT59: 20/05/2019 | AU59: 2019 | AV59: 2019 | AW59: Cao đẳng | AX59: Chính quy 2 năm | AY59: Khoa Điện - Điện tử | AZ59: Công nghệ kỹ thuật điện, điện tử | BA59: Công nghệ kỹ thuật điện, điện tử | BB59: Trường Cao đẳng Lý Tự Trọng TPHCM | BC59: 19000049
A60: 50 | B60: 19000050 | D60: Trần Kim | E60: Thảo | F60: Nữ | G60: 19/05/2001 | H60: =VLOOKUP(B60,'ĐKKCBBĐ K2019'!$B$5:$C$414,2,0) -> HS4797935362287 | I60: =LEFT(H60,2) -> HS | J60: =MID(H60,3,1) -> 4 | K60: =MID(H60,4,2) -> 79 | M60: HS 4797935362287 | O60: 19C1-MVT1 | S60: 3/160B ấp Đình, xã Tần Xuân, huyện Hóc Môn, TPHCM | U60: 3/160B Ấp Đình, Xã Tân Xuân, Huyện Hóc Môn, Tphcm | V60: 3/160B Ấp Đình | W60: Xã Tân Xuân | X60: Huyện Hóc Môn | Y60: Thành phố Hồ Chí Minh | AD60: 79 | AE60: Thành phố Hồ Chí Minh | AF60: 784 | AG60: Huyện Hóc Môn | AH60: 27580 | AI60: Xã Tân Xuân | AK60: KV2 | AN60: Tp. Hồ Chí Minh | AO60: Huyện Hóc Môn | AP60: 19C10473 | AQ60: Đang học | AR60: 1 | AS60: 19C1-MVT1 | AT60: 20/05/2019 | AU60: 2019 | AV60: 2019 | AW60: Cao đẳng | AX60: Chính quy 2 năm | AY60: Khoa May - Thời trang | AZ60: Công nghệ may Veston | BA60: Công nghệ may Veston | BB60: Trường Cao đẳng Lý Tự Trọng TPHCM | BC60: 19000050
A61: 51 | B61: 19000051 | D61: Nguyễn Tuấn | E61: Anh | F61: Nam | G61: 22/04/2003 | H61: =VLOOKUP(B61,'ĐKKCBBĐ K2019'!$B$5:$C$414,2,0) -> HS4797939201157 | I61: =LEFT(H61,2) -> HS | J61: =MID(H61,3,1) -> 4 | K61: =MID(H61,4,2) -> 79 | M61: HS 4797939201157 | O61: 19T4-KML1 | S61: 11/3 ấp xóm đồng xã Tân Phú Trung Củ Chi | T61: 11/3 ấp xóm đồng xã Tan phú trung củ chi | U61: 11/3 Ấp Xóm Đồng, Xã Tân Phú Trung ,Củ Chi,tphcm | V61: 11/3 Ấp Xóm Đồng | W61: Xã Tân Phú Trung | X61: Củ Chi | Y61: Thành phố Hồ Chí Minh | AD61: 79 | AE61: Thành phố Hồ Chí Minh | AF61: 783 | AG61: Huyện Củ Chi | AH61: 27553 | AI61: Xã Tân Phú Trung | AK61: KV2 | AN61: Tp. Hồ Chí Minh | AO61: Huyện Củ Chi | AP61: 19T40148 | AQ61: Đang học | AR61: 1 | AS61: 19T4-KML1 | AT61: 21/05/2019 | AU61: 2019 | AV61: 2019 | AW61: Trung cấp | AX61: Chính quy 3 năm | AY61: Khoa Nhiệt – Lạnh | AZ61: Kỹ thuật máy lạnh và điều hòa không khí | BA61: Kỹ thuật máy lạnh và điều hòa không khí | BB61: Trường Cao đẳng Lý Tự Trọng TPHCM | BC61: 19000051
A62: 52 | B62: 19000052 | D62: Nguyễn Thị Quỳnh | E62: Như | F62: Nữ | G62: 22/06/2004 | H62: =VLOOKUP(B62,'ĐKKCBBĐ K2019'!$B$5:$C$414,2,0) -> HS4797936735319 | I62: =LEFT(H62,2) -> HS | J62: =MID(H62,3,1) -> 4 | K62: =MID(H62,4,2) -> 79 | M62: HS 4797936735319 | O62: 19T4-QTD1 | S62: 445/17, đường Phan Huy Ích, phường 14, quận Gò Vấp, thành phố Hồ Chí Minh | T62: 911/29 Quang Trung, Phường 14, Quận Gò Vấp, Tp.HCM | U62: 445/17Đường Phan Huy Ích, Phường 14, Quận Gò Vấp, Thành Phố Hồ Chí Minh | V62: 445/17Đường Phan Huy Ích | W62: Phường 14 | X62: Quận Gò Vấp | Y62: Thành phố Hồ Chí Minh | AD62: 79 | AE62: Thành phố Hồ Chí Minh | AF62: 764 | AG62: Quận Gò Vấp | AH62: 26882 | AI62: Phường 14 | AK62: KV3 | AN62: Tp. Hồ Chí Minh | AO62: Quận Gò Vấp | AP62: 19T40410 | AQ62: Đang học | AR62: 1 | AS62: 19T4-QTD1 | AT62: 21/05/2019 | AU62: 2019 | AV62: 2019 | AW62: Trung cấp | AX62: Chính quy 3 năm | AY62: Khoa Kinh tế | AZ62: Quản trị doanh nghiệp | BA62: Quản trị doanh nghiệp | BB62: Trường Cao đẳng Lý Tự Trọng TPHCM | BC62: 19000052
A63: 53 | B63: 19000053 | D63: Trương Thị Hải | E63: Yến | F63: Nữ | G63: 18/01/2004 | H63: =VLOOKUP(B63,'ĐKKCBBĐ K2019'!$B$5:$C$414,2,0) -> HS4797930068545 | I63: =LEFT(H63,2) -> HS | J63: =MID(H63,3,1) -> 4 | K63: =MID(H63,4,2) -> 79 | M63: HS 4797930068545 | O63: 19T4-LTM1 | S63: 129/5 Nguyễn Duy Cung, phường 12, quận Gò Vấp, thành phố Hồ Chí Minh | T63: 129/5 Nguyễn Duy Cung, phường 12, quận Gò Vấp, thành phố Hồ Chí Minh | U63: 129/5 Nguyễn Duy Cung, Phường 12, Quận Gò Vấp, Thành Phố Hồ Chí Minh | V63: 129/5 Nguyễn Duy Cung | W63: Phường 12 | X63: Quận Gò Vấp | Y63: Thành phố Hồ Chí Minh | AC63: 11/03/2019 | AD63: 79 | AE63: Thành phố Hồ Chí Minh | AF63: 764 | AG63: Quận Gò Vấp | AH63: 26881 | AI63: Phường 12 | AK63: KV3 | AN63: Tp. Hồ Chí Minh | AO63: Quận Gò Vấp | AP63: 19T40403 | AQ63: Đang học | AR63: 1 | AS63: 19T4-LTM1 | AT63: 21/05/2019 | AU63: 2019 | AV63: 2019 | AW63: Trung cấp | AX63: Chính quy 3 năm | AY63: Khoa Công nghệ Thông tin | AZ63: Lập trình máy tính | BA63: Lập trình máy tính | BB63: Trường Cao đẳng Lý Tự Trọng TPHCM | BC63: 19000053
A64: 54 | B64: 19000054 | D64: Phan Đức | E64: Trường | F64: Nam | G64: 02/09/2003 | J64: =MID(H64,3,1) | K64: =MID(H64,4,2) | L64: =RIGHT(M64,10) -> 7937811836 | M64: 7937811836 | O64: 19T4-LĐL1 | S64: 87/57/2/2 Nguyễn Sỹ Sách, phường 15, Quận Tân Bình, Tp. Hồ Chí Minh | T64: 87/57/2/2 Nguyễn Sỹ Sách, phường 15, Quận Tân Bình, Tp. Hồ Chí Minh | U64: 87/57/2/2 Nguyễn Sỹ Sách, Phường 15, Quận Tân Bình, Tp. Hồ Chí Minh | V64: 87/57/2/2 Nguyễn Sỹ Sách | W64: Phường 15 | X64: Quận Tân Bình | Y64: Thành phố Hồ Chí Minh | AD64: 79 | AE64: Thành phố Hồ Chí Minh | AF64: 766 | AG64: Quận Tân Bình | AH64: 27007 | AI64: Phường 15 | AK64: KV3 | AN64: Tp. Hồ Chí Minh | AO64: Quận Tân Bình | AP64: 19T40382 | AQ64: Đang học | AR64: 1 | AS64: 19T4-LĐL1 | AT64: 21/05/2019 | AU64: 2019 | AV64: 2019 | AW64: Trung cấp | AX64: Chính quy 3 năm | AY64: Khoa Nhiệt – Lạnh | AZ64: Lắp đặt thiết bị lạnh | BA64: Lắp đặt thiết bị lạnh | BB64: Trường Cao đẳng Lý Tự Trọng TPHCM | BC64: 19000054
A65: 55 | B65: 19000055 | D65: Kha Trương Đại | E65: Phước | F65: Nam | G65: 31/07/2004 | H65: =VLOOKUP(B65,'ĐKKCBBĐ K2019'!$B$5:$C$414,2,0) -> HS4797932642826 | I65: =LEFT(H65,2) -> HS | J65: =MID(H65,3,1) -> 4 | K65: =MID(H65,4,2) -> 79 | M65: HS 4797932642826 | O65: 19T4-TĐH1 | S65: 63/13 đường 702 Hồng Bàng, phường 1, quận 11, Tp.HCM | U65: 63/13 Đường 702 Hồng Bàng, Phường 1, Quận 11, Tp.Hcm | V65: 63/13 Đường 702 Hồng Bàng | W65: Phường 1 | X65: Quận 11 | Y65: Thành phố Hồ Chí Minh | AD65: 79 | AE65: Thành phố Hồ Chí Minh | AF65: 772 | AG65: Quận 11 | AH65: 27247 | AI65: Phường 01 | AK65: KV3 | AN65: Tp. Hồ Chí Minh | AO65: Quận 6 | AP65: 19T40414 | AQ65: Đang học | AR65: 1 | AS65: 19T4-TĐH1 | AT65: 21/05/2019 | AU65: 2019 | AV65: 2019 | AW65: Trung cấp | AX65: Chính quy 3 năm | AY65: Khoa Điện - Điện tử | AZ65: Công nghệ kỹ thuật điều khiển tự động | BA65: Công nghệ kỹ thuật điều khiển tự động | BB65: Trường Cao đẳng Lý Tự Trọng TPHCM | BC65: 19000055
A66: 56 | B66: 19000056 | D66: Bành Nguyễn Cao | E66: Minh | F66: Nam | G66: 17/07/2004 | H66: =VLOOKUP(B66,'ĐKKCBBĐ K2019'!$B$5:$C$414,2,0) -> HS4797936735463 | I66: =LEFT(H66,2) -> HS | J66: =MID(H66,3,1) -> 4 | K66: =MID(H66,4,2) -> 79 | M66: HS 4797936735463 | O66: 19T4-CNÔ1 | S66: 445/1 đường Phan Huy Ích, phường 14, quận Gò Vấp | T66: 445/1 ĐƯỜNG PHAN HUY ÍCH PHƯỜNG 14 QUẬN GÒ VẤP | U66: 445/1 Đường Phan Huy Ích, Phường 14, Quận Gò Vấp,tphcm | V66: 445/1 Đường Phan Huy Ích | W66: Phường 14 | X66: Quận Gò Vấp | Y66: Thành phố Hồ Chí Minh | AD66: 79 | AE66: Thành phố Hồ Chí Minh | AF66: 764 | AG66: Quận Gò Vấp | AH66: 26882 | AI66: Phường 14 | AK66: KV3 | AN66: Tp. Hồ Chí Minh | AO66: Quận Gò Vấp | AP66: 19T40443 | AQ66: Đang học | AR66: 1 | AS66: 19T4-CNÔ1 | AT66: 21/05/2019 | AU66: 2019 | AV66: 2019 | AW66: Trung cấp | AX66: Chính quy 3 năm | AY66: Khoa Động lực | AZ66: Công nghệ ô tô | BA66: Công nghệ ô tô | BB66: Trường Cao đẳng Lý Tự Trọng TPHCM | BC66: 19000056
A67: 57 | B67: 19000057 | D67: Võ Trường | E67: Duy | F67: Nam | G67: 04/02/2004 | H67: =VLOOKUP(B67,'ĐKKCBBĐ K2019'!$B$5:$C$414,2,0) -> HS4797937812125 | I67: =LEFT(H67,2) -> HS | J67: =MID(H67,3,1) -> 4 | K67: =MID(H67,4,2) -> 79 | M67: HS 4797937812125 | O67: 19T4-NNA1 | S67: 956/4 Âu Cơ, P.14, Q.Tân Bình, Tp HCM | T67: 956/4 Âu Cơ, P.14, Q.Tân Bình, Tp HCM | U67: 956/4 Âu Cơ, P.14, Q.Tân Bình, Tp Hcm | V67: 956/4 Âu Cơ | W67: P.14 | X67: Q.Tân Bình | Y67: Thành phố Hồ Chí Minh | AD67: 79 | AE67: Thành phố Hồ Chí Minh | AF67: 766 | AG67: Quận Tân Bình | AH67: 27004 | AI67: Phường 14 | AK67: KV3 | AN67: Tp. Hồ Chí Minh | AO67: Quận Tân Bình | AP67: 19T40317 | AQ67: Đang học | AR67: 1 | AS67: 19T4-NNA1 | AT67: 21/05/2019 | AU67: 2019 | AV67: 2019 | AW67: Trung cấp | AX67: Chính quy 3 năm | AY67: Khoa Khoa học cơ bản | AZ67: Tiếng Anh | BA67: Tiếng Anh | BB67: Trường Cao đẳng Lý Tự Trọng TPHCM | BC67: 19000057
A68: 58 | B68: 19000058 | D68: Huỳnh Phước | E68: Quang | F68: Nam | G68: 18/09/2004 | J68: =MID(H68,3,1) | K68: =MID(H68,4,2) | L68: =RIGHT(M68,10) -> 7221639694 | M68: 7221639694 | O68: 19T4-BCN1 | S68: xã An Cơ, Huyện Châu Thành, tỉnh Tây Ninh | T68: xã An Cơ, Huyện Châu Thành, tỉnh Tây Ninh | U68: ,Xã An Cơ, Huyện Châu Thành, Tỉnh Tây Ninh | W68: Xã An Cơ | X68: Huyện Châu Thành | Y68: Tỉnh Tây Ninh | AK68: KV2 | AN68: Tây Ninh | AO68: Huyện Châu Thành | AP68: 19T40467 | AQ68: Đang học | AR68: 1 | AS68: 19T4-BCN1 | AT68: 21/05/2019 | AU68: 2019 | AV68: 2019 | AW68: Trung cấp | AX68: Chính quy 3 năm | AY68: Khoa Cơ khí | AZ68: Bảo trì hệ thống thiết bị công nghiệp | BA68: Bảo trì hệ thống thiết bị công nghiệp | BB68: Trường Cao đẳng Lý Tự Trọng TPHCM | BC68: 19000058
A69: 59 | B69: 19000059 | D69: Đặng Hồ Vũ | E69: Lâm | F69: Nam | G69: 30/09/1999 | J69: =MID(H69,3,1) | K69: =MID(H69,4,2) | L69: =RIGHT(M69,10) -> 6020011673 | M69: 6020011673 | O69: 19C1-CNÔ1 | S69: Khu Phố Long Sơn , Phường Mũi Né , Thành Phố Phan Thiết , Tỉnh Bình Thuận | T69: 20/11 Nguyễn Thị Thập, Phường Bình Thuận , Quận 7, Tp.HCM | U69: Khu Phố Long Sơn , Phường Mũi Né , Thành Phố Phan Thiết , Tỉnh Bình Thuận | V69: Khu Phố Long Sơn | W69: Phường Mũi Né | X69: Thành Phố Phan Thiết | Y69: Tỉnh Bình Thuận | AK69: KV2 | AN69: Bình Thuận | AO69: Thành phố Phan Thiết | AP69: 19C10322 | AQ69: Đang học | AR69: 1 | AS69: 19C1-CNÔ1 | AT69: 21/05/2019 | AU69: 2019 | AV69: 2019 | AW69: Cao đẳng | AX69: Chính quy 2 năm | AY69: Khoa Động lực | AZ69: Công nghệ ô tô | BA69: Công nghệ ô tô | BB69: Trường Cao đẳng Lý Tự Trọng TPHCM | BC69: 19000059
A70: 60 | B70: 19000060 | D70: Nguyễn Anh | E70: Hào | F70: Nam | G70: 08/06/2004 | J70: =MID(H70,3,1) | K70: =MID(H70,4,2) | L70: =RIGHT(M70,10) -> 7936652853 | M70: 7936652853 | O70: 19T4-QTD1 | S70: 11 Đường Số 6, P.15, Q. Gò Vấp, TPHCM | T70: 11 Đường Số 6, P.15, Q. Gò Vấp, TPHCM | U70: 11 Đường Số 6, P.15, Q. Gò Vấp, Tphcm | V70: 11 Đường Số 6 | W70: P.15 | X70: Q. Gò Vấp | Y70: Thành phố Hồ Chí Minh | AD70: 79 | AE70: Thành phố Hồ Chí Minh | AF70: 764 | AG70: Quận Gò Vấp | AH70: 26869 | AI70: Phường 15 | AK70: KV3 | AN70: Tp. Hồ Chí Minh | AO70: Quận Gò Vấp | AP70: 19T40173 | AQ70: Đang học | AR70: 1 | AS70: 19T4-QTD1 | AT70: 21/05/2019 | AU70: 2019 | AV70: 2019 | AW70: Trung cấp | AX70: Chính quy 3 năm | AY70: Khoa Kinh tế | AZ70: Quản trị doanh nghiệp | BA70: Quản trị doanh nghiệp | BB70: Trường Cao đẳng Lý Tự Trọng TPHCM | BC70: 19000060
A71: 61 | B71: 19000061 | D71: Nguyễn Phan Hoàng | E71: Phúc | F71: Nam | G71: 08/05/1994 | H71: =VLOOKUP(B71,'ĐKKCBBĐ K2019'!$B$5:$C$414,2,0) -> GD4606020438078 | I71: =LEFT(H71,2) -> GD | J71: =MID(H71,3,1) -> 4 | K71: =MID(H71,4,2) -> 60 | M71: GD 4606020438078 | O71: 19C1-TĐH1 | S71: 194 Nguyễn Huệ, khu phố 7, thị trấn Liên Hương, Tỉnh Bình Thuận | T71: 84/19C Đường Số 2, Tân Quy, Quận 7, Tp.HCM | U71: 194 Nguyễn Huệ, Khu Phố 7, Thị Trấn Liên Hương, Tỉnh Bình Thuận | V71: 194 Nguyễn Huệ | W71: Khu Phố 7 | X71: Thị Trấn Liên Hương | Y71: Tỉnh Bình Thuận | AK71: KV2 | AN71: Bình Thuận | AO71: Huyện Tuy Phong | AP71: 19C10151 | AQ71: Đang học | AR71: 1 | AS71: 19C1-TĐH1 | AT71: 21/05/2019 | AU71: 2019 | AV71: 2019 | AW71: Cao đẳng | AX71: Chính quy 2 năm | AY71: Khoa Điện - Điện tử | AZ71: Công nghệ kỹ thuật điều khiển và tự động hóa | BA71: Công nghệ kỹ thuật điều khiển và tự động hóa | BB71: Trường Cao đẳng Lý Tự Trọng TPHCM | BC71: 19000061
A72: 62 | B72: 19000062 | D72: Lê Đăng | E72: Hoàng | F72: Nam | G72: 30/10/2001 | J72: =MID(H72,3,1) | K72: =MID(H72,4,2) | L72: =RIGHT(M72,10) -> 7021448958 | M72: 7021448958 | O72: 19T4-ĐĐT1 | S72: Tổ 1 - An Hòa - Thanh An - Hớn Quản - Bình Phước. | T72: 29/14 Đường B3, Phường Tây Thạnh, Quận Tân Phú, Tp.HCM | U72: Tổ 1 An Hòa ,Thanh An ,Hớn Quản , Bình Phước. | V72: Tổ 1 An Hòa | W72: Thanh An | X72: Hớn Quản | Y72: Bình Phước. | AK72: KV1 | AN72: Bình Phước | AO72: Huyện Hớn Quản | AP72: 19T40065 | AQ72: Đang học | AR72: 1 | AS72: 19T4-ĐĐT1 | AT72: 22/05/2019 | AU72: 2019 | AV72: 2019 | AW72: Trung cấp | AX72: Chính quy 3 năm | AY72: Khoa Điện - Điện tử | AZ72: Công nghệ kỹ thuật điện, điện tử | BA72: Công nghệ kỹ thuật điện, điện tử | BB72: Trường Cao đẳng Lý Tự Trọng TPHCM | BC72: 19000062
A73: 63 | B73: 19000063 | D73: Bùi Minh | E73: Tuấn | F73: Nam | G73: 09/04/2004 | H73: =VLOOKUP(B73,'ĐKKCBBĐ K2019'!$B$5:$C$414,2,0) -> HS4797937959008 | I73: =LEFT(H73,2) -> HS | J73: =MID(H73,3,1) -> 4 | K73: =MID(H73,4,2) -> 79 | M73: HS4797937959008 | O73: 19T4-ĐCN1 | S73: 377/43E, CMT8, Phường 13, Quận 10, Tp.HCM | T73: 377/43E, CMT8, Phường 13, Quận 10, Tp.HCM | U73: 377/43E Cmt8, Phường 13, Quận 10, Tp.Hcm | V73: 377/43E Cmt8 | W73: Phường 13 | X73: Quận 10 | Y73: Thành phố Hồ Chí Minh | AD73: 79 | AE73: Thành phố Hồ Chí Minh | AF73: 771 | AG73: Quận 10 | AH73: 27166 | AI73: Phường 13 | AK73: KV3 | AN73: Tp. Hồ Chí Minh | AO73: Quận 10 | AP73: 19T40491 | AQ73: Đang học | AR73: 1 | AS73: 19T4-ĐCN1 | AT73: 22/05/2019 | AU73: 2019 | AV73: 2019 | AW73: Trung cấp | AX73: Chính quy 3 năm | AY73: Khoa Điện - Điện tử | AZ73: Điện công nghiệp | BA73: Điện công nghiệp | BB73: Trường Cao đẳng Lý Tự Trọng TPHCM | BC73: 19000063
A74: 64 | B74: 19000064 | D74: Xa Đồng | E74: Phúc | F74: Nam | G74: 09/10/2003 | H74: =VLOOKUP(B74,'ĐKKCBBĐ K2019'!$B$5:$C$414,2,0) -> GD4795121590334 | I74: =LEFT(H74,2) -> GD | J74: =MID(H74,3,1) -> 4 | K74: =MID(H74,4,2) -> 79 | M74: GD4795121590334 | O74: 19T4-CNÔ1 | S74: 38/23 đường số 18 B; KP 10; phường Bình Hưng Hòa A; quận Bình Tân; Tp.Hồ Chí Minh | T74: 38/23 đường số 18 B; KP 10; phường Bình Hưng Hòa A; quận Bình Tân; Tp.Hồ Chí Minh | U74: 38/23 Đường Số 18 B Kp 10; Phường Bình Hưng Hòa A; Quận Bình Tân; Tp.Hồ Chí Minh | V74: 38/23 Đường Số 18 B Kp 10 | X74: Quận Bình Tân | Y74: Thành phố Hồ Chí Minh | AD74: 79 | AE74: Thành phố Hồ Chí Minh | AF74: 777 | AG74: Quận Bình Tân | AK74: KV3 | AN74: Quảng Ngãi | AO74: Huyện Tư Nghĩa | AP74: 19T40045 | AQ74: Đang học | AR74: 1 | AS74: 19T4-CNÔ1 | AT74: 22/05/2019 | AU74: 2019 | AV74: 2019 | AW74: Trung cấp | AX74: Chính quy 3 năm | AY74: Khoa Động lực | AZ74: Công nghệ ô tô | BA74: Công nghệ ô tô | BB74: Trường Cao đẳng Lý Tự Trọng TPHCM | BC74: 19000064
A75: 65 | B75: 19000065 | D75: Nguyễn Phú | E75: Huy | F75: Nam | G75: 27/07/2004 | J75: =MID(H75,3,1) | K75: =MID(H75,4,2) | L75: =RIGHT(M75,10) | O75: 19T4-QTM1 | S75: 309/31 Võ Văn Ngân , Linh Chiểu, Thủ Đức, | U75: 309/31 Võ Văn Ngân , Linh Chiểu, Thủ Đức,tphcm | V75: 309/31 Võ Văn Ngân | W75: Linh Chiểu | X75: Thủ Đức | Y75: Thành phố Hồ Chí Minh | AD75: 79 | AE75: Thành phố Hồ Chí Minh | AF75: 762 | AG75: Quận Thủ Đức | AH75: 26815 | AI75: Phường Linh Chiểu | AK75: KV3 | AN75: Tp. Hồ Chí Minh | AO75: Quận Thủ Đức | AP75: 19T40216 | AQ75: Đang học | AR75: 1 | AS75: 19T4-QTM1 | AT75: 22/05/2019 | AU75: 2019 | AV75: 2019 | AW75: Trung cấp | AX75: Chính quy 3 năm | AY75: Khoa Công nghệ Thông tin | AZ75: Quản trị mạng máy tính | BA75: Quản trị mạng máy tính | BB75: Trường Cao đẳng Lý Tự Trọng TPHCM | BC75: 19000065
A76: 66 | B76: 19000066 | D76: Nguyễn Thanh | E76: Trung | F76: Nam | G76: 15/09/2004 | H76: =VLOOKUP(B76,'ĐKKCBBĐ K2019'!$B$5:$C$414,2,0) -> HS4797937970717 | I76: =LEFT(H76,2) -> HS | J76: =MID(H76,3,1) -> 4 | K76: =MID(H76,4,2) -> 79 | M76: HS4797937970717 | O76: 19T4-LTM1 | S76: 234 Đường số 6, Phường 7, Gò Vấp,TPHCM | T76: 234 Đường số 6, Phường 7, Gò Vấp,TPHCM | U76: 234 Đường Số 6, Phường 7, Gò Vấp,Tphcm | V76: 234 Đường Số 6 | W76: Phường 7 | X76: Gò Vấp | Y76: Thành phố Hồ Chí Minh | AD76: 79 | AE76: Thành phố Hồ Chí Minh | AF76: 764 | AG76: Quận Gò Vấp | AH76: 26890 | AI76: Phường 07 | AK76: KV3 | AN76: Tp. Hồ Chí Minh | AO76: Quận Gò Vấp | AP76: 19T40500 | AQ76: Đang học | AR76: 1 | AS76: 19T4-LTM1 | AT76: 22/05/2019 | AU76: 2019 | AV76: 2019 | AW76: Trung cấp | AX76: Chính quy 3 năm | AY76: Khoa Công nghệ Thông tin | AZ76: Lập trình máy tính | BA76: Lập trình máy tính | BB76: Trường Cao đẳng Lý Tự Trọng TPHCM | BC76: 19000066
A77: 67 | B77: 19000067 | D77: Trịnh Đức | E77: Anh | F77: Nam | G77: 26/02/2004 | H77: =VLOOKUP(B77,'ĐKKCBBĐ K2019'!$B$5:$C$414,2,0) -> HS4797935628128 | I77: =LEFT(H77,2) -> HS | J77: =MID(H77,3,1) -> 4 | K77: =MID(H77,4,2) -> 79 | M77: HS4797935628128 | O77: 19T4-TKW1 | S77: Thôn Lam Vĩ, Xã Thiệu Vũ, Huyện Thiệu Hóa, Tỉnh Thanh Hóa | T77: 29/5Đ, Ấp Tẩy Lân, Xã Bà Điểm, Huyện Hóc Môn, Tp.HCM | U77: Thôn Lam Vĩ, Xã Thiệu Vũ, Huyện Thiệu Hóa, Tỉnh Thanh Hóa | V77: Thôn Lam Vĩ | W77: Xã Thiệu Vũ | X77: Huyện Thiệu Hóa | Y77: Tỉnh Thanh Hóa | AK77: KV3 | AN77: Thanh Hoá | AO77: Huyện Thiệu Hoá | AP77: 19T40482 | AQ77: Đang học | AR77: 1 | AS77: 19T4-TKW1 | AT77: 22/05/2019 | AU77: 2019 | AV77: 2019 | AW77: Trung cấp | AX77: Chính quy 3 năm | AY77: Khoa Công nghệ Thông tin | AZ77: Thiết kế trang Web | BA77: Thiết kế trang Web | BB77: Trường Cao đẳng Lý Tự Trọng TPHCM | BC77: 19000067
A78: 68 | B78: 19000068 | D78: Nguyễn Phương | E78: Nam | F78: Nam | G78: 22/09/2004 | H78: =VLOOKUP(B78,'ĐKKCBBĐ K2019'!$B$5:$C$414,2,0) -> HS47979 36735522 | I78: =LEFT(H78,2) -> HS | J78: =MID(H78,3,1) -> 4 | K78: =MID(H78,4,2) -> 79 | M78: HS 47979 36735522 | O78: 19T4-ĐCN1 | S78: Tổ 5, Khu 12, Long Đức, Long Thành, Đồng Nai | T78: 61/33 Phạm Văn Chiêu, Phường 14, Quận Gò Vấp, Tp.HCM | U78: Tổ 5 Khu 12, Long Đức, Long Thành, Đồng Nai | V78: Tổ 5 Khu 12 | W78: Long Đức | X78: Long Thành | Y78: Đồng Nai | AD78: 75 | AE78: Tỉnh Đồng Nai | AK78: KV3 | AN78: Tp. Hồ Chí Minh | AO78: Huyện Hóc Môn | AP78: 19T40199 | AQ78: Đang học | AR78: 1 | AS78: 19T4-ĐCN1 | AT78: 22/05/2019 | AU78: 2019 | AV78: 2019 | AW78: Trung cấp | AX78: Chính quy 3 năm | AY78: Khoa Điện - Điện tử | AZ78: Điện công nghiệp | BA78: Điện công nghiệp | BB78: Trường Cao đẳng Lý Tự Trọng TPHCM | BC78: 19000068
A79: 69 | B79: 19000069 | D79: Phùng Minh | E79: Nhật | F79: Nam | G79: 22/08/2004 | H79: =VLOOKUP(B79,'ĐKKCBBĐ K2019'!$B$5:$C$414,2,0) -> HS4797931981574 | I79: =LEFT(H79,2) -> HS | J79: =MID(H79,3,1) -> 4 | K79: =MID(H79,4,2) -> 79 | M79: HS4797931981574 | O79: 19T4-KML1 | S79: 196/14 Nguyễn Thượng Hiền, phường 5 | U79: 196/14 Nguyễn Thượng Hiền, Phường 5, q3,tphcm | V79: 196/14 Nguyễn Thượng Hiền | W79: Phường 5 | X79: q3 | Y79: Thành phố Hồ Chí Minh | AD79: 79 | AE79: Thành phố Hồ Chí Minh | AF79: 770 | AG79: Quận 3 | AH79: 27151 | AI79: Phường 05 | AK79: KV3 | AN79: Tp. Hồ Chí Minh | AO79: Quận Phú Nhuận | AP79: 19T40503 | AQ79: Đang học | AR79: 1 | AS79: 19T4-KML1 | AT79: 22/05/2019 | AU79: 2019 | AV79: 2019 | AW79: Trung cấp | AX79: Chính quy 3 năm | AY79: Khoa Nhiệt – Lạnh | AZ79: Kỹ thuật máy lạnh và điều hòa không khí | BA79: Kỹ thuật máy lạnh và điều hòa không khí | BB79: Trường Cao đẳng Lý Tự Trọng TPHCM | BC79: 19000069
A80: 70 | B80: 19000070 | D80: Nguyễn Hùng | E80: Mạnh | F80: Nam | G80: 01/08/2004 | H80: =VLOOKUP(B80,'ĐKKCBBĐ K2019'!$B$5:$C$414,2,0) -> HS4797928816197 | I80: =LEFT(H80,2) -> HS | J80: =MID(H80,3,1) -> 4 | K80: =MID(H80,4,2) -> 79 | M80: HS4797928816197 | O80: 19T4-CNÔ1 | S80: 72/2A, Tổ 66B, Khu Phố 6, PTTN, Q.12, TPHCM | T80: 72/2A, Tổ 66B, Khu Phố 6, PTTN, Q.12, TPHCM | U80: 72/2A Tổ 66B Khu Phố 6, Pttn, Q.12, Tphcm | V80: 72/2A Tổ 66B Khu Phố 6 | W80: Pttn | X80: Q.12 | Y80: Thành phố Hồ Chí Minh | AD80: 79 | AE80: Thành phố Hồ Chí Minh | AF80: 761 | AG80: Quận 12 | AH80: 26791 | AI80: Phường Tân Thới Nhất | AK80: KV3 | AN80: Tp. Hồ Chí Minh | AO80: Quận 12 | AP80: 19T40241 | AQ80: Đang học | AR80: 1 | AS80: 19T4-CNÔ1 | AT80: 22/05/2019 | AU80: 2019 | AV80: 2019 | AW80: Trung cấp | AX80: Chính quy 3 năm | AY80: Khoa Động lực | AZ80: Công nghệ ô tô | BA80: Công nghệ ô tô | BB80: Trường Cao đẳng Lý Tự Trọng TPHCM | BC80: 19000070
A81: 71 | B81: 19000071 | D81: Nguyễn Tấn | E81: Thịnh | F81: Nam | G81: 13/10/2004 | J81: =MID(H81,3,1) | K81: =MID(H81,4,2) | L81: =RIGHT(M81,10) -> 7931970052 | M81: 7931970052 | O81: 19T4-CNÔ1 | S81: 1057 Nguyễn Ảnh Thủ F Tân Chính Hiệp Q12 | T81: 90A Phan Đăng Lưu, Phường 5, Quận Phú Nhuận, Tp.HCM | U81: 1057 Nguyễn Ảnh Thủ, F Tân Chính Hiệp ,Q12,tphcm | V81: 1057 Nguyễn Ảnh Thủ | W81: F Tân Chính Hiệp | X81: Q12 | Y81: Thành phố Hồ Chí Minh | AD81: 79 | AE81: Thành phố Hồ Chí Minh | AF81: 761 | AG81: Quận 12 | AH81: 26776 | AI81: Phường Tân Chánh Hiệp | AK81: KV3 | AN81: Tp. Hồ Chí Minh | AO81: Quận Phú Nhuận | AP81: 19T40281 | AQ81: Đang học | AR81: 1 | AS81: 19T4-CNÔ1 | AT81: 22/05/2019 | AU81: 2019 | AV81: 2019 | AW81: Trung cấp | AX81: Chính quy 3 năm | AY81: Khoa Động lực | AZ81: Công nghệ ô tô | BA81: Công nghệ ô tô | BB81: Trường Cao đẳng Lý Tự Trọng TPHCM | BC81: 19000071
A82: 72 | B82: 19000072 | D82: Nguyễn Hoàng | E82: Kha | F82: Nam | G82: 28/09/2004 | J82: =MID(H82,3,1) | K82: =MID(H82,4,2) | L82: =RIGHT(M82,10) | O82: 19T4-CCK1 | S82: 231/57/70 Bình Tiên, Phường 8, Quận 6, TPHCM | U82: 231/57/70 Bình Tiên, Phường 8, Quận 6, Tphcm | V82: 231/57/70 Bình Tiên | W82: Phường 8 | X82: Quận 6 | Y82: Thành phố Hồ Chí Minh | AD82: 79 | AE82: Thành phố Hồ Chí Minh | AF82: 775 | AG82: Quận 6 | AH82: 27376 | AI82: Phường 08 | AK82: KV3 | AN82: Tp. Hồ Chí Minh | AO82: Quận 6 | AP82: 19T40149 | AQ82: Đang học | AR82: 1 | AS82: 19T4-CCK1 | AT82: 22/05/2019 | AU82: 2019 | AV82: 2019 | AW82: Trung cấp | AX82: Chính quy 3 năm | AY82: Khoa Cơ khí | AZ82: Công nghệ kỹ thuật cơ khí | BA82: Công nghệ kỹ thuật cơ khí | BB82: Trường Cao đẳng Lý Tự Trọng TPHCM | BC82: 19000072
A83: 73 | B83: 19000073 | D83: Nguyễn Tuấn | E83: Thành | F83: Nam | G83: 15/04/2004 | J83: =MID(H83,3,1) | K83: =MID(H83,4,2) | L83: =RIGHT(M83,10) -> 2520779006 | M83: 2520779006 | O83: 19T4-CNÔ1 | S83: xã Tiên Lương, huyện Cẩm Khê, tỉnh Phú Thọ | T83: 688/19 Đường Tân Kỳ Tân Qúi, Phường Bình Hưng Hòa, Quận Bình Tân, Tp.HCM | U83: ,Xã Tiên Lương, Huyện Cẩm Khê, Tỉnh Phú Thọ | W83: Xã Tiên Lương | X83: Huyện Cẩm Khê | Y83: Tỉnh Phú Thọ | AK83: KV3 | AN83: Tp. Hồ Chí Minh | AO83: Quận Bình Tân | AP83: 19T40158 | AQ83: Đang học | AR83: 1 | AS83: 19T4-CNÔ1 | AT83: 23/05/2019 | AU83: 2019 | AV83: 2019 | AW83: Trung cấp | AX83: Chính quy 3 năm | AY83: Khoa Động lực | AZ83: Công nghệ ô tô | BA83: Công nghệ ô tô | BB83: Trường Cao đẳng Lý Tự Trọng TPHCM | BC83: 19000073
A84: 74 | B84: 19000074 | D84: Võ Lân Đông | E84: Trúc | F84: Nam | G84: 21/10/2004 | J84: =MID(H84,3,1) | K84: =MID(H84,4,2) | L84: =RIGHT(M84,10) -> 7931716815 | M84: 7931716815 | O84: 19T4-CNÔ1 | S84: 46 Hoàng Văn Hòe, P.Tân Quý, Q.Tân Phú, TpHCM | U84: 46 Hoàng Văn Hòe, P.Tân Quý, Q.Tân Phú, Tphcm | V84: 46 Hoàng Văn Hòe | W84: P.Tân Quý | X84: Q.Tân Phú | Y84: Thành phố Hồ Chí Minh | AD84: 79 | AE84: Thành phố Hồ Chí Minh | AF84: 767 | AG84: Quận Tân Phú | AH84: 27019 | AI84: Phường Tân Quý | AK84: KV3 | AN84: Tp. Hồ Chí Minh | AO84: Quận Tân Phú | AP84: 19T40214 | AQ84: Đang học | AR84: 1 | AS84: 19T4-CNÔ1 | AT84: 23/05/2019 | AU84: 2019 | AV84: 2019 | AW84: Trung cấp | AX84: Chính quy 3 năm | AY84: Khoa Động lực | AZ84: Công nghệ ô tô | BA84: Công nghệ ô tô | BB84: Trường Cao đẳng Lý Tự Trọng TPHCM | BC84: 19000074
A85: 75 | B85: 19000075 | J85: =MID(H85,3,1) | K85: =MID(H85,4,2) | L85: =RIGHT(M85,10) | BC85: 19000075
A86: 76 | B86: 19000076 | D86: Nguyễn Thái Trung | E86: Nguyên | F86: Nam | G86: 16/01/2000 | H86: =VLOOKUP(B86,'ĐKKCBBĐ K2019'!$B$5:$C$414,2,0) -> GD4797931905610 | I86: =LEFT(H86,2) -> GD | J86: =MID(H86,3,1) -> 4 | K86: =MID(H86,4,2) -> 79 | M86: GD 4797931905610 | O86: 19C1-CNÔ1 | S86: 23/2 Đặng Văn Ngữ, phường 10, quận Phú Nhuận, Tp.HCM | T86: 80/9 Huỳnh Văn Nghệ, Phường 15, Quận Tân Bình, Tp.HCM | U86: 23/2 Đặng Văn Ngữ, Phường 10, Quận Phú Nhuận, Tp.Hcm | V86: 23/2 Đặng Văn Ngữ | W86: Phường 10 | X86: Quận Phú Nhuận | Y86: Thành phố Hồ Chí Minh | AD86: 79 | AE86: Thành phố Hồ Chí Minh | AF86: 768 | AG86: Quận Phú Nhuận | AH86: 27070 | AI86: Phường 10 | AK86: KV3 | AN86: Tp. Hồ Chí Minh | AO86: Quận Phú Nhuận | AP86: 19C10533 | AQ86: Đang học | AR86: 1 | AS86: 19C1-CNÔ1 | AT86: 23/05/2019 | AU86: 2019 | AV86: 2019 | AW86: Cao đẳng | AX86: Chính quy 2 năm | AY86: Khoa Động lực | AZ86: Công nghệ ô tô | BA86: Công nghệ ô tô | BB86: Trường Cao đẳng Lý Tự Trọng TPHCM | BC86: 19000076
A87: 77 | B87: 19000077 | D87: Trần Nhật | E87: Quang | F87: Nam | G87: 14/07/2004 | H87: =VLOOKUP(B87,'ĐKKCBBĐ K2019'!$B$5:$C$414,2,0) -> HS4757526412835 | I87: =LEFT(H87,2) -> HS | J87: =MID(H87,3,1) -> 4 | K87: =MID(H87,4,2) -> 75 | M87: HS 4757526412835 | O87: 19T4-NNA1 | S87: Xã Bắc Sơn, Trảng Bom, Đồng Nai | T87: Xã Bắc Sơn, Trảng Bom, Đồng Nai | U87: ,Xã Bắc Sơn, Trảng Bom, Đồng Nai | W87: Xã Bắc Sơn | X87: Trảng Bom | Y87: Đồng Nai | AD87: 75 | AE87: Tỉnh Đồng Nai | AK87: KV1 | AN87: Đồng Nai | AO87: Huyện Trảng Bom | AP87: 19T40324 | AQ87: Đang học | AR87: 1 | AS87: 19T4-NNA1 | AT87: 23/05/2019 | AU87: 2019 | AV87: 2019 | AW87: Trung cấp | AX87: Chính quy 3 năm | AY87: Khoa Khoa học cơ bản | AZ87: Tiếng Anh | BA87: Tiếng Anh | BB87: Trường Cao đẳng Lý Tự Trọng TPHCM | BC87: 19000077
A88: 78 | B88: 19000078 | D88: Lưu Dân | E88: Hiếu | F88: Nam | G88: 17/12/2002 | H88: =VLOOKUP(B88,'ĐKKCBBĐ K2019'!$B$5:$C$414,2,0) -> HS4797939068260 | I88: =LEFT(H88,2) -> HS | J88: =MID(H88,3,1) -> 4 | K88: =MID(H88,4,2) -> 79 | M88: HS 4797939068260 | O88: 19T4-CCK1 | S88: 10/23B Cống Lỡ, Phường 15, QuậnTân Bình, TPHCM | U88: 10/23B Cống Lỡ, Phường 15, Quậntân Bình, Tphcm | V88: 10/23B Cống Lỡ | W88: Phường 15 | X88: Quậntân Bình | Y88: Thành phố Hồ Chí Minh | AD88: 79 | AE88: Thành phố Hồ Chí Minh | AF88: 766 | AG88: Quận Tân Bình | AH88: 27007 | AI88: Phường 15 | AK88: KV3 | AN88: Tp. Hồ Chí Minh | AO88: Quận Tân Bình | AP88: 19T40397 | AQ88: Đang học | AR88: 1 | AS88: 19T4-CCK1 | AT88: 23/05/2019 | AU88: 2019 | AV88: 2019 | AW88: Trung cấp | AX88: Chính quy 3 năm | AY88: Khoa Cơ khí | AZ88: Công nghệ kỹ thuật cơ khí | BA88: Công nghệ kỹ thuật cơ khí | BB88: Trường Cao đẳng Lý Tự Trọng TPHCM | BC88: 19000078
A89: 79 | B89: 19000079 | D89: Nguyễn Nhật | E89: Quang | F89: Nam | G89: 10/08/2001 | J89: =MID(H89,3,1) | K89: =MID(H89,4,2) | L89: =RIGHT(M89,10) | O89: 19C1-CNÔ1 | S89: 135 ấp Tân Mỹ, xã Tân Bình, Mỏ Cày Bắc, tỉnh Bến Tre | U89: 135 Ấp Tân Mỹ, Xã Tân Bình, Mỏ Cày Bắc, Tỉnh Bến Tre | V89: 135 Ấp Tân Mỹ | W89: Xã Tân Bình | X89: Mỏ Cày Bắc | Y89: Tỉnh Bến Tre | AD89: 83 | AE89: Tỉnh Bến Tre | AF89: 838 | AG89: Huyện Mỏ Cày Bắc | AH89: 28933 | AI89: Xã Tân Bình | AK89: KV2-NT | AN89: Bến Tre | AO89: Huyện Mỏ Cày Bắc | AP89: 19C10530 | AQ89: Đang học | AR89: 1 | AS89: 19C1-CNÔ1 | AT89: 23/05/2019 | AU89: 2019 | AV89: 2019 | AW89: Cao đẳng | AX89: Chính quy 2 năm | AY89: Khoa Động lực | AZ89: Công nghệ ô tô | BA89: Công nghệ ô tô | BB89: Trường Cao đẳng Lý Tự Trọng TPHCM | BC89: 19000079
A90: 80 | B90: 19000080 | D90: Vũ Quang | E90: Cường | F90: Nam | G90: 23/11/2003 | H90: =VLOOKUP(B90,'ĐKKCBBĐ K2019'!$B$5:$C$414,2,0) -> HS4797937811830 | I90: =LEFT(H90,2) -> HS | J90: =MID(H90,3,1) -> 4 | K90: =MID(H90,4,2) -> 79 | M90: HS 4797937811830 | O90: 19T4-CNÔ1 | S90: Thôn Bến, Xã Thanh Thuỷ, Huyện Thanh Liêm, Tỉnh Hà Nam | T90: 32/23/5 Liên Khu 4-5, Phường Bình Hưng Hòa B, Quận Tân Bình, Tp.HCM | U90: Thôn Bến, Xã Thanh Thuỷ, Huyện Thanh Liêm, Tỉnh Hà Nam | V90: Thôn Bến | W90: Xã Thanh Thuỷ | X90: Huyện Thanh Liêm | Y90: Tỉnh Hà Nam | AK90: KV3 | AN90: Tp. Hồ Chí Minh | AO90: Quận Bình Tân | AP90: 19T40383 | AQ90: Đang học | AR90: 1 | AS90: 19T4-CNÔ1 | AT90: 23/05/2019 | AU90: 2019 | AV90: 2019 | AW90: Trung cấp | AX90: Chính quy 3 năm | AY90: Khoa Động lực | AZ90: Công nghệ ô tô | BA90: Công nghệ ô tô | BB90: Trường Cao đẳng Lý Tự Trọng TPHCM | BC90: 19000080
A91: 81 | B91: 19000081 | D91: Nguyễn Hùng | E91: Cường | F91: Nam | G91: 30/10/2004 | J91: =MID(H91,3,1) | K91: =MID(H91,4,2) | L91: =RIGHT(M91,10) -> 7937592115 | M91: 7937592115 | O91: 19T4-LĐL1 | S91: 326 Phạm Văn Bạch, Phường 15, Quận Tân Bình, TPHCM | T91: 326 Phạm Văn Bạch, Phường 15, Quận Tân Bình, TPHCM | U91: 326 Phạm Văn Bạch, Phường 15, Quận Tân Bình, Tphcm | V91: 326 Phạm Văn Bạch | W91: Phường 15 | X91: Quận Tân Bình | Y91: Thành phố Hồ Chí Minh | AD91: 79 | AE91: Thành phố Hồ Chí Minh | AF91: 766 | AG91: Quận Tân Bình | AH91: 27007 | AI91: Phường 15 | AK91: KV3 | AN91: Tp. Hồ Chí Minh | AO91: Quận Tân Bình | AP91: 19T40329 | AQ91: Đang học | AR91: 1 | AS91: 19T4-LĐL1 | AT91: 23/05/2019 | AU91: 2019 | AV91: 2019 | AW91: Trung cấp | AX91: Chính quy 3 năm | AY91: Khoa Nhiệt – Lạnh | AZ91: Lắp đặt thiết bị lạnh | BA91: Lắp đặt thiết bị lạnh | BB91: Trường Cao đẳng Lý Tự Trọng TPHCM | BC91: 19000081
A92: 82 | B92: 19000082 | D92: Nguyễn Cảnh | E92: Long | F92: Nam | G92: 05/12/2004 | H92: =VLOOKUP(B92,'ĐKKCBBĐ K2019'!$B$5:$C$414,2,0) -> HS4797931844506 | I92: =LEFT(H92,2) -> HS | J92: =MID(H92,3,1) -> 4 | K92: =MID(H92,4,2) -> 79 | M92: HS4797931844506 | O92: 19T4-CNÔ1 | S92: 87/27 Nguyễn Đình Chính, P15, Quận Phú Nhuận TPHCM | T92: 87/27 Nguyễn Đình Chính, P15, Quận Phú Nhuận TPHCM | U92: 87/27 Nguyễn Đình Chính, P15, Quận Phú Nhuận Tphcm | V92: 87/27 Nguyễn Đình Chính | W92: P15 | X92: Quận Phú Nhuận | Y92: Thành phố Hồ Chí Minh | AD92: 79 | AE92: Thành phố Hồ Chí Minh | AF92: 768 | AG92: Quận Phú Nhuận | AH92: 27067 | AI92: Phường 15 | AK92: KV3 | AN92: Tp. Hồ Chí Minh | AO92: Quận Phú Nhuận | AP92: 19T40264 | AQ92: Đang học | AR92: 1 | AS92: 19T4-CNÔ1 | AT92: 23/05/2019 | AU92: 2019 | AV92: 2019 | AW92: Trung cấp | AX92: Chính quy 3 năm | AY92: Khoa Động lực | AZ92: Công nghệ ô tô | BA92: Công nghệ ô tô | BB92: Trường Cao đẳng Lý Tự Trọng TPHCM | BC92: 19000082
A93: 83 | B93: 19000083 | D93: Trần Trọng | E93: Thoại | F93: Nam | G93: 24/06/1997 | J93: =MID(H93,3,1) | K93: =MID(H93,4,2) | L93: =RIGHT(M93,10) | O93: 19C1-CNÔ1 | S93: Số 6, ấp thuận chánh, xã lợi thuận, huyện bến cầu, tỉnh tây ninh | T93: Số 6, ấp thuận chánh, xã lợi thuận, huyện bến cầu, tỉnh tây ninh | U93: Số 6, Ấp Thuận Chánh, Xã Lợi Thuận, Huyện Bến Cầu, Tỉnh Tây Ninh | V93: Số 6 | W93: Ấp Thuận Chánh | X93: Xã Lợi Thuận | Y93: Huyện Bến Cầu | Z93: Tỉnh Tây Ninh | AC93: 26/03/2014 | AK93: KV1 | AN93: Tây Ninh | AO93: Huyện Bến Cầu | AP93: 19C10304 | AQ93: Đang học | AR93: 1 | AS93: 19C1-CNÔ1 | AT93: 23/05/2019 | AU93: 2019 | AV93: 2019 | AW93: Cao đẳng | AX93: Chính quy 2 năm | AY93: Khoa Động lực | AZ93: Công nghệ ô tô | BA93: Công nghệ ô tô | BB93: Trường Cao đẳng Lý Tự Trọng TPHCM | BC93: 19000083
A94: 84 | B94: 19000084 | D94: Lê Bảo | E94: Lộc | F94: Nam | G94: 27/01/1997 | J94: =MID(H94,3,1) | K94: =MID(H94,4,2) | L94: =RIGHT(M94,10) -> 7222689995 | M94: 7222689995 | O94: 19C1-CNÔ1 | S94: 476,781, Phước Tân1, xã Phan, huyện Dương Minh Châu, tỉnh Tây Ninh | T94: 476,781,Phước Tân1,xã phan, Dương Minh Châu,Tây Ninh | U94: 476-781 Phước Tân1, Xã Phan, Huyện Dương Minh Châu, Tỉnh Tây Ninh | V94: 476-781 Phước Tân1 | W94: Xã Phan | X94: Huyện Dương Minh Châu | Y94: Tỉnh Tây Ninh | AC94: 20/10/2012 | AK94: KV2-NT | AN94: Tây Ninh | AO94: Huyện Dương Minh Châu | AP94: 19C10315 | AQ94: Đang học | AR94: 1 | AS94: 19C1-CNÔ1 | AT94: 23/05/2019 | AU94: 2019 | AV94: 2019 | AW94: Cao đẳng | AX94: Chính quy 2 năm | AY94: Khoa Động lực | AZ94: Công nghệ ô tô | BA94: Công nghệ ô tô | BB94: Trường Cao đẳng Lý Tự Trọng TPHCM | BC94: 19000084
A95: 85 | B95: 19000085 | D95: Huỳnh Thanh | E95: Tuấn | F95: Nam | G95: 02/04/2004 | H95: =VLOOKUP(B95,'ĐKKCBBĐ K2019'!$B$5:$C$414,2,0) -> HS4797930280827 | I95: =LEFT(H95,2) -> HS | J95: =MID(H95,3,1) -> 4 | K95: =MID(H95,4,2) -> 79 | M95: HS4797930280827 | O95: 19T4-LTM1 | S95: 114/38/2 Phạm Văn Chiêu, phường 9, Gò Vấp, TPHCM | T95: 114/38/2 Phạm Văn Chiêu, phường 9, Gò Vấp, TPHCM | U95: 114/38/2 Phạm Văn Chiêu, Phường 9, Gò Vấp, Tphcm | V95: 114/38/2 Phạm Văn Chiêu | W95: Phường 9 | X95: Gò Vấp | Y95: Thành phố Hồ Chí Minh | AD95: 79 | AE95: Thành phố Hồ Chí Minh | AF95: 764 | AG95: Quận Gò Vấp | AH95: 26897 | AI95: Phường 9 | AK95: KV3 | AN95: Tp. Hồ Chí Minh | AO95: Quận Gò Vấp | AP95: 19T40469 | AQ95: Đang học | AR95: 1 | AS95: 19T4-LTM1 | AT95: 23/05/2019 | AU95: 2019 | AV95: 2019 | AW95: Trung cấp | AX95: Chính quy 3 năm | AY95: Khoa Công nghệ Thông tin | AZ95: Lập trình máy tính | BA95: Lập trình máy tính | BB95: Trường Cao đẳng Lý Tự Trọng TPHCM | BC95: 19000085
A96: 86 | B96: 19000086 | D96: Giang Lê Đức | E96: Tâm | F96: Nam | G96: 07/07/2004 | H96: =VLOOKUP(B96,'ĐKKCBBĐ K2019'!$B$5:$C$414,2,0) -> HS479791328612 | I96: =LEFT(H96,2) -> HS | J96: =MID(H96,3,1) -> 4 | K96: =MID(H96,4,2) -> 79 | M96: HS479791328612 | O96: 19T4-CNÔ1 | S96: 453 Lê Văn Sĩ, phường 2, quận Tân Bình, Tp.HCM | T96: 453 Lê văn sĩ phường 2 quận Tân Bình | U96: 453 Lê Văn Sĩ, Phường 2, Quận Tân Bình, Tp.Hcm | V96: 453 Lê Văn Sĩ | W96: Phường 2 | X96: Quận Tân Bình | Y96: Thành phố Hồ Chí Minh | AD96: 79 | AE96: Thành phố Hồ Chí Minh | AF96: 766 | AG96: Quận Tân Bình | AH96: 26965 | AI96: Phường 02 | AK96: KV3 | AN96: Tp. Hồ Chí Minh | AO96: Quận Tân Bình | AP96: 19T40541 | AQ96: Đang học | AR96: 1 | AS96: 19T4-CNÔ1 | AT96: 23/05/2019 | AU96: 2019 | AV96: 2019 | AW96: Trung cấp | AX96: Chính quy 3 năm | AY96: Khoa Động lực | AZ96: Công nghệ ô tô | BA96: Công nghệ ô tô | BB96: Trường Cao đẳng Lý Tự Trọng TPHCM | BC96: 19000086
A97: 87 | B97: 19000087 | D97: Trần Kim | E97: Bảo | F97: Nam | G97: 18/07/2004 | H97: =VLOOKUP(B97,'ĐKKCBBĐ K2019'!$B$5:$C$414,2,0) -> HS4797937766772 | I97: =LEFT(H97,2) -> HS | J97: =MID(H97,3,1) -> 4 | K97: =MID(H97,4,2) -> 79 | M97: HS 4797937766772 | O97: 19T4-CNÔ1 | S97: 362/25/11 Phan Huy Ích, phường 12 | T97: 2-9 Phan Huy Ích, Phường 12, Quận Gò Vấp, Tp.HCM | U97: 362/25/11 Phan Huy Ích, Phường 12, quận gò vấp | V97: 362/25/11 Phan Huy Ích | W97: Phường 12 | X97: quận gò vấp | Y97: Thành phố Hồ Chí Minh | AD97: 79 | AE97: Thành phố Hồ Chí Minh | AF97: 764 | AG97: Quận Gò Vấp | AH97: 26881 | AI97: Phường 12 | AK97: KV3 | AN97: Tp. Hồ Chí Minh | AO97: Quận Gò Vấp | AP97: 19T40509 | AQ97: Đang học | AR97: 1 | AS97: 19T4-CNÔ1 | AT97: 23/05/2019 | AU97: 2019 | AV97: 2019 | AW97: Trung cấp | AX97: Chính quy 3 năm | AY97: Khoa Động lực | AZ97: Công nghệ ô tô | BA97: Công nghệ ô tô | BB97: Trường Cao đẳng Lý Tự Trọng TPHCM | BC97: 19000087
A98: 88 | B98: 19000088 | D98: Lê Hoàng | E98: Phước | F98: Nam | G98: 17/11/2004 | H98: =VLOOKUP(B98,'ĐKKCBBĐ K2019'!$B$5:$C$414,2,0) -> HS4797932208256 | I98: =LEFT(H98,2) -> HS | J98: =MID(H98,3,1) -> 4 | K98: =MID(H98,4,2) -> 79 | M98: HS4797932208256 | O98: 19T4-LTM1 | S98: 237/18 Trần Văn Đang, phường 11, quận 3, Tp.HCM | T98: 237/18 Trần Văn Đang, phường 11, quận 3, Tp.HCM | U98: 237/18 Trần Văn Đang, Phường 11, Quận 3, Tp.Hcm | V98: 237/18 Trần Văn Đang | W98: Phường 11 | X98: Quận 3 | Y98: Thành phố Hồ Chí Minh | AD98: 79 | AE98: Thành phố Hồ Chí Minh | AF98: 770 | AG98: Quận 3 | AH98: 27133 | AI98: Phường 11 | AK98: KV3 | AN98: Tp. Hồ Chí Minh | AO98: Quận 3 | AP98: 19T40537 | AQ98: Đang học | AR98: 1 | AS98: 19T4-LTM1 | AT98: 23/05/2019 | AU98: 2019 | AV98: 2019 | AW98: Trung cấp | AX98: Chính quy 3 năm | AY98: Khoa Công nghệ Thông tin | AZ98: Lập trình máy tính | BA98: Lập trình máy tính | BB98: Trường Cao đẳng Lý Tự Trọng TPHCM | BC98: 19000088
A99: 89 | B99: 19000089 | D99: Vũ Hoàng | E99: Đạo | F99: Nam | G99: 22/10/2002 | H99: =VLOOKUP(B99,'ĐKKCBBĐ K2019'!$B$5:$C$414,2,0) -> GD4797937564701 | I99: =LEFT(H99,2) -> GD | J99: =MID(H99,3,1) -> 4 | K99: =MID(H99,4,2) -> 79 | M99: GD4797937564701 | O99: 19T4-KML1 | S99: 159/90/59 Trần Văn Đang, phường 11 | U99: 159/90/59 Trần Văn Đang, Phường 11, quận 3, TPHCM | V99: 159/90/59 Trần Văn Đang | W99: Phường 11 | X99: quận 3 | Y99: Thành phố Hồ Chí Minh | AD99: 79 | AE99: Thành phố Hồ Chí Minh | AF99: 770 | AG99: Quận 3 | AH99: 27133 | AI99: Phường 11 | AK99: KV3 | AN99: Tp. Hồ Chí Minh | AO99: Quận 3 | AP99: 19T40384 | AQ99: Đang học | AR99: 1 | AS99: 19T4-KML1 | AT99: 23/05/2019 | AU99: 2019 | AV99: 2019 | AW99: Trung cấp | AX99: Chính quy 3 năm | AY99: Khoa Nhiệt – Lạnh | AZ99: Kỹ thuật máy lạnh và điều hòa không khí | BA99: Kỹ thuật máy lạnh và điều hòa không khí | BB99: Trường Cao đẳng Lý Tự Trọng TPHCM | BC99: 19000089
A100: 90 | B100: 19000090 | D100: Nguyễn Trần Đức | E100: Duy | F100: Nam | G100: 11/01/2004 | H100: =VLOOKUP(B100,'ĐKKCBBĐ K2019'!$B$5:$C$414,2,0) -> HS4797931373497 | I100: =LEFT(H100,2) -> HS | J100: =MID(H100,3,1) -> 4 | K100: =MID(H100,4,2) -> 79 | M100: HS4797931373497 | O100: 19T4-ANM1 | S100: 190a Đỗ Bí, phường Phú Thạnh, quận Tân Phú | T100: 190a Đỗ Bí, phường Phú Thạnh, quận Tân Phú, Tp.HCM | U100: 190A Đỗ Bí, Phường Phú Thạnh, Quận Tân Phú, tphcm | V100: 190A Đỗ Bí | W100: Phường Phú Thạnh | X100: Quận Tân Phú | Y100: Thành phố Hồ Chí Minh | AD100: 79 | AE100: Thành phố Hồ Chí Minh | AF100: 767 | AG100: Quận Tân Phú | AH100: 27028 | AI100: Phường Phú Thạnh | AK100: KV3 | AN100: Tp. Hồ Chí Minh | AO100: Quận Tân Phú | AP100: 19T40447 | AQ100: Đang học | AR100: 1 | AS100: 19T4-ANM1 | AT100: 23/05/2019 | AU100: 2019 | AV100: 2019 | AW100: Trung cấp | AX100: Chính quy 3 năm | AY100: Khoa Công nghệ Thông tin | AZ100: An ninh mạng | BA100: An ninh mạng | BB100: Trường Cao đẳng Lý Tự Trọng TPHCM | BC100: 19000090
...

Sheet 28-5
A5: STT | B5: Mã sinh viên | C5: Họ | D5: Tên | E5: Giới tính | F5: Ngày sinh | G5: Nơi sinh | H5: Họ tên cha | I5: Nghề nghiệp cha | J5: Số điện thoại cha | K5: Họ tên mẹ | L5: Nghề nghiệp mẹ | M5: Số điện thoại mẹ | N5: Lớp | O5: Nguyên quán | P5: Dân tộc | Q5: Tôn giáo | R5: ĐC thường trú | S5: ĐC liên lạc | T5: Điện thoại | U5: ĐT Phụ huynh | V5: Điện thoại 2 | W5: Điện thoại 3 | X5: Email | Y5: Số CMND | Z5: Ngày cấp | AA5: Nơi cấp | AB5: Ngày vào đoàn | AC5: Ngày vào đảng | AD5: HKTT tỉnh | AE5: Trường tốt nghiệp | AF5: HKTT huyện | AG5: HKTT phường xã | AH5: HKTT thôn xóm | AI5: HKTT số nhà | AJ5: Khu vực | AK5: Đối tượng | AL5: Đối tượng chính sách | AM5: Tỉnh | AN5: Huyện | AO5: Hồ sơ | AP5: Trạng thái | AQ5: Nhóm | AR5: Mã lớp | AS5: Ngày nhập học | AT5: Năm vào | AU5: Khóa học | AV5: Hệ đào tạo | AW5: Loại hình ĐT | AX5: Khoa | AY5: Ngành | AZ5: Nghề | BA5: Cơ sở
A6: 31 | B6: 19000001 | C6: Phan Phú | D6: Hào | E6: Nam | F6: 23/03/1997 | G6: Tp. Hồ Chí Minh | H6: Phan Chí Hiếu | I6: Tự do | J6: 0903986495 | K6: Nguyễn Thị Phương Dung | L6: Nội Trợ | M6: 0909831343 | N6: 19C1-CNÔ1 | O6: Tp. Hồ Chí Minh | P6: Kinh | Q6: Không | R6: 17/15a khu phố 6a p.tân thới nhất quận 12 tp. Hồ Chí Minh | S6: 17/15a khu phố 6a p.tân thới nhất quận 12 tp. Hồ Chí Minh | T6: 0904042315 | Y6: 025885764 | Z6: 01/05/2019 | AA6: CA. Tp.HCM | AB6: 20/03/2014 | AE6: THPT Bà Điểm | AJ6: KV2 | AK6: Đối tượng 03 | AM6: Tp. Hồ Chí Minh | AN6: Quận 12 | AO6: 19C10211 | AP6: Đang học | AQ6: 1 | AR6: 19C1-CNÔ1 | AS6: 10/05/2019 | AT6: 2019 | AU6: 2019 | AV6: Cao đẳng | AW6: Chính quy 2 năm | AX6: Khoa Động lực | AY6: Công nghệ ô tô | AZ6: Công nghệ ô tô | BA6: Trường Cao đẳng Lý Tự Trọng TPHCM
A7: 25 | B7: 19000002 | C7: Phùng Đức | D7: Dương | E7: Nam | F7: 17/10/2001 | G7: Bắc Ninh | H7: Phùng Đức Danh | I7: Tài xé | J7: 0964125239 | K7: Nguyễn Thị Thư | L7: Nội Trợ | M7: 0978565745 | N7: 19T4-KML1 | O7: Bắc Ninh | P7: Kinh | Q7: Không | R7: Nghĩa Hương, Xã Mỹ Hương, Huyện Lương Tài, Tỉnh Bắc Ninh | S7: 5/25H tổ 14 ấp 2 xã Xuân Thới Thượng huyện Hóc Môn tp Hồ Chí Minh | T7: 0994905556 | X7: phungducduong99999@gmail.com | Y7: 125922776 | Z7: 14/07/2017 | AA7: Bắc Ninh | AJ7: KV3 | AM7: Bắc Ninh | AN7: Huyện Lương Tài | AO7: 19T40054 | AP7: Đang học | AQ7: 1 | AR7: 19T4-KML1 | AS7: 10/05/2019 | AT7: 2019 | AU7: 2019 | AV7: Trung cấp | AW7: Chính quy 3 năm | AX7: Khoa Nhiệt – Lạnh | AY7: Kỹ thuật máy lạnh và điều hòa không khí | AZ7: Kỹ thuật máy lạnh và điều hòa không khí | BA7: Trường Cao đẳng Lý Tự Trọng TPHCM
A8: 103 | B8: 19000003 | C8: Lê Trọng | D8: Tiến | E8: Nam | F8: 15/03/2002 | G8: Tp. Hồ Chí Minh | H8: Lê Trung Anh Kiệt | I8: Buôn bán | J8: 0978110038 | K8: Nguyễn Thị Mộng Tuyền | L8: Buôn bán | M8: 0988344000 | N8: 19T4-CNÔ1 | O8: Tp. Hồ Chí Minh | P8: Kinh | Q8: Không | R8: 24 Nguyễn Văn Tỷ, Khu phố 2, thị trấn Củ Chi, huyện Củ Chi, TPHCM | S8: 24 Nguyễn Văn Tỷ, Khu phố 2, thị trấn Củ Chi, huyện Củ Chi, TPHCM | T8: 0979535019 | X8: Bobbytrongtien@gmail.com | Y8: 079202005284 | Z8: 03/01/2017 | AA8: CA. Tp.HCM | AJ8: KV2 | AM8: Tp. Hồ Chí Minh | AN8: Huyện Củ Chi | AO8: 19T40059 | AP8: Đang học | AQ8: 1 | AR8: 19T4-CNÔ1 | AS8: 10/05/2019 | AT8: 2019 | AU8: 2019 | AV8: Trung cấp | AW8: Chính quy 3 năm | AX8: Khoa Động lực | AY8: Công nghệ ô tô | AZ8: Công nghệ ô tô | BA8: Trường Cao đẳng Lý Tự Trọng TPHCM
A9: 37 | B9: 19000004 | C9: Phạm Hữu | D9: Hoàng | E9: Nam | F9: 02/02/1993 | G9: Đồng Nai | H9: Phạm Luận | I9: Nông dân | J9: 0326637303 | N9: 19C1-LGT1 | O9: Đồng Nai | P9: Kinh | Q9: Không | R9: Ấp 3 xã Phú Lộc, huyện Tân Phú, tỉnh Đồng Nai | S9: 122/54 Bùi Đình Túy, P12, Quận Bình Thạnh, Tp. HCM | T9: 0388078719 | X9: phamhuuhoang1993@gmail.com | Y9: 272194195 | Z9: 22/04/2019 | AA9: CA. Đồng Nai | AB9: 13/12/2009 | AE9: THPT Đoàn Kết | AJ9: KV1 | AM9: Đồng Nai | AN9: Huyện Tân Phú | AO9: 19C10008 | AP9: Đang học | AQ9: 1 | AR9: 19C1-LGT1 | AS9: 10/05/2019 | AT9: 2019 | AU9: 2019 | AV9: Cao đẳng | AW9: Chính quy 2 năm | AX9: Khoa Kinh tế | AY9: Logistics | AZ9: Logistics | BA9: Trường Cao đẳng Lý Tự Trọng TPHCM
A10: 54 | B10: 19000005 | C10: Nguyễn Khắc Trung | D10: Kiên | E10: Nam | F10: 10/12/1997 | G10: Thái Bình | H10: Nguyễn Văn Duật | I10: Quản đốc | J10: 0974392959 | K10: Nguyễn Thị Toan | L10: Tạp vụ | M10: 0978114479 | N10: 19C1-ĐCN1 | O10: Thái Bình | P10: Kinh | R10: Xã Vũ Công, Huyện Kiến Xương, Tỉnh Thái Bình | S10: 257/38/9 đường bình thành, phường bình hưng hoà B, Quận Bình Tân | T10: 0928383432 | U10: 0974392959 | V10: 0978114479 | Y10: 025680322 | Z10: 29/08/2012 | AA10: CA. Tp.HCM | AB10: 26/03/2016 | AE10: THCS và THPT Phạm Ngũ Lão | AJ10: KV3 | AM10: Thái Bình | AN10: Huyện Kiến Xương | AO10: 19C10116 | AP10: Đang học | AQ10: 1 | AR10: 19C1-ĐCN1 | AS10: 10/05/2019 | AT10: 2019 | AU10: 2019 | AV10: Cao đẳng | AW10: Chính quy 2 năm | AX10: Khoa Điện - Điện tử | AY10: Điện công nghiệp | AZ10: Điện công nghiệp | BA10: Trường Cao đẳng Lý Tự Trọng TPHCM
A11: 84 | B11: 19000006 | C11: Trần Minh | D11: Quang | E11: Nam | F11: 17/06/1999 | G11: Long An | H11: Trần Văn Ơi | I11: Làm Nông | J11: 0359804850 | K11: Huỳnh Ngọc Thúy | L11: Làm Nông | M11: 0349474448 | N11: 19C1-CNÔ1 | O11: Long An | P11: Kinh | R11: Ấp 2, Vĩnh Bình, Vĩnh Hưng, Long An | S11: 142/18 Cộng Hòa, Phường 4, Quận Tân Bình, Tp.HCM | T11: 0357006768 | U11: 0359804850 | V11: 0349474448 | Y11: 301687190 | Z11: 22/10/2014 | AA11: CA. Long An | AE11: THPT Vĩnh Hưng | AJ11: KV2-NT | AM11: Long An | AN11: Huyện Vĩnh Hưng | AO11: 19C10090 | AP11: Đang học | AQ11: 1 | AR11: 19C1-CNÔ1 | AS11: 11/05/2019 | AT11: 2019 | AU11: 2019 | AV11: Cao đẳng | AW11: Chính quy 2 năm | AX11: Khoa Động lực | AY11: Công nghệ ô tô | AZ11: Công nghệ ô tô | BA11: Trường Cao đẳng Lý Tự Trọng TPHCM
A12: 86 | B12: 19000007 | C12: Lê Minh | D12: Sang | E12: Nam | F12: 28/01/1995 | G12: Tiền Giang | N12: 19C1-TĐH1 | P12: Kinh | R12: Số 204, tổ 6, ấp 3, xã An Thái Trung, huyện Cái bè, tỉnh Tiền Giang | T12: 0968381803 | Y12: 312345949 | AE12: THPT Lê Thanh Hiền | AJ12: KV2-NT | AK12: Đối tượng 03 | AM12: Tiền Giang | AN12: Huyện Cái Bè | AO12: 19C10159 | AP12: Đang học | AQ12: 1 | AR12: 19C1-TĐH1 | AS12: 11/05/2019 | AT12: 2019 | AU12: 2019 | AV12: Cao đẳng | AW12: Chính quy 2 năm | AX12: Khoa Điện - Điện tử | AY12: Công nghệ kỹ thuật điều khiển và tự động hóa | AZ12: Công nghệ kỹ thuật điều khiển và tự động hóa | BA12: Trường Cao đẳng Lý Tự Trọng TPHCM
A13: 47 | B13: 19000008 | C13: Võ Trung | D13: Khang | E13: Nam | F13: 17/04/2004 | G13: Tp. Hồ Chí Minh | N13: 19T4-VSL1 | P13: Kinh | R13: 787/72 Trường Chinh p.Tây Thạnh Q.tân Phú | T13: 0794748348 | AJ13: KV3 | AM13: Tp. Hồ Chí Minh | AN13: Quận Tân Phú | AO13: 19T40276 | AP13: Đang học | AQ13: 1 | AR13: 19T4-VSL1 | AS13: 13/05/2019 | AT13: 2019 | AU13: 2019 | AV13: Trung cấp | AW13: Chính quy 3 năm | AX13: Khoa Nhiệt – Lạnh | AY13: Vận hành, sửa chữa thiết bị lạnh | AZ13: Vận hành, sửa chữa thiết bị lạnh | BA13: Trường Cao đẳng Lý Tự Trọng TPHCM
A14: 36 | B14: 19000009 | C14: Nguyễn Lê | D14: Hoàng | E14: Nam | F14: 13/08/2003 | G14: Tp. Hồ Chí Minh | H14: Nguyễn Văn Thạch | I14: Buôn bán | J14: 0936495478 | K14: Lê Thị Thơm | L14: Buôn Bán | M14: 0988973916 | N14: 19T4-CNÔ1 | O14: Tp. Hồ Chí Minh | P14: Kinh | Q14: Không | R14: E3/21c3 - Ấp 5A - Xã Vĩnh Lộc A - Huyện Bình Chánh HCM | S14: E3/21c3 - Ấp 5A - Xã Vĩnh Lộc A - Huyện Bình Chánh HCM | T14: 0988973916 | U14: 0339013001 | V14: 0936495478 | X14: nguyenlehoang.1308@gmail.com | Y14: 001203024361 | Z14: 10/05/2018 | AA14: huyện Bình Chánh tp.HCM | AJ14: KV3 | AM14: Tp. Hồ Chí Minh | AN14: Huyện Bình Chánh | AO14: 19T40157 | AP14: Đang học | AQ14: 1 | AR14: 19T4-CNÔ1 | AS14: 13/05/2019 | AT14: 2019 | AU14: 2019 | AV14: Trung cấp | AW14: Chính quy 3 năm | AX14: Khoa Động lực | AY14: Công nghệ ô tô | AZ14: Công nghệ ô tô | BA14: Trường Cao đẳng Lý Tự Trọng TPHCM
A15: 59 | B15: 19000010 | C15: Trần Cao | D15: Long | E15: Nam | F15: 20/11/2004 | G15: Tp. Hồ Chí Minh | N15: 19T4-CNÔ1 | P15: Kinh | R15: 507/39 Hương Lộ 3 Phường Bình Hưng Hòa Q.bình tân | T15: 0989352468 | AJ15: KV3 | AM15: Tp. Hồ Chí Minh | AN15: Quận Bình Tân | AO15: 19T40117 | AP15: Đang học | AQ15: 1 | AR15: 19T4-CNÔ1 | AS15: 13/05/2019 | AT15: 2019 | AU15: 2019 | AV15: Trung cấp | AW15: Chính quy 3 năm | AX15: Khoa Động lực | AY15: Công nghệ ô tô | AZ15: Công nghệ ô tô | BA15: Trường Cao đẳng Lý Tự Trọng TPHCM
A16: 91 | B16: 19000011 | C16: Huỳnh Nhựt | D16: Thành | E16: Nam | F16: 08/01/2003 | G16: Tp. Hồ Chí Minh | H16: Huỳnh Thanh Toàn | J16: 0388435545 | K16: Nguyễn Thị Thúy Ái | M16: 0963059849 | N16: 19T4-CNÔ1 | O16: Tp. Hồ Chí Minh | P16: Hoa | R16: 139/26/13 Chiến Lược, P. Bình Trị Đông, Q. Bình Tân, TPHCM | S16: 139/26/13 Chiến Lược, P. Bình Trị Đông, Q. Bình Tân, TPHCM | T16: 0963059849 | Y16: 086203000129 | Z16: 18/06/2018 | AA16: CTCCSĐKQLDC | AJ16: KV3 | AM16: Tp. Hồ Chí Minh | AN16: Quận Bình Tân | AO16: 19T40039 | AP16: Đang học | AQ16: 1 | AR16: 19T4-CNÔ1 | AS16: 13/05/2019 | AT16: 2019 | AU16: 2019 | AV16: Trung cấp | AW16: Chính quy 3 năm | AX16: Khoa Động lực | AY16: Công nghệ ô tô | AZ16: Công nghệ ô tô | BA16: Trường Cao đẳng Lý Tự Trọng TPHCM
A17: 81 | B17: 19000012 | C17: Nguyễn Hoàng Minh | D17: Quân | E17: Nam | F17: 13/12/2000 | G17: Tp. Hồ Chí Minh | H17: Nguyễn Hoàn Vũ | I17: Tài xé | J17: 0909613250 | K17: Nguyễn Thị Mỹ Yến | L17: Nội trợ | M17: 0908577364 | N17: 19C1-CNÔ1 | O17: Tp. Hồ Chí Minh | P17: Kinh | R17: 995/122 Hồng Bàng, Phường 12, Quận 6, Tp.Hồ Chí Minh | S17: 995/122 Hồng Bàng, Phường 12, Quận 6, Tp.Hồ Chí Minh | T17: 0908577364 | U17: 0909613250 | V17: 0908577364 | Y17: 026031697 | Z17: 20/07/2015 | AA17: CA.TPHCM | AE17: THPT NKTDTT Nguyễn Thị Định | AJ17: KV3 | AM17: Tp. Hồ Chí Minh | AN17: Quận 6 | AO17: 19C10036 | AP17: Đang học | AQ17: 1 | AR17: 19C1-CNÔ1 | AS17: 13/05/2019 | AT17: 2019 | AU17: 2019 | AV17: Cao đẳng | AW17: Chính quy 2 năm | AX17: Khoa Động lực | AY17: Công nghệ ô tô | AZ17: Công nghệ ô tô | BA17: Trường Cao đẳng Lý Tự Trọng TPHCM
A18: 42 | B18: 19000013 | C18: Nguyễn Nhật | D18: Huy | E18: Nam | F18: 11/05/2004 | G18: Tp. Hồ Chí Minh | N18: 19T4-TKĐ1 | P18: Kinh | R18: 411/11/ Lê Đức Thọ f.17 | T18: 0766779354 | AJ18: KV3 | AM18: Tp. Hồ Chí Minh | AN18: Quận Gò Vấp | AO18: 19T40172 | AP18: Đang học | AQ18: 1 | AR18: 19T4-TKĐ1 | AS18: 13/05/2019 | AT18: 2019 | AU18: 2019 | AV18: Trung cấp | AW18: Chính quy 3 năm | AX18: Khoa Công nghệ Thông tin | AY18: Thiết kế đồ họa | AZ18: Thiết kế đồ họa | BA18: Trường Cao đẳng Lý Tự Trọng TPHCM
A19: 49 | B19: 19000014 | C19: Vũ Trường | D19: Khanh | E19: Nam | F19: 30/10/2004 | G19: Tp. Hồ Chí Minh | N19: 19T4-LTM1 | P19: Kinh | R19: 499/44 Quang Trung, P.10, Q.Gò Vấp, TPHCM | T19: 0964493213 | AJ19: KV3 | AM19: Tp. Hồ Chí Minh | AN19: Quận Gò Vấp | AO19: 19T40164 | AP19: Đang học | AQ19: 1 | AR19: 19T4-LTM1 | AS19: 14/05/2019 | AT19: 2019 | AU19: 2019 | AV19: Trung cấp | AW19: Chính quy 3 năm | AX19: Khoa Công nghệ Thông tin | AY19: Lập trình máy tính | AZ19: Lập trình máy tính | BA19: Trường Cao đẳng Lý Tự Trọng TPHCM
A20: 48 | B20: 19000015 | C20: Vũ Ngọc Mai | D20: Khanh | E20: Nữ | F20: 30/10/2004 | G20: Tp. Hồ Chí Minh | N20: 19T4-MTT1 | P20: Kinh | R20: 499/44 Quang Trung, P.10, Quận Gò Vấp, TPHCM | T20: 0964493213 | AJ20: KV3 | AM20: Tp. Hồ Chí Minh | AN20: Quận Gò Vấp | AO20: 19T40175 | AP20: Đang học | AQ20: 1 | AR20: 19T4-MTT1 | AS20: 14/05/2019 | AT20: 2019 | AU20: 2019 | AV20: Trung cấp | AW20: Chính quy 3 năm | AX20: Khoa May - Thời trang | AY20: May thời trang | AZ20: May thời trang | BA20: Trường Cao đẳng Lý Tự Trọng TPHCM
A21: 90 | B21: 19000016 | C21: Nguyễn Dương | D21: Thanh | E21: Nam | F21: 11/03/1997 | G21: Long An | H21: Nguyễn Văn Ngân | I21: Thợ Mộc | J21: 0907751203 | K21: Dương Thị Mỹ Hương | L21: Buôn bán | M21: 0974856203 | N21: 19C1-CNL1 | O21: Long An | P21: Kinh | R21: 52 ấp Xóm Mới, xã Tân Lân, huyện Cần Đước, tỉnh Long An | S21: 52 ấp Xóm Mới, xã Tân Lân, huyện Cần Đước, tỉnh Long An | T21: 0968498203 | U21: 0907751203 | V21: 0974856203 | Y21: 301607085 | Z21: 31/05/2012 | AA21: CA. Long An | AE21: THPT Chu Văn An | AJ21: KV2-NT | AK21: Đối tượng 03 | AM21: Long An | AN21: Huyện Cần Đước | AO21: 19C10088 | AP21: Đang học | AQ21: 1 | AR21: 19C1-CNL1 | AS21: 14/05/2019 | AT21: 2019 | AU21: 2019 | AV21: Cao đẳng | AW21: Chính quy 2 năm | AX21: Khoa Nhiệt – Lạnh | AY21: Công nghệ kỹ thuật nhiệt | AZ21: Công nghệ kỹ thuật nhiệt | BA21: Trường Cao đẳng Lý Tự Trọng TPHCM
A22: 29 | B22: 19000017 | C22: Đặng Hữu | D22: Giác | E22: Nam | F22: 19/10/2000 | G22: Kiên Giang | H22: Đặng Văn Sâm | I22: Giảng viên | J22: 0384844810 | K22: Trần Xuân Lan | L22: Giáo viên | M22: 0984275178 | N22: 19C1-CNÔ1 | O22: Kiên Giang | P22: Kinh | R22: Lô D11, khu dân cư ấp Tân Hoà B,xã Tân Hoà,huyện Tân Hiệp,tỉnh Kiên Giang | S22: 194 Trần Bá Giao, Phường 5, Quận Gò Vấp, Tp.HCM | T22: 0826855852 | U22: 0384844810 | V22: 0984275178 | Y22: 371901066 | Z22: 19/03/2015 | AA22: CA. Kiên Giang | AE22: THPT Tân Hiệp | AJ22: KV2-NT | AM22: Kiên Giang | AN22: Huyện Tân Hiệp | AO22: 19C10004 | AP22: Đang học | AQ22: 1 | AR22: 19C1-CNÔ1 | AS22: 14/05/2019 | AT22: 2019 | AU22: 2019 | AV22: Cao đẳng | AW22: Chính quy 2 năm | AX22: Khoa Động lực | AY22: Công nghệ ô tô | AZ22: Công nghệ ô tô | BA22: Trường Cao đẳng Lý Tự Trọng TPHCM
A23: 116 | B23: 19000018 | C23: Đào Thanh | D23: Tùng | E23: Nam | F23: 03/12/2002 | G23: Tp. Hồ Chí Minh | N23: 19T4-CNÔ1 | P23: Kinh | R23: 154/31/11A Đường Cống Lỡ, P.15, Q.Tân Bình, TPHCM | T23: 0976166455 | AJ23: KV3 | AM23: Tp. Hồ Chí Minh | AN23: Quận Tân Bình | AO23: 19T40122 | AP23: Đang học | AQ23: 1 | AR23: 19T4-CNÔ1 | AS23: 14/05/2019 | AT23: 2019 | AU23: 2019 | AV23: Trung cấp | AW23: Chính quy 3 năm | AX23: Khoa Động lực | AY23: Công nghệ ô tô | AZ23: Công nghệ ô tô | BA23: Trường Cao đẳng Lý Tự Trọng TPHCM
A24: 53 | B24: 19000019 | C24: Phạm Hoàng | D24: Khôi | E24: Nam | F24: 17/07/2002 | G24: Tp. Hồ Chí Minh | N24: 19T4-CNÔ1 | P24: Kinh | R24: 125/16/26 Bùi Đình Túy P.24 Q.Bình Thạnh Tp HCM | T24: 0933192899 | AJ24: KV3 | AM24: Tp. Hồ Chí Minh | AN24: Huyện Bình Chánh | AO24: 19T40314 | AP24: Đang học | AQ24: 1 | AR24: 19T4-CNÔ1 | AS24: 14/05/2019 | AT24: 2019 | AU24: 2019 | AV24: Trung cấp | AW24: Chính quy 3 năm | AX24: Khoa Động lực | AY24: Công nghệ ô tô | AZ24: Công nghệ ô tô | BA24: Trường Cao đẳng Lý Tự Trọng TPHCM
A25: 98 | B25: 19000020 | C25: Phan Nguyễn Thanh | D25: Thiện | E25: Nam | F25: 31/05/1996 | G25: Tây Ninh | H25: Phan Thành Đông | I25: Làm Nông | J25: 0338151562 | K25: Nguyễn Thị Huệ | L25: Làm nông | M25: 0327711123 | N25: 19T4-ĐCN1 | O25: Tây Ninh | P25: Kinh | Q25: Không | R25: Phước Trung , Phước Chỉ , Trảng Bàng , Tây Ninh | S25: Phước Trung, Phước Chỉ, Trảng Bàng, Tây Ninh | T25: 0967220855 | U25: 0338151561 | V25: 0327711123 | X25: thanhthienpc69@gmail.com | Y25: 072096000781 | Z25: 18/02/2016 | AA25: CA Tây Ninh | AM25: Tây Ninh | AN25: Huyện Trảng Bàng | AO25: 19T40106 | AP25: Đang học | AQ25: 1 | AR25: 19T4-ĐCN1 | AS25: 15/05/2019 | AT25: 2019 | AU25: 2019 | AV25: Trung cấp | AW25: Chính quy 3 năm | AX25: Khoa Điện - Điện tử | AY25: Điện công nghiệp | AZ25: Điện công nghiệp | BA25: Trường Cao đẳng Lý Tự Trọng TPHCM
A26: 1 | B26: 19000021 | C26: Đỗ Viết Thành | D26: An | E26: Nam | F26: 20/03/2004 | G26: Tp. Hồ Chí Minh | N26: 19T4-ĐCN1 | P26: Kinh | R26: 66/25 Phan Sào Nam P.11 Q.Tân Bình | T26: 0379732989 | AJ26: KV3 | AM26: Tp. Hồ Chí Minh | AN26: Quận Tân Bình | AO26: 19T40112 | AP26: Đang học | AQ26: 1 | AR26: 19T4-ĐCN1 | AS26: 15/05/2019 | AT26: 2019 | AU26: 2019 | AV26: Trung cấp | AW26: Chính quy 3 năm | AX26: Khoa Điện - Điện tử | AY26: Điện công nghiệp | AZ26: Điện công nghiệp | BA26: Trường Cao đẳng Lý Tự Trọng TPHCM
A27: 72 | B27: 19000022 | C27: Đào Tấn | D27: Phát | E27: Nam | F27: 24/11/2003 | G27: Bình Thuận | H27: Đào Tấn Thuận | I27: Cơ Khí | J27: 0345454770 | K27: Lê Trần Thúy Phượng | L27: Trang điểm, uống tóc | M27: 0369724472 | N27: 19T4-CĐT1 | O27: Bình Thuận | P27: Kinh | R27: Tổ 10, Thôn 4, Đức Hạnh, Đức Linh, Bình Thuận | S27: 36/13 Đường Bình Gỉa, Phường 13, Quận Tân Bình, Tp.HCM | T27: 0345454770 | Y27: 261569699 | AJ27: KV2-NT | AM27: Bình Thuận | AN27: Huyện Đức Linh | AO27: 19T40070 | AP27: Đang học | AQ27: 1 | AR27: 19T4-CĐT1 | AS27: 15/05/2019 | AT27: 2019 | AU27: 2019 | AV27: Trung cấp | AW27: Chính quy 3 năm | AX27: Khoa Điện - Điện tử | AY27: Cơ điện tử | AZ27: Cơ điện tử | BA27: Trường Cao đẳng Lý Tự Trọng TPHCM
A28: 39 | B28: 19000023 | C28: Nguyễn Cao | D28: Hưng | E28: Nam | F28: 02/07/1998 | G28: Tp. Hồ Chí Minh | N28: 19T2-TKW1 | P28: Kinh | R28: 30/2 Nguyễn Văn Cự kp5 p Tân Tạo A Q.Binh Tân Tp HCM | T28: 0797910442 | AE28: THPT Bình Tân | AJ28: KV3 | AM28: Tp. Hồ Chí Minh | AN28: Quận Bình Tân | AO28: 19T20059 | AP28: Đang học | AQ28: 1 | AR28: 19T2-TKW1 | AS28: 15/05/2019 | AT28: 2019 | AU28: 2019 | AV28: Trung cấp | AW28: Chính quy 1N3 | AX28: Khoa Công nghệ Thông tin | AY28: Thiết kế trang Web | AZ28: Thiết kế trang Web | BA28: Trường Cao đẳng Lý Tự Trọng TPHCM
A29: 28 | B29: 19000024 | C29: Tô Hà Kỳ | D29: Duyên | E29: Nữ | F29: 06/02/2004 | G29: Tp. Hồ Chí Minh | H29: Tô Hồng Đức | I29: Kỹ sư Cơ khí | K29: Đặng Ngọc Ngà | L29: Kinh doang | N29: 19T4-NNA1 | O29: Tp. Hồ Chí Minh | P29: Kinh | R29: 152/48 Lý Chính Thắng, P.7, Q.3, TPHCM | S29: 164C Võ Thị Sáu, Phường 8, Tp.HCM | T29: 0907107649 | U29: 0909916249 | AJ29: KV3 | AM29: Tp. Hồ Chí Minh | AN29: Quận 3 | AO29: 19T40348 | AP29: Đang học | AQ29: 1 | AR29: 19T4-NNA1 | AS29: 15/05/2019 | AT29: 2019 | AU29: 2019 | AV29: Trung cấp | AW29: Chính quy 3 năm | AX29: Khoa Khoa học cơ bản | AY29: Tiếng Anh | AZ29: Tiếng Anh | BA29: Trường Cao đẳng Lý Tự Trọng TPHCM
