Workbook
Name _1_: '[1]#REF'!#REF!
Name _1_: '[1]#REF'!#REF!
Name _10DATA_DATA2_L: '[2]#REF'!#REF!
Name _10DATA_DATA2_L: '[2]#REF'!#REF!
Name _11MAÕ_HAØNG: #REF!
Name _11MAÕ_HAØNG: #REF!
Name _12MAÕ_SOÁ_THUEÁ: #REF!
Name _12MAÕ_SOÁ_THUEÁ: #REF!
Name _13ÑÔN_GIAÙ: #REF!
Name _13ÑÔN_GIAÙ: #REF!
Name _14SOÁ_CTÖØ: #REF!
Name _14SOÁ_CTÖØ: #REF!
Name _15SOÁ_LÖÔÏNG: #REF!
Name _15SOÁ_LÖÔÏNG: #REF!
Name _16TEÂN_HAØNG: #REF!
Name _16TEÂN_HAØNG: #REF!
Name _17TEÂN_KHAÙCH_HAØ: #REF!
Name _17TEÂN_KHAÙCH_HAØ: #REF!
Name _18THAØNH_TIEÀN: #REF!
Name _18THAØNH_TIEÀN: #REF!
Name _19TRÒ_GIAÙ: #REF!
Name _19TRÒ_GIAÙ: #REF!
Name _2_??: BlankMacro1
Name _2_??: BlankMacro1
Name _20TRÒ_GIAÙ__VAT: #REF!
Name _20TRÒ_GIAÙ__VAT: #REF!
Name _3_??????1: BlankMacro1
Name _3_??????1: BlankMacro1
Name _4_??????2: BlankMacro1
Name _4_??????2: BlankMacro1
Name _5_??????3: BlankMacro1
Name _5_??????3: BlankMacro1
Name _6_??????4: BlankMacro1
Name _6_??????4: BlankMacro1
Name _7_??????5: BlankMacro1
Name _7_??????5: BlankMacro1
Name _8_??????6: BlankMacro1
Name _8_??????6: BlankMacro1
Name _9_0DATA_DATA2_L: '[2]#REF'!#REF!
Name _9_0DATA_DATA2_L: '[2]#REF'!#REF!
Name _CT250: '[3]dongia (2)'!#REF!
Name _CT250: '[3]dongia (2)'!#REF!
Name _SD11: {"Thuxm2.xls","Sheet1"}
Name _XL3: BlankMacro1
Name _XL3: BlankMacro1
Name CACAU: 298161
Name CLVC3: 0.1
Name Comm: BlankMacro1
Name Comm: BlankMacro1
Name Document_array: {"Book1"}
Name Drawpoints: 1
Name DSTD_Clear: DSTD_Clear
Name FFF: BlankMacro1
Name FFF: BlankMacro1
Name FIT: BlankMacro1
Name FIT: BlankMacro1
Name FITT2: BlankMacro1
Name FITT2: BlankMacro1
Name FITTING2: BlankMacro1
Name FITTING2: BlankMacro1

Sheet D03-TS(2020)
A1: Tên đơn vị: ………………………………
A2: Mã đơn vị: ………………………………. | F2: DANH SÁCH NGƯỜI CHỈ THAM GIA BHYT
A3: Địa chỉ: ………..……………….………. | F3: Số:…… tháng ….. năm …...
C5: Đối tượng tham gia | G5: Lương cơ sở: ……………… đồng
A6: STT | C6: Họ và tên | D6: Mã số BHXH | E6: Ngày tháng năm sinh | F6: Giới tính | G6: Nơi đăng ký KCB ban đầu | H6: Biên lai, ngày tham gia | J6: Tiền lương, trợ cấp hoặc số tiền đóng | K6: Tỷ lệ NS hỗ trợ (%) | L6: Thời hạn sử dụng thẻ | N6: Ghi chú
H7: Số | I7: Ngày | L7: Số tháng | M7: Từ ngày
A8: A | C8: B | D8: 1 | E8: 2 | F8: 3 | G8: 4 | H8: 5 | I8: 6 | J8: 7 | K8: 8 | L8: 9 | M8: 10 | N8: 11
A9: I | C9: Tăng
A10: 1 | B10: 19000244 | C10: Nguyễn Bá Linh | E10: 01/09/1994 | F10: Nam | G10: 031 | L10: 6 | M10: 01/07/2019-31/12/2019 | N10: Thôn 11, xã Long Bình, huyện Phú Riềng, tỉnh Bình Phước
A11: 2 | B11: 19000287 | C11: Lê Trung Vĩnh Sang | E11: 06/07/2000 | F11: Nam | G11: 040 | L11: 6 | M11: 01/07/2019-31/12/2019 | N11: 30/6 khu phố 6, thị trấn Hóc Môn, huyện Hóc Môn, TP.HCM
A12: 2 | B12: 19000314 | C12: Trương Mạnh Hiếu | D12: 7932196941 | E12: 03/08/2001 | F12: Nam | G12: 025 | L12: 6 | M12: 01/07/2019-31/12/2019 | N12: 62/8/17, khu phố 7, phường Bình Hưng Hòa A, quận Bình Tân, TP. Hồ Chí Minh
A13: 2 | B13: 19000323 | C13: Tạ Minh Hiếu | D13: 7931869321 | E13: 28/05/1998 | F13: Nam | G13: 032 | L13: 6 | M13: 01/07/2019-31/12/2019 | N13: 146/5 Cao Thắng, Phường 17, Quận Phú Nhuận, TPHCM
A14: 2 | B14: 19000478 | C14: Trần Văn Hiệp | E14: 16/06/1999 | F14: Nam | L14: 6 | M14: 01/07/2019-31/12/2019 | N14: Tổ 1, thôn 5, xã Đa Kai, huyện Đức Linh, tỉnh Bình Thuận
A15: 2 | B15: 19000563 | C15: Trịnh Văn Tâm | E15: 20/12/2002 | F15: Nam | L15: 6 | M15: 01/07/2019-31/12/2019 | N15: Phú Long, xã Châu Thành, tỉnh Đồng Tháp
A16: 2 | B16: 19000752 | C16: Trần Đức Khoa | E16: 19/02/2004 | F16: Nam | L16: 6 | M16: 01/07/2019-31/12/2019 | N16: K49 Hoàng Văn Thụ, phường 4, quận Tân Bình, Tp.HCM
A17: 2 | B17: 19000870 | C17: Lê Ngọc Huy | E17: 22/08/1994 | F17: Nam | L17: 6 | M17: 01/07/2019-31/12/2019 | N17: 46 Đoàn Giỏi, phường Sơn Kỳ, quận Tân Phú, TP.HCM
A18: I.1 | C18: Người tham gia
A20: I.2 | C20: Tiền lương
C22: Cộng tăng
A23: II | C23: Giảm
A24: II.1 | C24: Người tham gia
A26: II.2 | C26: Tiền lương
C28: Cộng giảm
A31: Tổng số thẻ BHYT đề nghị cấp: | E31: ………
A32: …….., ngày ….tháng…..năm……. | F32: …….., ngày ….tháng…..năm……. | J32: …….., ngày ….tháng…..năm…….
A33: UBND xã/Đại lý thu/nhà trường ……………. | F33: Cơ quan BHXH | J33: Cơ quan quản lý đối tượng
A34: (ký, ghi rõ họ tên và đóng dấu) | F34: (ký, ghi rõ họ tên và đóng dấu) | J34: (ký, ghi rõ họ tên và đóng dấu)

Sheet Sheet1
A1: DANH SÁCH HS-SV ĐÓNG BHYT TỪ 26/05/2019-25/06/2019
AV2: ĐÃ GỬI
AT3: ĐÓNG BHYT | AW3: GHI CHÚ
A4: STT | B4: Mã hồ sơ | C4: Mã HS-SV | D4: Họ đệm | E4: Tên | G4: Giới tính | H4: Ngày sinh | I4: Ngày nhập học | J4: Nơi sinh | K4: Nguyên quán | L4: Quận/Huyện | M4: Phường/Xã | N4: Dân tộc | O4: Tôn giáo | P4: Hộ khẩu thường trú | Q4: Địa chỉ liên lạc | R4: Tên đối tượng | S4: Tên đối tượng chính sách | T4: Khu vực | U4: Tên tỉnh | V4: Tên huyện | W4: Tên phân hệ | X4: Trường tốt nghiệp | Y4: Ngày vào Đoàn | Z4: Ngày vào Đảng | AA4: Số CMND | AB4: Ngày cấp | AC4: Nơi cấp | AD4: Mã lớp | AE4: Tên lớp | AF4: Khóa học | AG4: Bậc đào tạo | AH4: Loại đào tạo | AI4: Ngành | AJ4: Nghề | AK4: Niên khóa | AL4: Họ tên cha | AM4: Nghề nghiệp | AN4: Họ tên Mẹ | AO4: Nghề nghiệp | AP4: Điện thoại | AQ4: Email | AR4: Trạng thái | AS4: Quốc tịch | AT4: NĂM 2019 | AU4: NĂM 2020 | AV4: Đ2
A5: 136 | B5: 19C10720 | C5: 19000244 | D5: Nguyễn Bá | E5: Linh | F5: =D5&" "&E5 -> Nguyễn Bá Linh | G5: Nam | H5: 01/09/1994 | I5: 03/06/2019 | J5: Bình Phước | K5: Thanh Hóa | N5: Kinh | O5: Không | P5: Thôn 11, xã Long Bình, huyện Phú Riềng, tỉnh Bình Phước | Q5: 141/52/6 duong tl 19, Phường Thành Lộc, Quận 12. Tp.HCM | T5: KV1 | U5: Bình Phước | V5: Huyện Phú Riềng | W5: Hệ A | X5: THPT Đồng Xoài | AA5: 285420938 | AB5: 18/03/2014 | AC5: CA. Tỉnh Bình Phước | AD5: 19C1-CNÔ1 | AE5: 19C1-CNÔ1 | AF5: 2019 | AG5: Cao đẳng | AH5: Chính quy 2 năm | AI5: Công nghệ ô tô | AJ5: Công nghệ ô tô | AK5: 2019-2021 | AL5: Nguyễn Bá Nên | AM5: Nông dân | AN5: Trần Thị Tế | AO5: Nông dân | AP5: 0962858803 | AQ5: balynhpc66bp@gmail.com | AR5: Đang học | AS5: viet nam | AT5: 01/07/2019-31/12/2019 | AU5: 01/01/2020-31/12/2020 | AW5: 844830
A6: 179 | B6: 19C10729 | C6: 19000287 | D6: Lê Trung Vĩnh | E6: Sang | F6: =D6&" "&E6 -> Lê Trung Vĩnh Sang | G6: Nam | H6: 06/07/2000 | I6: 06/06/2019 | J6: Tp. Hồ Chí Minh | K6: hoc mon | N6: Kinh | O6: Không | P6: 30/6 khu phố 6, thị trấn Hóc Môn, huyện Hóc Môn, TP.HCM | Q6: 30/6 khu phố 6, thị trấn Hóc Môn, huyện Hóc Môn, TP.HCM | T6: KV3 | U6: Tp. Hồ Chí Minh | V6: Huyện Hóc Môn | W6: Hệ A | X6: THPT Việt Âu | AA6: 026035748 | AB6: 26/06/2015 | AC6: hoc mon | AD6: 19C1-CNÔ1 | AE6: 19C1-CNÔ1 | AF6: 2019 | AG6: Cao đẳng | AH6: Chính quy 2 năm | AI6: Công nghệ ô tô | AJ6: Công nghệ ô tô | AK6: 2019-2021 | AL6: Lê Trung Tuấn | AM6: Kinh doanh | AN6: Phạm Thị Ngọc Phượng | AO6: Nội trợ | AP6: 0908243366 | AQ6: sanghulk0908@gmail.com | AR6: Đang học | AS6: Việt Nam | AT6: 01/07/2019-31/12/2019 | AU6: 01/01/2020-31/12/2020 | AW6: 844830
A7: 206 | B7: 19T40842 | C7: 19000314 | D7: Trương Mạnh | E7: Hiếu | F7: =D7&" "&E7 -> Trương Mạnh Hiếu | G7: Nam | H7: 03/08/2001 | I7: 07/06/2019 | J7: Tp. Hồ Chí Minh | P7: 62/8/17, khu phố 7, phường Bình Hưng Hòa A, quận Bình Tân, TP. Hồ Chí Minh | T7: KV3 | U7: Tp. Hồ Chí Minh | V7: Quận Bình Tân | W7: Hệ A | AA7: 087201000079 | AD7: 19T4-QTM1 | AE7: 19T4-QTM1 | AF7: 2019 | AG7: Trung cấp | AH7: Chính quy 3 năm | AI7: Quản trị mạng máy tính | AJ7: Quản trị mạng máy tính | AK7: 2019-2022 | AP7: 0973188586 | AR7: Đang học | AT7: 01/07/2019-31/12/2019 | AU7: 01/01/2020-31/12/2020 | AW7: 844830
A8: 215 | B8: 19T20003 | C8: 19000323 | D8: Tạ Minh | E8: Hiếu | F8: =D8&" "&E8 -> Tạ Minh Hiếu | G8: Nam | H8: 28/05/1998 | I8: 08/06/2019 | J8: Tp. Hồ Chí Minh | P8: 146/5 Cao Thắng, Phường 17, Quận Phú Nhuận, TPHCM | T8: KV3 | U8: Tp. Hồ Chí Minh | V8: Quận Phú Nhuận | W8: Hệ A | X8: THPT Hàn Thuyên | AA8: 025663084 | AD8: 19T2-QTD1 | AE8: 19T2-QTD1 | AF8: 2019 | AG8: Trung cấp | AH8: Chính quy 1N3 | AI8: Quản trị doanh nghiệp | AJ8: Quản trị doanh nghiệp | AK8: 2019-2020 | AP8: 0981641707 | AR8: Đang học | AT8: 01/07/2019-31/12/2019 | AU8: 01/01/2020-31/12/2020 | AW8: 844830
A9: 369 | B9: 19T40876 | C9: 19000478 | D9: Trần Văn | E9: Hiệp | F9: =D9&" "&E9 -> Trần Văn Hiệp | G9: Nam | H9: 16/06/1999 | I9: 13/06/2019 | J9: Bình Thuận | K9: Bình Thuận | N9: Kinh | O9: Không | P9: Tổ 1, thôn 5, xã Đa Kai, huyện Đức Linh, tỉnh Bình Thuận | Q9: 55/11/12 Phú Châu, P.Tam Hà, Q.Thủ Đức, TPHCM | T9: KV1 | U9: Bình Thuận | V9: Huyện Đức Linh | W9: Hệ A | AA9: 261505528 | AB9: 27/06/2013 | AC9: CA Bình Thuận | AD9: 19T4-CNÔ3 | AE9: 19T4-CNÔ3 | AF9: 2019 | AG9: Trung cấp | AH9: Chính quy 3 năm | AI9: Công nghệ ô tô | AJ9: Công nghệ ô tô | AK9: 2019-2022 | AL9: Trần Văn Vinh | AM9: Nông dân | AN9: Nguyễn Thị Thà | AO9: Nông dân | AP9: 0346224172 | AR9: Đang học | AS9: Việt Nam | AT9: 01/07/2019-31/12/2019 | AU9: 01/01/2020-31/12/2020 | AW9: 844830
A10: 454 | B10: 19T40609 | C10: 19000563 | D10: Trịnh Văn | E10: Tâm | F10: =D10&" "&E10 -> Trịnh Văn Tâm | G10: Nam | H10: 20/12/2002 | I10: 17/06/2019 | J10: Đồng Tháp | K10: Đồng Tháp | N10: Kinh | O10: Không | P10: Phú Long, xã Châu Thành, tỉnh Đồng Tháp | Q10: Phú Long, xã Châu Thành, tỉnh Đồng Tháp | T10: KV2 | U10: Đồng Tháp | V10: Huyện Châu Thành | W10: Hệ A | AA10: 19000563 | AB10: 26/06/2019 | AC10: LTT | AD10: 19T4-CCK1 | AE10: 19T4-CCK1 | AF10: 2019 | AG10: Trung cấp | AH10: Chính quy 3 năm | AI10: Công nghệ kỹ thuật cơ khí | AJ10: Công nghệ kỹ thuật cơ khí | AK10: 2019-2022 | AL10: Trịnh Văn Chính | AM10: Nông dân | AN10: Phạm Kim Tuyến | AO10: Nông dân | AP10: 0901633171 | AR10: Đang học | AS10: Việt Nam | AT10: 01/07/2019-31/12/2019 | AU10: 01/01/2020-31/12/2020 | AW10: 844830
A11: 641 | B11: 19T41251 | C11: 19000752 | D11: Trần Đức | E11: Khoa | F11: =D11&" "&E11 -> Trần Đức Khoa | G11: Nam | H11: 19/02/2004 | I11: 20/06/2019 | J11: Trà Vinh | P11: K49 Hoàng Văn Thụ, phường 4, quận Tân Bình, Tp.HCM | T11: KV3 | U11: Trà Vinh | V11: Huyện Châu Thành | W11: Hệ A | AD11: 19T4-CNÔ4 | AE11: 19T4-CNÔ4 | AF11: 2019 | AG11: Trung cấp | AH11: Chính quy 3 năm | AI11: Công nghệ ô tô | AJ11: Công nghệ ô tô | AK11: 2019-2022 | AP11: 0938675657 | AR11: Đang học | AT11: 01/07/2019-31/12/2019 | AU11: 01/01/2020-31/12/2020 | AW11: 844830
A12: 757 | B12: 19C11053 | C12: 19000870 | D12: Lê Ngọc | E12: Huy | F12: =D12&" "&E12 -> Lê Ngọc Huy | G12: Nam | H12: 22/08/1994 | I12: 24/06/2019 | J12: Tp. Hồ Chí Minh | K12: xã Bà Điểm, huyện Hóc Môn, TP HCM | N12: Kinh | O12: Không | P12: 46 Đoàn Giỏi, phường Sơn Kỳ, quận Tân Phú, TP.HCM | Q12: 46 Đoàn Giỏi, phường Sơn Kỳ, quận Tân Phú, TP.HCM | T12: KV2 | U12: Tp. Hồ Chí Minh | V12: Quận Tân Phú | W12: Hệ A | X12: THPT Bà Điểm | AA12: 025318176 | AB12: 14/06/2010 | AC12: CA TPHCM | AD12: 19C1-CNÔ1 | AE12: 19C1-CNÔ1 | AF12: 2019 | AG12: Cao đẳng | AH12: Chính quy 2 năm | AI12: Công nghệ ô tô | AJ12: Công nghệ ô tô | AK12: 2019-2021 | AP12: 0585252773 | AR12: Đang học | AS12: Việt Nam | AT12: 01/07/2019-31/12/2019 | AU12: 01/01/2020-31/12/2020 | AW12: 844830
AP13: TP. HCM, ngày 26 tháng 06 năm 2019

Sheet ĐKKCBBĐ K2019
A2: DANH SÁCH ĐĂNG KÝ THAM GIA BHYT NĂM 2020
A4: STT | B4: MSSV | C4: MSBHXH | D4: HỌ VÀ TÊN | E4: LỚP | F4: NĂM SINH | G4: Ngày Tháng Năm Sinh | H4: MSBHXH | I4: MÃ BV | J4: NƠI ĐKKCBBĐ | K4: ĐỊA CHỈ THƯỜNG TRÚ | L4: SỐ NHÀ | M4: XÃ -HK | N4: HUYỆN -HK | O4: TỈNH-HK | P4: ĐT | Q4: Ghi chú
A5: 01 | B5: 19000001 | D5: Phan Phú Hào | E5: 19C1-CNÔ1 | F5: 35512 | G5: 23/03/1997 | I5: 025 | J5: BV Thống Nhất | P5: 0904042315
A6: 02 | B6: 19000002 | C6: GD4797936952403 | D6: Phùng Đức Dương | E6: 19T4-KML | F6: 37181 | G6: 17/10/2001 | H6: GD4797936952403 | I6: 025 | J6: BV Thống Nhất | P6: Mua BHYT hộ gia đình
A7: 03 | B7: 19000003 | C7: HS4797935160094 | D7: Lê Trọng Tiến | G7: 15/03/2002 | H7: HS4797935160094
A8: 04 | B8: 19000004 | D8: Phạm Hữu Hoàng | E8: 19C1-LGT1 | F8: 34002 | G8: 02/02/1993 | I8: 031 | J8: BV Bình Thạnh | P8: 0388078719 | Q8: Mua thêm từ 01/6/2019-31/12/2019
A9: 05 | B9: 19000005 | D9: Nguyễn Khắc Trung Kiên | E9: 19C1- ĐCN1 | F9: 35774 | G9: 10/12/1997 | I9: 025 | J9: BV Thống Nhất | P9: 0978383432
A10: 06 | B10: 19000006 | D10: Trần Minh Quang | E10: 19C1-CNÔ1 | F10: 36328 | G10: 17/06/1999 | I10: 033 | J10: BV Tân Bình | P10: 0357006768
A11: 07 | B11: 19000007 | C11: 8222267122 | G11: 28/01/1995 | H11: 8222267122
A12: 08 | B12: 19000008 | G12: 17/04/2004
A13: 09 | B13: 19000009 | C13: 7934223996 | D13: Nguyễn Lê Hoàng | G13: 13/08/2003 | H13: 7934223996
A14: 10 | B14: 19000010 | D14: Trần Cao Long | G14: 21/11/2004
A15: 11 | B15: 19000011 | C15: HS4797934005910 | D15: Huỳnh Nhựt Thành | E15: 19T4- CNÔ1 | F15: 37629 | G15: 08/01/2003 | H15: HS4797934005910 | I15: 013 | J15: BV Nguyễn Tri Phương
A16: 12 | B16: 19000012 | C16: GD4797933322737 | D16: Nguyễn Hoàng Minh Quân | E16: 19C1-CNÔ1 | F16: 36873 | G16: 13/12/2000 | H16: GD 4797933322737 | I16: 012 | J16: BV An Bình | P16: GD 4797933322737 | Q16: Mua thêm (01/08/2019 - 31/12/2019)
A17: 13 | B17: 19000013 | C17: 7930311750 | G17: 11/05/2004 | H17: 7930311750
A18: 14 | B18: 19000014 | C18: 7931924170 | G18: 30/10/2004 | H18: 7931924170
A19: 15 | B19: 19000015 | C19: 7931883424 | G19: 30/10/2004 | H19: 7931883424
A20: 16 | B20: 19000016 | C20: GD4808023599812 | D20: Nguyễn Dương Thanh | E20: 19C1-CNL1 | F20: 35500 | G20: 11/03/1997 | H20: GD 4808023599812 | J20: có thẻ BHYT | P20: GD 4808023599812
A21: 17 | B21: 19000017 | C21: 9122136081 | D21: Đặng Hữu Giác | E21: 19C1-CNO1 | F21: 36818 | G21: 19/10/2000 | H21: 9122136081 | I21: 034 | J21: BV Gò vấp | P21: 0826855852 | Q21: Chưa Có thẻ BHYT
A22: 18 | B22: 19000018 | C22: 7931161714 | D22: Đào Thanh Tùng | E22: 19T4-CNO1 | F22: 37593 | G22: 03/12/2002 | H22: 7931161714 | I22: 025 | J22: BV Thống Nhất | P22: 0976166455
A23: 19 | B23: 19000019 | C23: 7930510278 | G23: 17/07/2002 | H23: 7930510278
A24: 20 | B24: 19000020 | C24: 7222247032 | D24: Phan Nguyễn Thanh Thiện | E24: 19T4- ĐCN1 | F24: 35216 | G24: 31/05/1996 | H24: 7222247032 | I24: 054 | J24: BV Tân Phú | P24: 0967220855
A25: 21 | B25: 19000021 | C25: 7937711664 | G25: 20/03/2004 | H25: 7937711664
A26: 22 | B26: 19000022 | C26: 6021111837 | G26: 24/11/2003 | H26: 6021111837
A27: 23 | B27: 19000023 | C27: HS4797934304799 | D27: Nguyễn Cao Hưng | G27: 02/07/1998 | H27: HS 4797934304799
A28: 24 | B28: 19000024 | C28: 7932371881 | G28: 06/02/2004 | H28: 7932371881
A29: 25 | B29: 19000025 | C29: 7930937730 | G29: 23/07/2004 | H29: 7930937730
A30: 26 | B30: 19000026 | C30: 7936148178 | G30: 25/02/1999 | H30: 7936148178
A31: 27 | B31: 19000027 | C31: HS4797931377033 | D31: Lê Hoàng Quốc Anh | G31: 23/07/2004 | H31: HS4797931377033 | I31: 025
A32: 28 | B32: 19000028 | C32: 7931511443 | D32: Bùi Hoàng An Vỹ | E32: 19T4 - ĐCN1 | F32: 37191 | G32: 27/10/2001 | H32: 7931511443 | I32: 054 | J32: BV Tân Phú | P32: 0856493973
A33: 29 | B33: 19000029 | C33: 7931931864 | D33: Mach Arafin | G33: 15/02/2004 | H33: 7931931864 | I33: 032
A34: 30 | B34: 19000030 | C34: 7931859708 | D34: Lê Nguyễn Trung Hiếu | G34: 03/12/2004 | H34: 7931859708 | I34: 032
A35: 31 | B35: 19000031 | C35: 7932795051 | G35: 07/09/2004 | H35: 7932795051
A36: 32 | B36: 19000032 | C36: HS4797936735269 | D36: Huỳnh Văn Đạt | G36: 14/05/2004 | H36: HS4797936735269 | I36: 034
A37: 33 | B37: 19000033 | D37: Nguyễn Quốc Phục | E37: 19C1-CNO1 | F37: 35693 | G37: 20/09/1997 | I37: 034 | J37: BV175 | Q37: Mua thêm từ 01/6/2019-31/12/2019
A38: 34 | B38: 19000034 | C38: HS4797935719015 | D38: Nguyễn Lê Minh Kha | G38: 30/08/2004 | H38: HS4797935719015 | I38: 058
A39: 35 | B39: 19000035 | C39: HS4797928535928 | D39: Võ Thanh Hiếu | G39: 28/06/2004 | H39: HS 4797928535928 | I39: 030 | J39: BV Gia Định
A40: 36 | B40: 19000036 | C40: 7932703471 | G40: 13/10/2003 | H40: 7932703471
A41: 37 | B41: 19000037 | C41: SV4797938292389 | D41: Ngô Khí Tài | E41: 19C1 - TKĐ | F41: 36608 | G41: 23/03/2000 | H41: SV 4797938292389 | I41: 030 | J41: BV Gia Định | P41: SV 479 7938292389
A42: 38 | B42: 19000038 | C42: 7928441683 | G42: 06/12/1996 | H42: 7928441683
...

Sheet D03-TS(2019)
A1: Tên đơn vị: ………………………………
A2: Mã đơn vị: ………………………………. | E2: DANH SÁCH NGƯỜI CHỈ THAM GIA BHYT
A3: Địa chỉ: ………..……………….………. | E3: Số:…… tháng ….. năm …...
B5: Đối tượng tham gia | F5: Lương cơ sở: ……………… đồng
A6: STT | B6: Họ và tên | C6: Mã số BHXH | D6: Ngày tháng năm sinh | E6: Giới tính | F6: Nơi đăng ký KCB ban đầu | G6: Biên lai, ngày tham gia | I6: Tiền lương, trợ cấp hoặc số tiền đóng | J6: Tỷ lệ NS hỗ trợ (%) | K6: Thời hạn sử dụng thẻ | M6: Ghi chú
G7: Số | H7: Ngày | K7: Số tháng | L7: Từ ngày
A8: A | B8: B | C8: 1 | D8: 2 | E8: 3 | F8: 4 | G8: 5 | H8: 6 | I8: 7 | J8: 8 | K8: 9 | L8: 10 | M8: 11
A9: I | B9: Tăng
A10: I.1 | B10: Người tham gia
A12: I.2 | B12: Tiền lương
B14: Cộng tăng
A15: II | B15: Giảm
A16: II.1 | B16: Người tham gia
A18: II.2 | B18: Tiền lương
B20: Cộng giảm
A23: Tổng số thẻ BHYT đề nghị cấp: | D23: ………
A24: …….., ngày ….tháng…..năm……. | E24: …….., ngày ….tháng…..năm……. | I24: …….., ngày ….tháng…..năm…….
A25: UBND xã/Đại lý thu/nhà trường ……………. | E25: Cơ quan BHXH | I25: Cơ quan quản lý đối tượng
A26: (ký, ghi rõ họ tên và đóng dấu) | E26: (ký, ghi rõ họ tên và đóng dấu) | I26: (ký, ghi rõ họ tên và đóng dấu)

Sheet TỔNG 
A5: STT | B5: Mã sinh viên | C5: Họ | D5: Tên | E5: Giới tính | F5: Ngày sinh | G5: Nơi sinh | H5: Họ tên cha | I5: Nghề nghiệp cha | J5: Số điện thoại cha | K5: Họ tên mẹ | L5: Nghề nghiệp mẹ | M5: Số điện thoại mẹ | N5: Lớp | O5: Nguyên quán | P5: Dân tộc | Q5: Tôn giáo | R5: ĐC thường trú | S5: ĐC liên lạc | T5: Điện thoại | U5: ĐT Phụ huynh | V5: Điện thoại 2 | W5: Điện thoại 3 | X5: Email | Y5: Số CMND | Z5: Ngày cấp | AA5: Nơi cấp | AB5: Ngày vào đoàn | AC5: Ngày vào đảng | AD5: HKTT tỉnh | AE5: Trường tốt nghiệp | AF5: HKTT huyện | AG5: HKTT phường xã | AH5: HKTT thôn xóm | AI5: HKTT số nhà | AJ5: Khu vực | AK5: Đối tượng | AL5: Đối tượng chính sách | AM5: Tỉnh | AN5: Huyện | AO5: Hồ sơ | AP5: Trạng thái | AQ5: Nhóm | AR5: Mã lớp | AS5: Ngày nhập học | AT5: Năm vào | AU5: Khóa học | AV5: Hệ đào tạo | AW5: Loại hình ĐT | AX5: Khoa | AY5: Ngành | AZ5: Nghề | BA5: Cơ sở
A6: 1 | B6: 19000001 | C6: Phan Phú | D6: Hào | E6: Nam | F6: 23/03/1997 | G6: Tp. Hồ Chí Minh | H6: Phan Chí Hiếu | I6: Tự do | J6: 0903986495 | K6: Nguyễn Thị Phương Dung | L6: Nội Trợ | M6: 0909831343 | N6: 19C1-CNÔ1 | O6: Tp. Hồ Chí Minh | P6: Kinh | Q6: Không | R6: 17/15a khu phố 6a p.tân thới nhất quận 12 tp. Hồ Chí Minh | S6: 17/15a khu phố 6a p.tân thới nhất quận 12 tp. Hồ Chí Minh | T6: 0904042315 | Y6: 025885764 | Z6: 01/05/2019 | AA6: CA. Tp.HCM | AB6: 20/03/2014 | AE6: THPT Bà Điểm | AJ6: KV2 | AK6: Đối tượng 03 | AM6: Tp. Hồ Chí Minh | AN6: Quận 12 | AO6: 19C10211 | AP6: Đang học | AQ6: 1 | AR6: 19C1-CNÔ1 | AS6: 10/05/2019 | AT6: 2019 | AU6: 2019 | AV6: Cao đẳng | AW6: Chính quy 2 năm | AX6: Khoa Động lực | AY6: Công nghệ ô tô | AZ6: Công nghệ ô tô | BA6: Trường Cao đẳng Lý Tự Trọng TPHCM
A7: 2 | B7: 19000002 | C7: Phùng Đức | D7: Dương | E7: Nam | F7: 17/10/2001 | G7: Bắc Ninh | H7: Phùng Đức Danh | I7: Tài xé | J7: 0964125239 | K7: Nguyễn Thị Thư | L7: Nội Trợ | M7: 0978565745 | N7: 19T4-KML1 | O7: Bắc Ninh | P7: Kinh | Q7: Không | R7: Nghĩa Hương, Xã Mỹ Hương, Huyện Lương Tài, Tỉnh Bắc Ninh | S7: 5/25H tổ 14 ấp 2 xã Xuân Thới Thượng huyện Hóc Môn tp Hồ Chí Minh | T7: 0994905556 | X7: phungducduong99999@gmail.com | Y7: 125922776 | Z7: 14/07/2017 | AA7: Bắc Ninh | AJ7: KV3 | AM7: Bắc Ninh | AN7: Huyện Lương Tài | AO7: 19T40054 | AP7: Đang học | AQ7: 1 | AR7: 19T4-KML1 | AS7: 10/05/2019 | AT7: 2019 | AU7: 2019 | AV7: Trung cấp | AW7: Chính quy 3 năm | AX7: Khoa Nhiệt – Lạnh | AY7: Kỹ thuật máy lạnh và điều hòa không khí | AZ7: Kỹ thuật máy lạnh và điều hòa không khí | BA7: Trường Cao đẳng Lý Tự Trọng TPHCM
A8: 3 | B8: 19000003 | C8: Lê Trọng | D8: Tiến | E8: Nam | F8: 15/03/2002 | G8: Tp. Hồ Chí Minh | H8: Lê Trung Anh Kiệt | I8: Buôn bán | J8: 0978110038 | K8: Nguyễn Thị Mộng Tuyền | L8: Buôn bán | M8: 0988344000 | N8: 19T4-CNÔ1 | O8: Tp. Hồ Chí Minh | P8: Kinh | Q8: Không | R8: 24 Nguyễn Văn Tỷ, Khu phố 2, thị trấn Củ Chi, huyện Củ Chi, TPHCM | S8: 24 Nguyễn Văn Tỷ, Khu phố 2, thị trấn Củ Chi, huyện Củ Chi, TPHCM | T8: 0979535019 | X8: Bobbytrongtien@gmail.com | Y8: 079202005284 | Z8: 03/01/2017 | AA8: CA. Tp.HCM | AJ8: KV2 | AM8: Tp. Hồ Chí Minh | AN8: Huyện Củ Chi | AO8: 19T40059 | AP8: Đang học | AQ8: 1 | AR8: 19T4-CNÔ1 | AS8: 10/05/2019 | AT8: 2019 | AU8: 2019 | AV8: Trung cấp | AW8: Chính quy 3 năm | AX8: Khoa Động lực | AY8: Công nghệ ô tô | AZ8: Công nghệ ô tô | BA8: Trường Cao đẳng Lý Tự Trọng TPHCM
A9: 4 | B9: 19000004 | C9: Phạm Hữu | D9: Hoàng | E9: Nam | F9: 02/02/1993 | G9: Đồng Nai | H9: Phạm Luận | I9: Nông dân | J9: 0326637303 | N9: 19C1-LGT1 | O9: Đồng Nai | P9: Kinh | Q9: Không | R9: Ấp 3 xã Phú Lộc, huyện Tân Phú, tỉnh Đồng Nai | S9: 122/54 Bùi Đình Túy, P12, Quận Bình Thạnh, Tp. HCM | T9: 0388078719 | X9: phamhuuhoang1993@gmail.com | Y9: 272194195 | Z9: 22/04/2019 | AA9: CA. Đồng Nai | AB9: 13/12/2009 | AE9: THPT Đoàn Kết | AJ9: KV1 | AM9: Đồng Nai | AN9: Huyện Tân Phú | AO9: 19C10008 | AP9: Đang học | AQ9: 1 | AR9: 19C1-LGT1 | AS9: 10/05/2019 | AT9: 2019 | AU9: 2019 | AV9: Cao đẳng | AW9: Chính quy 2 năm | AX9: Khoa Kinh tế | AY9: Logistics | AZ9: Logistics | BA9: Trường Cao đẳng Lý Tự Trọng TPHCM
A10: 5 | B10: 19000005 | C10: Nguyễn Khắc Trung | D10: Kiên | E10: Nam | F10: 10/12/1997 | G10: Thái Bình | H10: Nguyễn Văn Duật | I10: Quản đốc | J10: 0974392959 | K10: Nguyễn Thị Toan | L10: Tạp vụ | M10: 0978114479 | N10: 19C1-ĐCN1 | O10: Thái Bình | P10: Kinh | R10: Xã Vũ Công, Huyện Kiến Xương, Tỉnh Thái Bình | S10: 257/38/9 đường bình thành, phường bình hưng hoà B, Quận Bình Tân | T10: 0928383432 | U10: 0974392959 | V10: 0978114479 | Y10: 025680322 | Z10: 29/08/2012 | AA10: CA. Tp.HCM | AB10: 26/03/2016 | AE10: THCS và THPT Phạm Ngũ Lão | AJ10: KV3 | AM10: Thái Bình | AN10: Huyện Kiến Xương | AO10: 19C10116 | AP10: Đang học | AQ10: 1 | AR10: 19C1-ĐCN1 | AS10: 10/05/2019 | AT10: 2019 | AU10: 2019 | AV10: Cao đẳng | AW10: Chính quy 2 năm | AX10: Khoa Điện - Điện tử | AY10: Điện công nghiệp | AZ10: Điện công nghiệp | BA10: Trường Cao đẳng Lý Tự Trọng TPHCM
A11: 6 | B11: 19000006 | C11: Trần Minh | D11: Quang | E11: Nam | F11: 17/06/1999 | G11: Long An | H11: Trần Văn Ơi | I11: Làm Nông | J11: 0359804850 | K11: Huỳnh Ngọc Thúy | L11: Làm Nông | M11: 0349474448 | N11: 19C1-CNÔ1 | O11: Long An | P11: Kinh | Q11: Không | R11: Ấp 2, Vĩnh Bình, Vĩnh Hưng, Long An | S11: 142/18 Cộng Hòa, Phường 4, Quận Tân Bình, Tp.HCM | T11: 0357006768 | U11: 0359804850 | V11: 0349474448 | X11: Tranquangg1706@gmail.com | Y11: 301687190 | Z11: 22/10/2014 | AA11: CA. Long An | AE11: THPT Vĩnh Hưng | AJ11: KV2-NT | AM11: Long An | AN11: Huyện Vĩnh Hưng | AO11: 19C10090 | AP11: Đang học | AQ11: 1 | AR11: 19C1-CNÔ1 | AS11: 11/05/2019 | AT11: 2019 | AU11: 2019 | AV11: Cao đẳng | AW11: Chính quy 2 năm | AX11: Khoa Động lực | AY11: Công nghệ ô tô | AZ11: Công nghệ ô tô | BA11: Trường Cao đẳng Lý Tự Trọng TPHCM
A12: 7 | B12: 19000007 | C12: Lê Minh | D12: Sang | E12: Nam | F12: 28/01/1995 | G12: Tiền Giang | N12: 19C1-TĐH1 | P12: Kinh | R12: Số 204, tổ 6, ấp 3, xã An Thái Trung, huyện Cái bè, tỉnh Tiền Giang | T12: 0968381803 | Y12: 312345949 | AE12: THPT Lê Thanh Hiền | AJ12: KV2-NT | AK12: Đối tượng 03 | AM12: Tiền Giang | AN12: Huyện Cái Bè | AO12: 19C10159 | AP12: Đang học | AQ12: 1 | AR12: 19C1-TĐH1 | AS12: 11/05/2019 | AT12: 2019 | AU12: 2019 | AV12: Cao đẳng | AW12: Chính quy 2 năm | AX12: Khoa Điện - Điện tử | AY12: Công nghệ kỹ thuật điều khiển và tự động hóa | AZ12: Công nghệ kỹ thuật điều khiển và tự động hóa | BA12: Trường Cao đẳng Lý Tự Trọng TPHCM
A13: 8 | B13: 19000008 | C13: Võ Trung | D13: Khang | E13: Nam | F13: 17/04/2004 | G13: Tp. Hồ Chí Minh | N13: 19T4-VSL1 | P13: Kinh | R13: 787/72 Trường Chinh p.Tây Thạnh Q.tân Phú | T13: 0794748348 | AJ13: KV3 | AM13: Tp. Hồ Chí Minh | AN13: Quận Tân Phú | AO13: 19T40276 | AP13: Đang học | AQ13: 1 | AR13: 19T4-VSL1 | AS13: 13/05/2019 | AT13: 2019 | AU13: 2019 | AV13: Trung cấp | AW13: Chính quy 3 năm | AX13: Khoa Nhiệt – Lạnh | AY13: Vận hành, sửa chữa thiết bị lạnh | AZ13: Vận hành, sửa chữa thiết bị lạnh | BA13: Trường Cao đẳng Lý Tự Trọng TPHCM
A14: 9 | B14: 19000009 | C14: Nguyễn Lê | D14: Hoàng | E14: Nam | F14: 13/08/2003 | G14: Tp. Hồ Chí Minh | H14: Nguyễn Văn Thạch | I14: Buôn bán | J14: 0936495478 | K14: Lê Thị Thơm | L14: Buôn Bán | M14: 0988973916 | N14: 19T4-CNÔ1 | O14: Tp. Hồ Chí Minh | P14: Kinh | Q14: Không | R14: E3/21c3 - Ấp 5A - Xã Vĩnh Lộc A - Huyện Bình Chánh HCM | S14: E3/21c3 - Ấp 5A - Xã Vĩnh Lộc A - Huyện Bình Chánh HCM | T14: 0988973916 | U14: 0339013001 | V14: 0936495478 | X14: nguyenlehoang.1308@gmail.com | Y14: 001203024361 | Z14: 10/05/2018 | AA14: huyện Bình Chánh tp.HCM | AJ14: KV3 | AM14: Tp. Hồ Chí Minh | AN14: Huyện Bình Chánh | AO14: 19T40157 | AP14: Đang học | AQ14: 1 | AR14: 19T4-CNÔ1 | AS14: 13/05/2019 | AT14: 2019 | AU14: 2019 | AV14: Trung cấp | AW14: Chính quy 3 năm | AX14: Khoa Động lực | AY14: Công nghệ ô tô | AZ14: Công nghệ ô tô | BA14: Trường Cao đẳng Lý Tự Trọng TPHCM
A15: 10 | B15: 19000010 | C15: Trần Cao | D15: Long | E15: Nam | F15: 21/11/2004 | G15: Tp. Hồ Chí Minh | N15: 19T4-CNÔ1 | O15: Tp. Hồ Chí Minh | P15: Kinh | R15: 507/39 Hương Lộ 3 Phường Bình Hưng Hòa Q.bình tân | T15: 0989352468 | AJ15: KV3 | AM15: Tp. Hồ Chí Minh | AN15: Quận Bình Tân | AO15: 19T40117 | AP15: Đang học | AQ15: 1 | AR15: 19T4-CNÔ1 | AS15: 13/05/2019 | AT15: 2019 | AU15: 2019 | AV15: Trung cấp | AW15: Chính quy 3 năm | AX15: Khoa Động lực | AY15: Công nghệ ô tô | AZ15: Công nghệ ô tô | BA15: Trường Cao đẳng Lý Tự Trọng TPHCM
A16: 11 | B16: 19000011 | C16: Huỳnh Nhựt | D16: Thành | E16: Nam | F16: 08/01/2003 | G16: Tp. Hồ Chí Minh | H16: Huỳnh Thanh Toàn | J16: 0388435545 | K16: Nguyễn Thị Thúy Ái | M16: 0963059849 | N16: 19T4-CNÔ1 | O16: Tp. Hồ Chí Minh | P16: Hoa | Q16: Phật Giáo | R16: 139/26/13 Chiến Lược, P. Bình Trị Đông, Q. Bình Tân, TPHCM | S16: 139/26/13 Chiến Lược, P. Bình Trị Đông, Q. Bình Tân, TPHCM | T16: 0963059849 | X16: khoidutao@gmail.com | Y16: 086203000129 | Z16: 18/06/2018 | AA16: CTCCSĐKQLDC | AJ16: KV3 | AM16: Tp. Hồ Chí Minh | AN16: Quận Bình Tân | AO16: 19T40039 | AP16: Đang học | AQ16: 1 | AR16: 19T4-CNÔ1 | AS16: 13/05/2019 | AT16: 2019 | AU16: 2019 | AV16: Trung cấp | AW16: Chính quy 3 năm | AX16: Khoa Động lực | AY16: Công nghệ ô tô | AZ16: Công nghệ ô tô | BA16: Trường Cao đẳng Lý Tự Trọng TPHCM
A17: 12 | B17: 19000012 | C17: Nguyễn Hoàng Minh | D17: Quân | E17: Nam | F17: 13/12/2000 | G17: Tp. Hồ Chí Minh | H17: Nguyễn Hoàn Vũ | I17: Tài xé | J17: 0909613250 | K17: Nguyễn Thị Mỹ Yến | L17: Nội trợ | M17: 0908577364 | N17: 19C1-CNÔ1 | O17: Tp. Hồ Chí Minh | P17: Kinh | R17: 995/122 Hồng Bàng, Phường 12, Quận 6, Tp.Hồ Chí Minh | S17: 995/122 Hồng Bàng, Phường 12, Quận 6, Tp.Hồ Chí Minh | T17: 0908577364 | U17: 0909613250 | V17: 0908577364 | Y17: 026031697 | Z17: 20/07/2015 | AA17: CA.TPHCM | AE17: THPT NKTDTT Nguyễn Thị Định | AJ17: KV3 | AM17: Tp. Hồ Chí Minh | AN17: Quận 6 | AO17: 19C10036 | AP17: Đang học | AQ17: 1 | AR17: 19C1-CNÔ1 | AS17: 13/05/2019 | AT17: 2019 | AU17: 2019 | AV17: Cao đẳng | AW17: Chính quy 2 năm | AX17: Khoa Động lực | AY17: Công nghệ ô tô | AZ17: Công nghệ ô tô | BA17: Trường Cao đẳng Lý Tự Trọng TPHCM
A18: 13 | B18: 19000013 | C18: Nguyễn Nhật | D18: Huy | E18: Nam | F18: 11/05/2004 | G18: Tp. Hồ Chí Minh | N18: 19T4-TKĐ1 | P18: Kinh | R18: 411/11/ Lê Đức Thọ f.17 | T18: 0766779354 | AJ18: KV3 | AM18: Tp. Hồ Chí Minh | AN18: Quận Gò Vấp | AO18: 19T40172 | AP18: Đang học | AQ18: 1 | AR18: 19T4-TKĐ1 | AS18: 13/05/2019 | AT18: 2019 | AU18: 2019 | AV18: Trung cấp | AW18: Chính quy 3 năm | AX18: Khoa Công nghệ Thông tin | AY18: Thiết kế đồ họa | AZ18: Thiết kế đồ họa | BA18: Trường Cao đẳng Lý Tự Trọng TPHCM
A19: 14 | B19: 19000014 | C19: Vũ Trường | D19: Khanh | E19: Nam | F19: 30/10/2004 | G19: Tp. Hồ Chí Minh | N19: 19T4-LTM1 | P19: Kinh | R19: 499/44 Quang Trung, P.10, Q.Gò Vấp, TPHCM | T19: 0964493213 | AJ19: KV3 | AM19: Tp. Hồ Chí Minh | AN19: Quận Gò Vấp | AO19: 19T40164 | AP19: Đang học | AQ19: 1 | AR19: 19T4-LTM1 | AS19: 14/05/2019 | AT19: 2019 | AU19: 2019 | AV19: Trung cấp | AW19: Chính quy 3 năm | AX19: Khoa Công nghệ Thông tin | AY19: Lập trình máy tính | AZ19: Lập trình máy tính | BA19: Trường Cao đẳng Lý Tự Trọng TPHCM
A20: 15 | B20: 19000015 | C20: Vũ Ngọc Mai | D20: Khanh | E20: Nữ | F20: 30/10/2004 | G20: Tp. Hồ Chí Minh | N20: 19T4-MTT1 | P20: Kinh | R20: 499/44 Quang Trung, P.10, Quận Gò Vấp, TPHCM | T20: 0964493213 | AJ20: KV3 | AM20: Tp. Hồ Chí Minh | AN20: Quận Gò Vấp | AO20: 19T40175 | AP20: Đang học | AQ20: 1 | AR20: 19T4-MTT1 | AS20: 14/05/2019 | AT20: 2019 | AU20: 2019 | AV20: Trung cấp | AW20: Chính quy 3 năm | AX20: Khoa May - Thời trang | AY20: May thời trang | AZ20: May thời trang | BA20: Trường Cao đẳng Lý Tự Trọng TPHCM
A21: 16 | B21: 19000016 | C21: Nguyễn Dương | D21: Thanh | E21: Nam | F21: 11/03/1997 | G21: Long An | H21: Nguyễn Văn Ngân | I21: Thợ Mộc | J21: 0907751203 | K21: Dương Thị Mỹ Hương | L21: Buôn bán | M21: 0974856203 | N21: 19C1-CNL1 | O21: Long An | P21: Kinh | Q21: Không | R21: 52 ấp Xóm Mới, xã Tân Lân, huyện Cần Đước, tỉnh Long An | S21: 52 ấp Xóm Mới, xã Tân Lân, huyện Cần Đước, tỉnh Long An | T21: 0968498203 | U21: 0907751203 | V21: 0974856203 | X21: nguyenduongthanh1131997@gmail.com | Y21: 301607085 | Z21: 31/05/2012 | AA21: CA. Long An | AB21: 17/05/2015 | AC21: 10/07/2018 | AE21: THPT Chu Văn An | AJ21: KV2-NT | AK21: Đối tượng 03 | AM21: Long An | AN21: Huyện Cần Đước | AO21: 19C10088 | AP21: Đang học | AQ21: 1 | AR21: 19C1-CNL1 | AS21: 14/05/2019 | AT21: 2019 | AU21: 2019 | AV21: Cao đẳng | AW21: Chính quy 2 năm | AX21: Khoa Nhiệt – Lạnh | AY21: Công nghệ kỹ thuật nhiệt | AZ21: Công nghệ kỹ thuật nhiệt | BA21: Trường Cao đẳng Lý Tự Trọng TPHCM
A22: 17 | B22: 19000017 | C22: Đặng Hữu | D22: Giác | E22: Nam | F22: 19/10/2000 | G22: Kiên Giang | H22: Đặng Văn Sâm | I22: Giảng viên | J22: 0384844810 | K22: Trần Xuân Lan | L22: Giáo viên | M22: 0984275178 | N22: 19C1-CNÔ1 | O22: Kiên Giang | P22: Kinh | R22: Lô D11, khu dân cư ấp Tân Hoà B,xã Tân Hoà,huyện Tân Hiệp,tỉnh Kiên Giang | S22: 194 Trần Bá Giao, Phường 5, Quận Gò Vấp, Tp.HCM | T22: 0826855852 | U22: 0384844810 | V22: 0984275178 | Y22: 371901066 | Z22: 19/03/2015 | AA22: CA. Kiên Giang | AE22: THPT Tân Hiệp | AJ22: KV2-NT | AM22: Kiên Giang | AN22: Huyện Tân Hiệp | AO22: 19C10004 | AP22: Đang học | AQ22: 1 | AR22: 19C1-CNÔ1 | AS22: 14/05/2019 | AT22: 2019 | AU22: 2019 | AV22: Cao đẳng | AW22: Chính quy 2 năm | AX22: Khoa Động lực | AY22: Công nghệ ô tô | AZ22: Công nghệ ô tô | BA22: Trường Cao đẳng Lý Tự Trọng TPHCM
A23: 18 | B23: 19000018 | C23: Đào Thanh | D23: Tùng | E23: Nam | F23: 03/12/2002 | G23: Tp. Hồ Chí Minh | N23: 19T4-CNÔ1 | P23: Kinh | R23: 154/31/11A Đường Cống Lỡ, P.15, Q.Tân Bình, TPHCM | T23: 0976166455 | AJ23: KV3 | AM23: Tp. Hồ Chí Minh | AN23: Quận Tân Bình | AO23: 19T40122 | AP23: Đang học | AQ23: 1 | AR23: 19T4-CNÔ1 | AS23: 14/05/2019 | AT23: 2019 | AU23: 2019 | AV23: Trung cấp | AW23: Chính quy 3 năm | AX23: Khoa Động lực | AY23: Công nghệ ô tô | AZ23: Công nghệ ô tô | BA23: Trường Cao đẳng Lý Tự Trọng TPHCM
A24: 19 | B24: 19000019 | C24: Phạm Hoàng | D24: Khôi | E24: Nam | F24: 17/07/2002 | G24: Tp. Hồ Chí Minh | N24: 19T4-CNÔ1 | P24: Kinh | R24: 125/16/26 Bùi Đình Túy P.24 Q.Bình Thạnh Tp HCM | T24: 0933192899 | AJ24: KV3 | AM24: Tp. Hồ Chí Minh | AN24: Huyện Bình Chánh | AO24: 19T40314 | AP24: Đang học | AQ24: 1 | AR24: 19T4-CNÔ1 | AS24: 14/05/2019 | AT24: 2019 | AU24: 2019 | AV24: Trung cấp | AW24: Chính quy 3 năm | AX24: Khoa Động lực | AY24: Công nghệ ô tô | AZ24: Công nghệ ô tô | BA24: Trường Cao đẳng Lý Tự Trọng TPHCM
A25: 20 | B25: 19000020 | C25: Phan Nguyễn Thanh | D25: Thiện | E25: Nam | F25: 31/05/1996 | G25: Tây Ninh | H25: Phan Thành Đông | I25: Làm Nông | J25: 0338151562 | K25: Nguyễn Thị Huệ | L25: Làm nông | M25: 0327711123 | N25: 19T4-ĐCN1 | O25: Tây Ninh | P25: Kinh | Q25: Không | R25: Phước Trung , Phước Chỉ , Trảng Bàng , Tây Ninh | S25: Phước Trung, Phước Chỉ, Trảng Bàng, Tây Ninh | T25: 0967220855 | U25: 0338151561 | V25: 0327711123 | X25: thanhthienpc69@gmail.com | Y25: 072096000781 | Z25: 18/02/2016 | AA25: CA Tây Ninh | AM25: Tây Ninh | AN25: Huyện Trảng Bàng | AO25: 19T40106 | AP25: Đang học | AQ25: 1 | AR25: 19T4-ĐCN1 | AS25: 15/05/2019 | AT25: 2019 | AU25: 2019 | AV25: Trung cấp | AW25: Chính quy 3 năm | AX25: Khoa Điện - Điện tử | AY25: Điện công nghiệp | AZ25: Điện công nghiệp | BA25: Trường Cao đẳng Lý Tự Trọng TPHCM
A26: 21 | B26: 19000021 | C26: Đỗ Viết Thành | D26: An | E26: Nam | F26: 20/03/2004 | G26: Tp. Hồ Chí Minh | H26: Đỗ Tiến Thành | I26: Lao động | J26: 0379732989 | K26: Đặng Thị Xinh | L26: Nội trợ | M26: 1970 | N26: 19T4-ĐCN1 | O26: quang nam | P26: Kinh | Q26: Không | R26: 66/25 Phan Sào Nam P.11 Q.Tân Bình | S26: 66/25 Phan Sào Nam P.11 Q.Tân Bình | T26: 0379732989 | Y26: 0379732989 | Z26: 28/05/2019 | AA26: TP HCM | AJ26: KV3 | AM26: Tp. Hồ Chí Minh | AN26: Quận Tân Bình | AO26: 19T40112 | AP26: Đang học | AQ26: 1 | AR26: 19T4-ĐCN1 | AS26: 15/05/2019 | AT26: 2019 | AU26: 2019 | AV26: Trung cấp | AW26: Chính quy 3 năm | AX26: Khoa Điện - Điện tử | AY26: Điện công nghiệp | AZ26: Điện công nghiệp | BA26: Trường Cao đẳng Lý Tự Trọng TPHCM
A27: 22 | B27: 19000022 | C27: Đào Tấn | D27: Phát | E27: Nam | F27: 24/11/2003 | G27: Bình Thuận | H27: Đào Tấn Thuận | I27: Cơ Khí | J27: 0345454770 | K27: Lê Trần Thúy Phượng | L27: Trang điểm, uống tóc | M27: 0369724472 | N27: 19T4-CĐT1 | O27: Bình Thuận | P27: Kinh | R27: Tổ 10, Thôn 4, Đức Hạnh, Đức Linh, Bình Thuận | S27: 36/13 Đường Bình Gỉa, Phường 13, Quận Tân Bình, Tp.HCM | T27: 0345454770 | Y27: 261569699 | AJ27: KV2-NT | AM27: Bình Thuận | AN27: Huyện Đức Linh | AO27: 19T40070 | AP27: Đang học | AQ27: 1 | AR27: 19T4-CĐT1 | AS27: 15/05/2019 | AT27: 2019 | AU27: 2019 | AV27: Trung cấp | AW27: Chính quy 3 năm | AX27: Khoa Điện - Điện tử | AY27: Cơ điện tử | AZ27: Cơ điện tử | BA27: Trường Cao đẳng Lý Tự Trọng TPHCM
A28: 23 | B28: 19000023 | C28: Nguyễn Cao | D28: Hưng | E28: Nam | F28: 02/07/1998 | G28: Tp. Hồ Chí Minh | N28: 19T2-TKW1 | P28: Kinh | R28: 30/2 Nguyễn Văn Cự kp5 p Tân Tạo A Q.Binh Tân Tp HCM | T28: 0797910442 | AE28: THPT Bình Tân | AJ28: KV3 | AM28: Tp. Hồ Chí Minh | AN28: Quận Bình Tân | AO28: 19T20059 | AP28: Đang học | AQ28: 1 | AR28: 19T2-TKW1 | AS28: 15/05/2019 | AT28: 2019 | AU28: 2019 | AV28: Trung cấp | AW28: Chính quy 1N3 | AX28: Khoa Công nghệ Thông tin | AY28: Thiết kế trang Web | AZ28: Thiết kế trang Web | BA28: Trường Cao đẳng Lý Tự Trọng TPHCM
A29: 24 | B29: 19000024 | C29: Tô Hà Kỳ | D29: Duyên | E29: Nữ | F29: 06/02/2004 | G29: Tp. Hồ Chí Minh | H29: Tô Hồng Đức | I29: Kỹ sư Cơ khí | K29: Đặng Ngọc Ngà | L29: Kinh doang | N29: 19T4-NNA1 | O29: Tp. Hồ Chí Minh | P29: Kinh | R29: 152/48 Lý Chính Thắng, P.7, Q.3, TPHCM | S29: 164C Võ Thị Sáu, Phường 8, Tp.HCM | T29: 0907107649 | U29: 0909916249 | AJ29: KV3 | AM29: Tp. Hồ Chí Minh | AN29: Quận 3 | AO29: 19T40348 | AP29: Đang học | AQ29: 1 | AR29: 19T4-NNA1 | AS29: 15/05/2019 | AT29: 2019 | AU29: 2019 | AV29: Trung cấp | AW29: Chính quy 3 năm | AX29: Khoa Khoa học cơ bản | AY29: Tiếng Anh | AZ29: Tiếng Anh | BA29: Trường Cao đẳng Lý Tự Trọng TPHCM
A30: 25 | B30: 19000025 | C30: Nguyễn Minh | D30: Ánh | E30: Nữ | F30: 23/07/2004 | G30: Tp. Hồ Chí Minh | N30: 19T4-TKĐ1 | P30: Kinh | R30: 291D Hoàng Văn Thụ, P.2, Q. Tân Bình, TPHCM | T30: 0906855812 | AJ30: KV3 | AM30: Tp. Hồ Chí Minh | AN30: Quận Tân Phú | AO30: 19T40163 | AP30: Đang học | AQ30: 1 | AR30: 19T4-TKĐ1 | AS30: 15/05/2019 | AT30: 2019 | AU30: 2019 | AV30: Trung cấp | AW30: Chính quy 3 năm | AX30: Khoa Công nghệ Thông tin | AY30: Thiết kế đồ họa | AZ30: Thiết kế đồ họa | BA30: Trường Cao đẳng Lý Tự Trọng TPHCM
A31: 26 | B31: 19000026 | C31: Võ Kiều Minh | D31: Thư | E31: Nữ | F31: 25/02/1999 | G31: Tp. Hồ Chí Minh | N31: 19T4-NNA1 | P31: Kinh | R31: D12/53 đường Huỳnh Văn Trí, ấp 4, xã Bình Chánh, huyện Bình Chánh, TPHCM | T31: 0397481470 | AJ31: KV2 | AM31: Tp. Hồ Chí Minh | AN31: Huyện Bình Chánh | AO31: 19T40034 | AP31: Đang học | AQ31: 1 | AR31: 19T4-NNA1 | AS31: 15/05/2019 | AT31: 2019 | AU31: 2019 | AV31: Trung cấp | AW31: Chính quy 3 năm | AX31: Khoa Khoa học cơ bản | AY31: Tiếng Anh | AZ31: Tiếng Anh | BA31: Trường Cao đẳng Lý Tự Trọng TPHCM
A32: 27 | B32: 19000027 | C32: Lê Hoàng Quốc | D32: Anh | E32: Nam | F32: 23/07/2004 | G32: Tp. Hồ Chí Minh | H32: Lê Văn Hạ | I32: Xây dựng | J32: 0908128565 | K32: Hoàng Thị Hằng | L32: Buôn Bán | M32: 0933740954 | N32: 19T4-TKĐ1 | O32: Tp. Hồ Chí Minh | P32: Kinh | R32: C12/37 ẤP 3B XÃ VĨNH LỘC B , BÌNH CHÁNH , TP.HCM | S32: C12/37 ẤP 3B XÃ VĨNH LỘC B , BÌNH CHÁNH , TP.HCM | T32: 0968097606 | Y32: 052204000129 | Z32: 23/03/2019 | AA32: CCSĐKQLDC | AJ32: KV2 | AM32: Tp. Hồ Chí Minh | AN32: Huyện Bình Chánh | AO32: 19T40093 | AP32: Đang học | AQ32: 1 | AR32: 19T4-TKĐ1 | AS32: 16/05/2019 | AT32: 2019 | AU32: 2019 | AV32: Trung cấp | AW32: Chính quy 3 năm | AX32: Khoa Công nghệ Thông tin | AY32: Thiết kế đồ họa | AZ32: Thiết kế đồ họa | BA32: Trường Cao đẳng Lý Tự Trọng TPHCM
A33: 28 | B33: 19000028 | C33: Bùi Hoàng An | D33: Vỹ | E33: Nam | F33: 27/10/2001 | G33: Tp. Hồ Chí Minh | H33: Bùi Anh Vũ | I33: Nhân viên thuốc lá Sài gòn | J33: 0913116703 | K33: Trần Thị Hoàng Anh | L33: Bác sĩ | M33: 0903948929 | N33: 19T4-ĐCN1 | O33: Tp. Hồ Chí Minh | P33: Kinh | Q33: Không | R33: 263/10 Thạch Lam, P. Phú Thạch, Q. Tân Phú, TPHCM | S33: 263/10 Thạch Lam, P. Phú Thạch, Q. Tân Phú, TPHCM | T33: 0856493973 | U33: 0913116703 | V33: 0903948929 | X33: bon2710b@gmail.com | Y33: 079201008520 | Z33: 01/06/2016 | AA33: CA. TPHCM | AJ33: KV3 | AM33: Tp. Hồ Chí Minh | AN33: Quận Tân Phú | AO33: 19T40072 | AP33: Đang học | AQ33: 1 | AR33: 19T4-ĐCN1 | AS33: 16/05/2019 | AT33: 2019 | AU33: 2019 | AV33: Trung cấp | AW33: Chính quy 3 năm | AX33: Khoa Điện - Điện tử | AY33: Điện công nghiệp | AZ33: Điện công nghiệp | BA33: Trường Cao đẳng Lý Tự Trọng TPHCM
A34: 29 | B34: 19000029 | C34: Mach | D34: Arafin | E34: Nam | F34: 15/02/2004 | G34: Tp. Hồ Chí Minh | H34: Mach Layh Manh | I34: Tài xé | J34: 0907890659 | K34: Nguyễn Thị Phượng | L34: Thợ may | M34: 0937187357 | N34: 19T4-CNÔ1 | O34: XA TAN CHAU CHAU PHONG, AN GIANG | P34: Chăm | Q34: Hồi Giáo | R34: 127/29 Cao Thắng P.17 Q.Phú Nhuận Tp.HCM | S34: 127/29 Cao Thắng P.17 Q.Phú Nhuận Tp.HCM | T34: 0937187357 | Y34: 083204000005 | Z34: 23/04/2018 | AA34: CA PHU NHUAN | AJ34: KV3 | AM34: Tp. Hồ Chí Minh | AN34: Quận Phú Nhuận | AO34: 19T40374 | AP34: Đang học | AQ34: 1 | AR34: 19T4-CNÔ1 | AS34: 16/05/2019 | AT34: 2019 | AU34: 2019 | AV34: Trung cấp | AW34: Chính quy 3 năm | AX34: Khoa Động lực | AY34: Công nghệ ô tô | AZ34: Công nghệ ô tô | BA34: Trường Cao đẳng Lý Tự Trọng TPHCM
A35: 30 | B35: 19000030 | C35: Lê Nguyễn Trung | D35: Hiếu | E35: Nam | F35: 03/12/2004 | G35: Tp. Hồ Chí Minh | H35: Lê Hữu Phước | K35: Nguyễn Thị Phượng | M35: 0902628189 | N35: 19T4-THU1 | O35: Tp. Hồ Chí Minh | P35: Kinh | Q35: Phật Giáo | R35: 105/10 Cao Thắng Phường 17, Q.Phú Nhuận TPHCM | S35: 105/10 Cao Thắng Phường 17, Q.Phú Nhuận TPHCM | T35: 0902628189 | U35: 0937002837 | Y35: 079204012484 | Z35: 29/01/2019 | AA35: CTCCSQLĐKDC | AJ35: KV3 | AM35: Tp. Hồ Chí Minh | AN35: Quận Phú Nhuận | AO35: 19T40277 | AP35: Đang học | AQ35: 1 | AR35: 19T4-THU1 | AS35: 16/05/2019 | AT35: 2019 | AU35: 2019 | AV35: Trung cấp | AW35: Chính quy 3 năm | AX35: Khoa Công nghệ Thông tin | AY35: Tin học ứng dụng | AZ35: Tin học ứng dụng | BA35: Trường Cao đẳng Lý Tự Trọng TPHCM
A36: 31 | B36: 19000031 | C36: Huỳnh Thái | D36: Toàn | E36: Nam | F36: 07/09/2004 | G36: Tp. Hồ Chí Minh | H36: Huỳnh Thanh Sơn | I36: Tài xế | J36: 0933987220 | K36: Lê Thị Ngọc Tuyết | L36: Nội trợ | M36: 0909330098 | N36: 19T4-CNÔ1 | O36: Tp. Hồ Chí Minh | P36: Hoa | R36: 216/3 Lạc Long Quân, Phường 10, Quận 11 TP.Hồ Chí Minh | S36: 216/3 Lạc Long Quân, Phường 10, Quận 11 TP.Hồ Chí Minh | T36: 0764309556 | U36: 0933987220 | V36: 0909330098 | AM36: Tp. Hồ Chí Minh | AN36: Quận 11 | AO36: 19T40194 | AP36: Đang học | AQ36: 1 | AR36: 19T4-CNÔ1 | AS36: 16/05/2019 | AT36: 2019 | AU36: 2019 | AV36: Trung cấp | AW36: Chính quy 3 năm | AX36: Khoa Động lực | AY36: Công nghệ ô tô | AZ36: Công nghệ ô tô | BA36: Trường Cao đẳng Lý Tự Trọng TPHCM
A37: 32 | B37: 19000032 | C37: Huỳnh Văn | D37: Đạt | E37: Nam | F37: 14/05/2004 | G37: Tp. Hồ Chí Minh | H37: Huỳnh Văn Lạc | I37: Buôn bán | J37: 0983382881 | K37: Huỳnh Thị Thủy | M37: 0335882063 | N37: 19T4-QTM1 | O37: Tp. Hồ Chí Minh | P37: Kinh | R37: 66/12/9 Đường 45, Phường 14, Q.Gò Vấp TPHCM | S37: 66/12/9 Đường 45, Phường 14, Q.Gò Vấp TPHCM | T37: 0983382881 | U37: 0335882063 | AJ37: KV3 | AM37: Tp. Hồ Chí Minh | AN37: Quận Gò Vấp | AO37: 19T40232 | AP37: Đang học | AQ37: 1 | AR37: 19T4-QTM1 | AS37: 16/05/2019 | AT37: 2019 | AU37: 2019 | AV37: Trung cấp | AW37: Chính quy 3 năm | AX37: Khoa Công nghệ Thông tin | AY37: Quản trị mạng máy tính | AZ37: Quản trị mạng máy tính | BA37: Trường Cao đẳng Lý Tự Trọng TPHCM
A38: 33 | B38: 19000033 | C38: Nguyễn Quốc | D38: Phục | E38: Nam | F38: 20/09/1997 | G38: Gia Lai | H38: Nguyễn Quốc Việt | I38: Nông | K38: Phan Thị Thanh Lâm | L38: Nông | N38: 19C1-CNÔ1 | O38: Mỹ Hiệp, Phù Mỹ, Bình Đinh | P38: Kinh | Q38: Không | R38: Số 72 Quang Trung, Tổ dân phố 2, TT.Chư Sê, huyện Chư Sê, tỉnh Gia Lai | S38: Số 72 Quang Trung, Tổ dân phố 2, TT.Chư Sê, huyện Chư Sê, tỉnh Gia Lai | T38: 0375257585 | Y38: 231083906 | Z38: 17/06/2013 | AA38: CA. Gia Lai | AE38: Trường THPT Nguyễn Bỉnh Khiêm | AJ38: KV3 | AM38: Gia Lai | AN38: Huyện Chư Sê | AO38: 19C10129 | AP38: Đang học | AQ38: 1 | AR38: 19C1-CNÔ1 | AS38: 16/05/2019 | AT38: 2019 | AU38: 2019 | AV38: Cao đẳng | AW38: Chính quy 2 năm | AX38: Khoa Động lực | AY38: Công nghệ ô tô | AZ38: Công nghệ ô tô | BA38: Trường Cao đẳng Lý Tự Trọng TPHCM
A39: 34 | B39: 19000034 | C39: Nguyễn Lê Minh | D39: Kha | E39: Nam | F39: 30/08/2004 | G39: Tp. Hồ Chí Minh | H39: Nguyễn Ngọc Nhung | I39: Nhân viên | J39: 0903883390 | K39: Lê Thanh Như Thảo | L39: Nhân viên | M39: 0902717043 | N39: 19T4-TĐH1 | O39: Tp. Hồ Chí Minh | P39: Kinh | R39: C9/28 Đường Trịnh Như Khuê, Ấp 3, Xã Bình Chánh, Huyện Bình Chánh, Tp.HCM | S39: C9/28 Đường Trịnh Như Khuê, Ấp 3, Xã Bình Chánh, Huyện Bình Chánh, Tp.HCM | T39: 0903883390 | U39: 0902717043 | AJ39: KV2 | AM39: Tp. Hồ Chí Minh | AN39: Huyện Bình Chánh | AO39: 19T40389 | AP39: Đang học | AQ39: 1 | AR39: 19T4-TĐH1 | AS39: 17/05/2019 | AT39: 2019 | AU39: 2019 | AV39: Trung cấp | AW39: Chính quy 3 năm | AX39: Khoa Điện - Điện tử | AY39: Công nghệ kỹ thuật điều khiển tự động | AZ39: Công nghệ kỹ thuật điều khiển tự động | BA39: Trường Cao đẳng Lý Tự Trọng TPHCM
A40: 35 | B40: 19000035 | C40: Võ Thanh | D40: Hiếu | E40: Nam | F40: 28/06/2004 | G40: Tp. Hồ Chí Minh | N40: 19T4-ĐCN1 | O40: tphcm | P40: Kinh | Q40: Phật Giáo | R40: 21/35 TRẦN BÁ THƯỚC P7 PHÚ NHUẬN | S40: 21/35 TRẦN BÁ THƯỚC P7 PHÚ NHUẬN | T40: 0347740279 | Y40: 079204005924 | Z40: 07/09/2018 | AA40: C.a tphcm | AJ40: KV3 | AM40: Tp. Hồ Chí Minh | AN40: Quận Phú Nhuận | AO40: 19T40278 | AP40: Đang học | AQ40: 1 | AR40: 19T4-ĐCN1 | AS40: 17/05/2019 | AT40: 2019 | AU40: 2019 | AV40: Trung cấp | AW40: Chính quy 3 năm | AX40: Khoa Điện - Điện tử | AY40: Điện công nghiệp | AZ40: Điện công nghiệp | BA40: Trường Cao đẳng Lý Tự Trọng TPHCM
A41: 36 | B41: 19000036 | C41: Vũ Y | D41: Phụng | E41: Nữ | F41: 13/10/2003 | G41: Tp. Hồ Chí Minh | H41: Vũ Mạnh Chiến | I41: Tài xé | J41: 0984337079 | K41: Đặng Thị Ngoan | L41: Buôn bán | M41: 0904606811 | N41: 19T4-NNA1 | O41: Tp. Hồ Chí Minh | P41: Kinh | R41: 148 Nguyễn Thị Nhỏ, P.15, Q.11, TPHCM | S41: 148 Nguyễn Thị Nhỏ, P.15, Q.11, TPHCM | T41: 0904606811 | U41: 0984337079 | V41: 0904606811 | AJ41: KV3 | AM41: Tp. Hồ Chí Minh | AN41: Quận 11 | AO41: 19T40009 | AP41: Đang học | AQ41: 1 | AR41: 19T4-NNA1 | AS41: 17/05/2019 | AT41: 2019 | AU41: 2019 | AV41: Trung cấp | AW41: Chính quy 3 năm | AX41: Khoa Khoa học cơ bản | AY41: Tiếng Anh | AZ41: Tiếng Anh | BA41: Trường Cao đẳng Lý Tự Trọng TPHCM
A42: 37 | B42: 19000037 | C42: Ngô Khí | D42: Tài | E42: Nam | F42: 23/03/2000 | G42: Tp. Hồ Chí Minh | H42: Ngô Thanh Bình | I42: Tài Xé | J42: 0903764998 | K42: Bùi Thị Ngọc Minh | L42: Nội trợ | M42: 0908525940 | N42: 19C1-TKĐ1 | O42: Thừa Thiên Huế | P42: Kinh | Q42: Phật Giáo | R42: 108 L1, Đường Hồ Tùng Mậu, Phường Bến Nghé, Quận 1, Thành phố Hồ Chí Minh | S42: 182 Chiến Thắng, Phường 9, Quận Phú Nhuận | T42: 0704516860 | U42: 0903764998 | V42: 0908525940 | X42: ngkhitai@gmail.com | Y42: 025930280 | Z42: 23/07/2014 | AA42: TP. HCM | AB42: 14/04/2016 | AE42: THPT Trưng Vương | AJ42: KV3 | AM42: Tp. Hồ Chí Minh | AN42: Quận 1 | AO42: 19C10062 | AP42: Đang học | AQ42: 1 | AR42: 19C1-TKĐ1 | AS42: 17/05/2019 | AT42: 2019 | AU42: 2019 | AV42: Cao đẳng | AW42: Chính quy 2 năm | AX42: Khoa Công nghệ Thông tin | AY42: Thiết kế đồ họa | AZ42: Thiết kế đồ họa | BA42: Trường Cao đẳng Lý Tự Trọng TPHCM
A43: 38 | B43: 19000038 | C43: Trần Ngọc | D43: Tú | E43: Nam | F43: 06/12/1996 | G43: Tp. Hồ Chí Minh | H43: Trần Đình Đức | I43: Hưu Trí | J43: 0398504845 | N43: 19C1-CCK1 | O43: Tp. Hồ Chí Minh | P43: Kinh | R43: 4E , Khu phố 2, Phường Trung Mỹ Tây, Quận 12, TPHCM | S43: 4E , Khu phố 2, Phường Trung Mỹ Tây, Quận 12, TPHCM | T43: 0985991321 | U43: 0398504845 | Y43: 025596325 | Z43: 05/03/2012 | AA43: CA. TPHCM | AE43: THPT Trường Chinh | AJ43: KV3 | AM43: Tp. Hồ Chí Minh | AN43: Quận 12 | AO43: 19C10157 | AP43: Đang học | AQ43: 1 | AR43: 19C1-CCK1 | AS43: 18/05/2019 | AT43: 2019 | AU43: 2019 | AV43: Cao đẳng | AW43: Chính quy 2 năm | AX43: Khoa Cơ khí | AY43: Công nghệ kỹ thuật cơ khí | AZ43: Công nghệ kỹ thuật cơ khí | BA43: Trường Cao đẳng Lý Tự Trọng TPHCM
A44: 39 | B44: 19000039 | C44: Mai Quốc | D44: An | E44: Nam | F44: 26/07/2003 | G44: Tp. Hồ Chí Minh | H44: Mai Văn Thắng | I44: Nhân Viên | J44: 0903815737 | K44: Phạm Thị Tuyết Nhung | L44: Nhân viên | M44: 0973515892 | N44: 19T4-ANM1 | O44: Tp. Hồ Chí Minh | P44: Kinh | Q44: Không | R44: 225 Chung Cư Thanh Niên Bàu cát 2 p.14 | S44: 027 chung cư thanh niên đường bàu cát 2 phường 14 Quận Tân Bình | T44: 0973515892 | U44: 0903815737 | V44: 0973515892 | X44: huyanquoc123@gmail.com | Y44: 079203004897 | Z44: 22/06/2018 | AA44: công an thành phố hồ chí minh | AB44: 05/05/2019 | AM44: Tp. Hồ Chí Minh | AN44: Quận Tân Phú | AO44: 19T40155 | AP44: Đang học | AQ44: 1 | AR44: 19T4-ANM1 | AS44: 18/05/2019 | AT44: 2019 | AU44: 2019 | AV44: Trung cấp | AW44: Chính quy 3 năm | AX44: Khoa Công nghệ Thông tin | AY44: An ninh mạng | AZ44: An ninh mạng | BA44: Trường Cao đẳng Lý Tự Trọng TPHCM
...

Sheet MAUDANGKYBHXH (2)
A1: Tên đơn vị: TRƯỜNG CAO ĐẲNG LÝ TỰ TRỌNG THÀNH PHỐ HỒ CHÍ MINH
A2: Mã đơn vị: BD0240Z
A3: Địa chỉ: 390 Hoàng Văn Thụ,Phường 4,Quận Tân Bình, Thành Phố Hồ Chí Minh
A4: DANH SÁCH NGƯỜI CHỈ THAM GIA BẢO HIỂM Y TẾ
A5: Số : 3 tháng 12 năm 2018
B6: Đối tượng tham gia | F6: Lương cơ sở: ……………… đồng
A7: STT | B7: Họ và tên | C7: Mã số BHXH | D7: Ngày tháng năm sinh | E7: Giới tính | F7: Nơi đăng ký KCB ban đầu | G7: Biên lai, ngày tham gia | I7: Tiền lương, trợ cấp hoặc số tiền đóng | J7: Tỷ lệ NS hỗ trợ (%) | K7: Thời hạn sử dụng thẻ | M7: Ghi chú
G8: Số | H8: Ngày | K8: Số tháng | L8: Từ ngày | M8: Địa chỉ | N8: Số CMND | O8: Mã PB | P8: mã tỉnh KS | R8: mã huyện KS | T8: mã xã KS
A9: A | B9: B | C9: 1 | D9: 2 | E9: 3 | F9: 4 | G9: 5 | H9: 6 | I9: 7 | J9: 8 | K9: 9 | L9: 10 | M9: 11 | N9: 12 | O9: 13 | P9: 14 | R9: 15 | T9: 16

Sheet MAUDANGKYBHXH (T5)
A1: Tên đơn vị: TRƯỜNG CAO ĐẲNG LÝ TỰ TRỌNG THÀNH PHỐ HỒ CHÍ MINH
A2: Mã đơn vị: BD0240Z
A3: Địa chỉ: 390 Hoàng Văn Thụ,Phường 4,Quận Tân Bình, Thành Phố Hồ Chí Minh
A4: DANH SÁCH NGƯỜI CHỈ THAM GIA BẢO HIỂM Y TẾ
A5: Số : 3 tháng 12 năm 2018
B6: Đối tượng tham gia | G6: Lương cơ sở: ……………… đồng
A7: STT | B7: Mã số BHXH | D7: Họ và tên | F7: Giới tính | G7: Ngày tháng năm sinh | H7: Nơi đăng ký KCB ban đầu | I7: Biên lai, ngày tham gia | K7: Tiền lương, trợ cấp hoặc số tiền đóng | L7: Thời hạn sử dụng thẻ | S7: Địa chỉ | Z7: Số CMND | AB7: Mã PB | AD7: mã tỉnh KS | AE7: mã tỉnh KS | AF7: mã huyện KS | AG7: mã huyện KS | AH7: mã xã KS | AI7: mã xã KS | AJ7: HKTT số nhà
B8: cột này để làm MPB | I8: Số | J8: Ngày | L8: Số tháng | M8: Từ ngày
A9: A | B9: 1 | D9: B | E9: B | F9: 3 | G9: 2 | H9: 4 | I9: 5 | J9: 6 | K9: 7 | L9: 9(MABHXH Truy cap) | M9: 10 | S9: 11 | Z9: 12 | AB9: 13 | AD9: 14 | AE9: 14 | AF9: 15 | AG9: 15 | AH9: 16 | AI9: 16
A10: STT | B10: cột này để làm MPB | D10: Họ | E10: Tên | F10: Giới tính(SAU NGÀY SINH) | G10: Ngày sinh(TRƯỚC GIỚI TÍNH) | H10: Nơi sinh(NHẬP NĐKKCBBĐ) | I10: Họ tên cha(XÓA KHI HOÀN THÀNH DS) | J10: Nghề nghiệp cha(XÓA ) | K10: Số điện thoại cha(XÓA) | L10: Họ tên mẹ(XÓA KHI HOÀN THÀNH DANH SÁCH ) | M10: Nghề nghiệp mẹ(XÓA) | N10: SĐT (DÙNG KHI CẦN) | O10: Lớp( GIỮ LẠI LÀM mpb) | P10: Nguyên quán | Q10: Dân tộc | R10: Tôn giáo | S10: ĐC thường trú | T10: ĐC liên lạc | U10: ĐC thường trú(ĐÃ SỬA) | V10: ĐC thường trú(THÔN,ẤP,SỐ NHÀ) | W10: ĐC thường trú(PHƯỜNG, XÃ) | X10: ĐC thường trú(QUẬN , HUYỆN) | Y10: ĐC thường trú(TỈNH, THÀNH) | Z10: Số CMND | AA10: Ngày cấp | AB10: Nơi cấp | AC10: Ngày vào đoàn | AD10: Ngày vào đảng | AE10: HKTT tỉnh | AF10: Trường tốt nghiệp | AG10: HKTT huyện | AH10: HKTT phường xã | AI10: HKTT thôn xóm | AJ10: HKTT số nhà | AK10: Khu vực | AL10: Đối tượng | AM10: Đối tượng chính sách | AN10: Tỉnh | AO10: Huyện | AP10: Hồ sơ | AQ10: Trạng thái | AR10: Nhóm | AS10: Mã lớp | AT10: Ngày nhập học | AU10: Năm vào | AV10: Khóa học | AW10: Hệ đào tạo | AX10: Loại hình ĐT | AY10: Khoa | AZ10: Ngành | BA10: Nghề | BB10: Cơ sở
A11: 1 | B11: 19000001 | D11: Phan Phú | E11: Hào | F11: Nam | G11: 23/03/1997 | J11: =MID(H11,3,1) | K11: =MID(H11,4,2) | L11: =RIGHT(M11,10) | O11: 19C1-CNÔ1 | S11: 17/15a khu phố 6a p.tân thới nhất quận 12 tp. Hồ Chí Minh | T11: 17/15a khu phố 6a p.tân thới nhất quận 12 tp. Hồ Chí Minh | U11: 17/15A Khu Phố 6A ,P.Tân Thới Nhất, Quận 12, Tp. Hồ Chí Minh | V11: 17/15A Khu Phố 6A | W11: P.Tân Thới Nhất | X11: Quận 12 | Y11: Thành phố Hồ Chí Minh | AC11: 20/03/2014 | AD11: 79 | AE11: Thành phố Hồ Chí Minh | AF11: 761 | AG11: Quận 12 | AH11: 26791 | AI11: Phường Tân Thới Nhất | AK11: KV2 | AL11: Đối tượng 03 | AN11: Tp. Hồ Chí Minh | AO11: Quận 12 | AP11: 19C10211 | AQ11: Đang học | AR11: 1 | AS11: 19C1-CNÔ1 | AT11: 10/05/2019 | AU11: 2019 | AV11: 2019 | AW11: Cao đẳng | AX11: Chính quy 2 năm | AY11: Khoa Động lực | AZ11: Công nghệ ô tô | BA11: Công nghệ ô tô | BB11: Trường Cao đẳng Lý Tự Trọng TPHCM | BC11: 19000001
A12: 2 | B12: 19000002 | D12: Phùng Đức | E12: Dương | F12: Nam | G12: 17/10/2001 | H12: =VLOOKUP(B12,'ĐKKCBBĐ K2019'!$B$5:$C$414,2,0) -> GD4797936952403 | I12: =LEFT(H12,2) -> GD | J12: =MID(H12,3,1) -> 4 | K12: =MID(H12,4,2) -> 79 | M12: GD4797936952403 | O12: 19T4-KML1 | S12: Nghĩa Hương, Xã Mỹ Hương, Huyện Lương Tài, Tỉnh Bắc Ninh | T12: 5/25H tổ 14 ấp 2 xã Xuân Thới Thượng huyện Hóc Môn tp Hồ Chí Minh | U12: Nghĩa Hương, Xã Mỹ Hương, Huyện Lương Tài, Tỉnh Bắc Ninh | V12: Nghĩa Hương | W12: Xã Mỹ Hương | X12: Huyện Lương Tài | Y12: Tỉnh Bắc Ninh | AK12: KV3 | AN12: Bắc Ninh | AO12: Huyện Lương Tài | AP12: 19T40054 | AQ12: Đang học | AR12: 1 | AS12: 19T4-KML1 | AT12: 10/05/2019 | AU12: 2019 | AV12: 2019 | AW12: Trung cấp | AX12: Chính quy 3 năm | AY12: Khoa Nhiệt – Lạnh | AZ12: Kỹ thuật máy lạnh và điều hòa không khí | BA12: Kỹ thuật máy lạnh và điều hòa không khí | BB12: Trường Cao đẳng Lý Tự Trọng TPHCM | BC12: 19000002
A13: 3 | B13: 19000003 | D13: Lê Trọng | E13: Tiến | F13: Nam | G13: 15/03/2002 | H13: =VLOOKUP(B13,'ĐKKCBBĐ K2019'!$B$5:$C$414,2,0) -> HS4797935160094 | I13: =LEFT(H13,2) -> HS | J13: =MID(H13,3,1) -> 4 | K13: =MID(H13,4,2) -> 79 | M13: HS4797935160094 | O13: 19T4-CNÔ1 | S13: 24 Nguyễn Văn Tỷ, Khu phố 2, thị trấn Củ Chi, huyện Củ Chi, TPHCM | T13: 24 Nguyễn Văn Tỷ, Khu phố 2, thị trấn Củ Chi, huyện Củ Chi, TPHCM | U13: 24 Nguyễn Văn Tỷ Khu Phố 2, Thị Trấn Củ Chi, Huyện Củ Chi, Tphcm | V13: 24 Nguyễn Văn Tỷ Khu Phố 2 | W13: Thị Trấn Củ Chi | X13: Huyện Củ Chi | Y13: Thành phố Hồ Chí Minh | AD13: 79 | AE13: Thành phố Hồ Chí Minh | AF13: 783 | AG13: Huyện Củ Chi | AH13: 27496 | AI13: Thị trấn Củ Chi | AK13: KV2 | AN13: Tp. Hồ Chí Minh | AO13: Huyện Củ Chi | AP13: 19T40059 | AQ13: Đang học | AR13: 1 | AS13: 19T4-CNÔ1 | AT13: 10/05/2019 | AU13: 2019 | AV13: 2019 | AW13: Trung cấp | AX13: Chính quy 3 năm | AY13: Khoa Động lực | AZ13: Công nghệ ô tô | BA13: Công nghệ ô tô | BB13: Trường Cao đẳng Lý Tự Trọng TPHCM | BC13: 19000003
A14: 4 | B14: 19000004 | D14: Phạm Hữu | E14: Hoàng | F14: Nam | G14: 02/02/1993 | J14: =MID(H14,3,1) | K14: =MID(H14,4,2) | L14: =RIGHT(M14,10) | O14: 19C1-LGT1 | S14: Ấp 3 xã Phú Lộc, huyện Tân Phú, tỉnh Đồng Nai | T14: 122/54 Bùi Đình Túy, P12, Quận Bình Thạnh, Tp. HCM | U14: Ấp 3 ,Xã Phú Lộc, Huyện Tân Phú, Tỉnh Đồng Nai | V14: Ấp 3 | W14: Xã Phú Lộc | X14: Huyện Tân Phú | Y14: Tỉnh Đồng Nai | AC14: 13/12/2009 | AD14: 75 | AE14: Tỉnh Đồng Nai | AK14: KV1 | AN14: Đồng Nai | AO14: Huyện Tân Phú | AP14: 19C10008 | AQ14: Đang học | AR14: 1 | AS14: 19C1-LGT1 | AT14: 10/05/2019 | AU14: 2019 | AV14: 2019 | AW14: Cao đẳng | AX14: Chính quy 2 năm | AY14: Khoa Kinh tế | AZ14: Logistics | BA14: Logistics | BB14: Trường Cao đẳng Lý Tự Trọng TPHCM | BC14: 19000004
A15: 5 | B15: 19000005 | D15: Nguyễn Khắc Trung | E15: Kiên | F15: Nam | G15: 10/12/1997 | J15: =MID(H15,3,1) | K15: =MID(H15,4,2) | L15: =RIGHT(M15,10) | O15: 19C1-ĐCN1 | S15: Xã Vũ Công, Huyện Kiến Xương, Tỉnh Thái Bình | T15: 257/38/9 đường bình thành, phường bình hưng hoà B, Quận Bình Tân | U15: ,Xã Vũ Công, Huyện Kiến Xương, Tỉnh Thái Bình | W15: Xã Vũ Công | X15: Huyện Kiến Xương | Y15: Tỉnh Thái Bình | AC15: 26/03/2016 | AK15: KV3 | AN15: Thái Bình | AO15: Huyện Kiến Xương | AP15: 19C10116 | AQ15: Đang học | AR15: 1 | AS15: 19C1-ĐCN1 | AT15: 10/05/2019 | AU15: 2019 | AV15: 2019 | AW15: Cao đẳng | AX15: Chính quy 2 năm | AY15: Khoa Điện - Điện tử | AZ15: Điện công nghiệp | BA15: Điện công nghiệp | BB15: Trường Cao đẳng Lý Tự Trọng TPHCM | BC15: 19000005
A16: 6 | B16: 19000006 | D16: Trần Minh | E16: Quang | F16: Nam | G16: 17/06/1999 | J16: =MID(H16,3,1) | K16: =MID(H16,4,2) | L16: =RIGHT(M16,10) | O16: 19C1-CNÔ1 | S16: Ấp 2, Vĩnh Bình, Vĩnh Hưng, Long An | T16: 142/18 Cộng Hòa, Phường 4, Quận Tân Bình, Tp.HCM | U16: Ấp 2, Vĩnh Bình, Vĩnh Hưng, Long An | V16: Ấp 2 | W16: Vĩnh Bình | X16: Vĩnh Hưng | Y16: Long An | AK16: KV2-NT | AN16: Long An | AO16: Huyện Vĩnh Hưng | AP16: 19C10090 | AQ16: Đang học | AR16: 1 | AS16: 19C1-CNÔ1 | AT16: 11/05/2019 | AU16: 2019 | AV16: 2019 | AW16: Cao đẳng | AX16: Chính quy 2 năm | AY16: Khoa Động lực | AZ16: Công nghệ ô tô | BA16: Công nghệ ô tô | BB16: Trường Cao đẳng Lý Tự Trọng TPHCM | BC16: 19000006
A17: 7 | B17: 19000007 | D17: Lê Minh | E17: Sang | F17: Nam | G17: 28/01/1995 | J17: =MID(H17,3,1) | K17: =MID(H17,4,2) | L17: =RIGHT(M17,10) -> 8222267122 | M17: 8222267122 | O17: 19C1-TĐH1 | S17: Số 204, tổ 6, ấp 3, xã An Thái Trung, huyện Cái bè, tỉnh Tiền Giang | T17: Số 204, tổ 6, ấp 3, xã An Thái Trung, huyện Cái bè, tỉnh Tiền Giang | U17: Số 204 Tổ 6 Ấp 3, Xã An Thái Trung, Huyện Cái Bè, Tỉnh Tiền Giang | V17: Số 204 Tổ 6 Ấp 3 | W17: Xã An Thái Trung | X17: Huyện Cái Bè | Y17: Tỉnh Tiền Giang | AK17: KV2-NT | AL17: Đối tượng 03 | AN17: Tiền Giang | AO17: Huyện Cái Bè | AP17: 19C10159 | AQ17: Đang học | AR17: 1 | AS17: 19C1-TĐH1 | AT17: 11/05/2019 | AU17: 2019 | AV17: 2019 | AW17: Cao đẳng | AX17: Chính quy 2 năm | AY17: Khoa Điện - Điện tử | AZ17: Công nghệ kỹ thuật điều khiển và tự động hóa | BA17: Công nghệ kỹ thuật điều khiển và tự động hóa | BB17: Trường Cao đẳng Lý Tự Trọng TPHCM | BC17: 19000007
A18: 8 | B18: 19000008 | D18: Võ Trung | E18: Khang | F18: Nam | G18: 17/04/2004 | J18: =MID(H18,3,1) | K18: =MID(H18,4,2) | L18: =RIGHT(M18,10) | O18: 19T4-VSL1 | S18: 787/72 Trường Chinh p.Tây Thạnh Q.tân Phú | T18: 787/72 Trường Chinh p.Tây Thạnh Q.tân Phú | U18: 787/72 Trường Chinh, P.Tây Thạnh, Q.Tân Phú,HCM | V18: 787/72 Trường Chinh | W18: P.Tây Thạnh | X18: Q.Tân Phú | Y18: Thành phố Hồ Chí Minh | AD18: 79 | AE18: Thành phố Hồ Chí Minh | AF18: 767 | AG18: Quận Tân Phú | AH18: 27013 | AI18: Phường Tây Thạnh | AK18: KV3 | AN18: Tp. Hồ Chí Minh | AO18: Quận Tân Phú | AP18: 19T40276 | AQ18: Đang học | AR18: 1 | AS18: 19T4-VSL1 | AT18: 13/05/2019 | AU18: 2019 | AV18: 2019 | AW18: Trung cấp | AX18: Chính quy 3 năm | AY18: Khoa Nhiệt – Lạnh | AZ18: Vận hành, sửa chữa thiết bị lạnh | BA18: Vận hành, sửa chữa thiết bị lạnh | BB18: Trường Cao đẳng Lý Tự Trọng TPHCM | BC18: 19000008
A19: 9 | B19: 19000009 | D19: Nguyễn Lê | E19: Hoàng | F19: Nam | G19: 13/08/2003 | J19: =MID(H19,3,1) | K19: =MID(H19,4,2) | L19: =RIGHT(M19,10) -> 7934223996 | M19: 7934223996 | O19: 19T4-CNÔ1 | S19: E3/21c3 - Ấp 5A - Xã Vĩnh Lộc A - Huyện Bình Chánh HCM | T19: E3/21c3 - Ấp 5A - Xã Vĩnh Lộc A - Huyện Bình Chánh HCM | U19: E3/21C3 Ấp 5A ,Xã Vĩnh Lộc A , Huyện Bình Chánh, Hcm | V19: E3/21C3 Ấp 5A | W19: Xã Vĩnh Lộc A | X19: Huyện Bình Chánh | Y19: Thành phố Hồ Chí Minh | AD19: 79 | AE19: Thành phố Hồ Chí Minh | AF19: 785 | AG19: Huyện Bình Chánh | AH19: 27601 | AI19: Xã Vĩnh Lộc A | AK19: KV3 | AN19: Tp. Hồ Chí Minh | AO19: Huyện Bình Chánh | AP19: 19T40157 | AQ19: Đang học | AR19: 1 | AS19: 19T4-CNÔ1 | AT19: 13/05/2019 | AU19: 2019 | AV19: 2019 | AW19: Trung cấp | AX19: Chính quy 3 năm | AY19: Khoa Động lực | AZ19: Công nghệ ô tô | BA19: Công nghệ ô tô | BB19: Trường Cao đẳng Lý Tự Trọng TPHCM | BC19: 19000009
A20: 10 | B20: 19000010 | D20: Trần Cao | E20: Long | F20: Nam | G20: 20/11/2004 | J20: =MID(H20,3,1) | K20: =MID(H20,4,2) | L20: =RIGHT(M20,10) | O20: 19T4-CNÔ1 | S20: 507/39 Hương Lộ 3 Phường Bình Hưng Hòa Q.bình tân | U20: 507/39 Hương Lộ 3 ,Phường Bình Hưng Hòa, Q.Bình Tân,HCM | V20: 507/39 Hương Lộ 3 | W20: Phường Bình Hưng Hòa | X20: Q.Bình Tân | Y20: Thành phố Hồ Chí Minh | AD20: 79 | AE20: Thành phố Hồ Chí Minh | AF20: 777 | AG20: Quận Bình Tân | AH20: 27436 | AI20: Phường Bình Hưng Hòa | AK20: KV3 | AN20: Tp. Hồ Chí Minh | AO20: Quận Bình Tân | AP20: 19T40117 | AQ20: Đang học | AR20: 1 | AS20: 19T4-CNÔ1 | AT20: 13/05/2019 | AU20: 2019 | AV20: 2019 | AW20: Trung cấp | AX20: Chính quy 3 năm | AY20: Khoa Động lực | AZ20: Công nghệ ô tô | BA20: Công nghệ ô tô | BB20: Trường Cao đẳng Lý Tự Trọng TPHCM | BC20: 19000010
A21: 11 | B21: 19000011 | D21: Huỳnh Nhựt | E21: Thành | F21: Nam | G21: 08/01/2003 | H21: =VLOOKUP(B21,'ĐKKCBBĐ K2019'!$B$5:$C$414,2,0) -> HS4797934005910 | I21: =LEFT(H21,2) -> HS | J21: =MID(H21,3,1) -> 4 | K21: =MID(H21,4,2) -> 79 | M21: HS4797934005910 | O21: 19T4-CNÔ1 | S21: 139/26/13 Chiến Lược, P. Bình Trị Đông, Q. Bình Tân, TPHCM | T21: 139/26/13 Chiến Lược, P. Bình Trị Đông, Q. Bình Tân, TPHCM | U21: 139/26/13 Chiến Lược, P. Bình Trị Đông, Q. Bình Tân, Tphcm | V21: 139/26/13 Chiến Lược | W21: P. Bình Trị Đông | X21: Q. Bình Tân | Y21: Thành phố Hồ Chí Minh | AD21: 79 | AE21: Thành phố Hồ Chí Minh | AF21: 777 | AG21: Quận Bình Tân | AH21: 27445 | AI21: Phường Bình Trị Đông | AK21: KV3 | AN21: Tp. Hồ Chí Minh | AO21: Quận Bình Tân | AP21: 19T40039 | AQ21: Đang học | AR21: 1 | AS21: 19T4-CNÔ1 | AT21: 13/05/2019 | AU21: 2019 | AV21: 2019 | AW21: Trung cấp | AX21: Chính quy 3 năm | AY21: Khoa Động lực | AZ21: Công nghệ ô tô | BA21: Công nghệ ô tô | BB21: Trường Cao đẳng Lý Tự Trọng TPHCM | BC21: 19000011
